BEGIN:VCALENDAR
VERSION:2.0
PRODID:-// - ECPv6.15.20//NONSGML v1.0//EN
CALSCALE:GREGORIAN
METHOD:PUBLISH
X-ORIGINAL-URL:https://friesva.com
X-WR-CALDESC:Events for 
REFRESH-INTERVAL;VALUE=DURATION:PT1H
X-Robots-Tag:noindex
X-PUBLISHED-TTL:PT1H
BEGIN:VTIMEZONE
TZID:America/New_York
BEGIN:DAYLIGHT
TZOFFSETFROM:-0500
TZOFFSETTO:-0400
TZNAME:EDT
DTSTART:20240310T070000
END:DAYLIGHT
BEGIN:STANDARD
TZOFFSETFROM:-0400
TZOFFSETTO:-0500
TZNAME:EST
DTSTART:20241103T060000
END:STANDARD
BEGIN:DAYLIGHT
TZOFFSETFROM:-0500
TZOFFSETTO:-0400
TZNAME:EDT
DTSTART:20250309T070000
END:DAYLIGHT
BEGIN:STANDARD
TZOFFSETFROM:-0400
TZOFFSETTO:-0500
TZNAME:EST
DTSTART:20251102T060000
END:STANDARD
BEGIN:DAYLIGHT
TZOFFSETFROM:-0500
TZOFFSETTO:-0400
TZNAME:EDT
DTSTART:20260308T070000
END:DAYLIGHT
BEGIN:STANDARD
TZOFFSETFROM:-0400
TZOFFSETTO:-0500
TZNAME:EST
DTSTART:20261101T060000
END:STANDARD
END:VTIMEZONE
BEGIN:VEVENT
DTSTART;TZID=America/New_York:20251018T100000
DTEND;TZID=America/New_York:20251018T120000
DTSTAMP:20260424T071705
CREATED:20251008T110652Z
LAST-MODIFIED:20251008T110830Z
UID:10001186-1760781600-1760788800@friesva.com
SUMMARY:Nature Walk and Photo Clinic
DESCRIPTION:Fries Tourism is partnering with the New River Wildlife and Conservation Club to bring you the Fall Nature Walk and Photo Clinic. Join Virginia Master Naturalist Ashely DeCarme and local photographer and videographer Kevin Combs as we explore the diverse grounds of the New River Wildlife and Conservation Club. Event is free. Bring your smartphone or your camera. All skill levels are welcomed. \n  \n 
URL:https://friesva.com/event/nature-walk-and-photo-clinic-2/
LOCATION:New River Wildlife and Conservation Club\, 7107 Riverside Drive\, Fries\, VA\, 24330\, United States
CATEGORIES:Clinic,Nature walk,workshop
ATTACH;FMTTYPE=image/jpeg:https://friesva.com/wp-content/uploads/2025/10/FALL-2025-nature-walk-1.jpg
END:VEVENT
END:VCALENDAR