BEGIN:VCALENDAR
VERSION:2.0
PRODID:-// - ECPv6.15.20//NONSGML v1.0//EN
CALSCALE:GREGORIAN
METHOD:PUBLISH
X-ORIGINAL-URL:https://friesva.com
X-WR-CALDESC:Events for 
REFRESH-INTERVAL;VALUE=DURATION:PT1H
X-Robots-Tag:noindex
X-PUBLISHED-TTL:PT1H
BEGIN:VTIMEZONE
TZID:America/New_York
BEGIN:DAYLIGHT
TZOFFSETFROM:-0500
TZOFFSETTO:-0400
TZNAME:EDT
DTSTART:20240310T070000
END:DAYLIGHT
BEGIN:STANDARD
TZOFFSETFROM:-0400
TZOFFSETTO:-0500
TZNAME:EST
DTSTART:20241103T060000
END:STANDARD
BEGIN:DAYLIGHT
TZOFFSETFROM:-0500
TZOFFSETTO:-0400
TZNAME:EDT
DTSTART:20250309T070000
END:DAYLIGHT
BEGIN:STANDARD
TZOFFSETFROM:-0400
TZOFFSETTO:-0500
TZNAME:EST
DTSTART:20251102T060000
END:STANDARD
BEGIN:DAYLIGHT
TZOFFSETFROM:-0500
TZOFFSETTO:-0400
TZNAME:EDT
DTSTART:20260308T070000
END:DAYLIGHT
BEGIN:STANDARD
TZOFFSETFROM:-0400
TZOFFSETTO:-0500
TZNAME:EST
DTSTART:20261101T060000
END:STANDARD
END:VTIMEZONE
BEGIN:VEVENT
DTSTART;TZID=America/New_York:20250502T190000
DTEND;TZID=America/New_York:20250502T210000
DTSTAMP:20260424T151401
CREATED:20250327T105137Z
LAST-MODIFIED:20250327T105137Z
UID:10000852-1746212400-1746219600@friesva.com
SUMMARY:Honky Tonk Friday with the Rise and Shine Band at The Historic Fries Theatre
DESCRIPTION:Rise and Shine Band\nDon’t miss this chance to see these 5 talented musicians at The Historic Fries Theatre. The Rise and Shine Band plays a unique mix of old country\, old-time and bluegrass music. You’ll find your toes a tapping and if you’re not careful\, you’ll be up and dancing in no time. Flatfoot\, line dance\, two-step\, or just soaking it in.
URL:https://friesva.com/event/honky-tonk-friday-with-the-rise-and-shine-band-at-the-historic-fries-theatre/
LOCATION:The Historic Fries Theatre\, 316 W. Main Street\, Fries\, Virginia\, 24330
CATEGORIES:Concerts
ATTACH;FMTTYPE=image/png:https://friesva.com/wp-content/uploads/2025/03/2023-10-24-Rise-n-Shine_7441.png
ORGANIZER;CN="The Historic Fries Theatre":MAILTO:theatre@friesva.com
END:VEVENT
END:VCALENDAR