BEGIN:VCALENDAR
VERSION:2.0
PRODID:-// - ECPv6.15.20//NONSGML v1.0//EN
CALSCALE:GREGORIAN
METHOD:PUBLISH
X-ORIGINAL-URL:https://friesva.com
X-WR-CALDESC:Events for 
REFRESH-INTERVAL;VALUE=DURATION:PT1H
X-Robots-Tag:noindex
X-PUBLISHED-TTL:PT1H
BEGIN:VTIMEZONE
TZID:America/New_York
BEGIN:DAYLIGHT
TZOFFSETFROM:-0500
TZOFFSETTO:-0400
TZNAME:EDT
DTSTART:20230312T070000
END:DAYLIGHT
BEGIN:STANDARD
TZOFFSETFROM:-0400
TZOFFSETTO:-0500
TZNAME:EST
DTSTART:20231105T060000
END:STANDARD
BEGIN:DAYLIGHT
TZOFFSETFROM:-0500
TZOFFSETTO:-0400
TZNAME:EDT
DTSTART:20240310T070000
END:DAYLIGHT
BEGIN:STANDARD
TZOFFSETFROM:-0400
TZOFFSETTO:-0500
TZNAME:EST
DTSTART:20241103T060000
END:STANDARD
BEGIN:DAYLIGHT
TZOFFSETFROM:-0500
TZOFFSETTO:-0400
TZNAME:EDT
DTSTART:20250309T070000
END:DAYLIGHT
BEGIN:STANDARD
TZOFFSETFROM:-0400
TZOFFSETTO:-0500
TZNAME:EST
DTSTART:20251102T060000
END:STANDARD
END:VTIMEZONE
BEGIN:VEVENT
DTSTART;TZID=America/New_York:20241001T190000
DTEND;TZID=America/New_York:20241001T200000
DTSTAMP:20260424T203537
CREATED:20231011T140322Z
LAST-MODIFIED:20241127T101937Z
UID:10000748-1727809200-1727812800@friesva.com
SUMMARY:Town Council Monthly Meeting
DESCRIPTION:The Fries Town Council meets the first Tuesday of every month at 7 p.m.at The Historic Fries Theatre.  The meeting is open to the public.
URL:https://friesva.com/event/town-council-monthly-meeting-3-2/2024-10-01/
LOCATION:Fries Community Center\, 316 W. Main Street\, Fries\, Virginia\, 24330
ORGANIZER;CN="Town of Fries":MAILTO:townoffries@friesva.com
END:VEVENT
BEGIN:VEVENT
DTSTART;TZID=America/New_York:20241001T190000
DTEND;TZID=America/New_York:20241001T200000
DTSTAMP:20260424T203537
CREATED:20241001T160755Z
LAST-MODIFIED:20241001T160755Z
UID:10000692-1727809200-1727812800@friesva.com
SUMMARY:Town council meeting postponed
DESCRIPTION:The Town Council meeting originally scheduled for 10/1/24 has been postponed to October 8\, 2024 at 7 p.m.
URL:https://friesva.com/event/town-council-meeting-postponed/
LOCATION:Fries Community Center\, 316 W. Main Street\, Fries\, Virginia\, 24330
END:VEVENT
BEGIN:VEVENT
DTSTART;TZID=America/New_York:20241003T173000
DTEND;TZID=America/New_York:20241003T183000
DTSTAMP:20260424T203537
CREATED:20240327T122351Z
LAST-MODIFIED:20241002T212550Z
UID:10000542-1727976600-1727980200@friesva.com
SUMMARY:Cancelled: Bike Meet-Up "Ride-the-Rails: Fries to Fries Junction"
DESCRIPTION:This event\, and all New River Trail State Park events – cancelled due to Hurricane Helene until further notice.
URL:https://friesva.com/event/bike-meet-up-ride-the-rails-fries-to-fries-junction/
LOCATION:New River Trail Fries Access\, 323 Firehouse Drive\, Fries\, Virginia\, 24330
ATTACH;FMTTYPE=image/jpeg:https://friesva.com/wp-content/uploads/2024/03/2016-09-17-Fries_1195.jpg
END:VEVENT
BEGIN:VEVENT
DTSTART;TZID=America/New_York:20241003T190000
DTEND;TZID=America/New_York:20241003T210000
DTSTAMP:20260424T203537
CREATED:20240602T113913Z
LAST-MODIFIED:20240704T091344Z
UID:10000659-1727982000-1727989200@friesva.com
SUMMARY:Thursday Night Jam Session
DESCRIPTION:Folks from all over the world find their way to the historic Fries Theatre for the weekly Thursday night jams. All visitors are welcome to mingle with the local residents who gather for a relaxing evening of old-time music and fellowship. The Fries jams are an affiliated venue on the famous Crooked Road – Virginia’s Heritage Music Trail. \n  \nBring a banjo\, dulcimer\, guitar\, fiddle\, or bass\, and join in the music circle. And there’s dancing all evening. If you don’t know the traditional two-step waltz\, just ask and someone will help. The jams are for all ages. \n  \nDoors open every Thursday at 6 p.m. and the music runs from 7 – 9 p.m. During a break\, around 8 p.m.\, there’s a real cake walk and the winner in this jolly tradition takes home a cake or other baked treat. \n  \nThe jams are free\, but donations are gratefully accepted. Refreshments are available. \n  \nDuring summer months there are occasional Friday night dances scheduled\, featuring the best local bands. 
URL:https://friesva.com/event/thursday-night-jam-session-4/2024-10-03/
LOCATION:The Historic Fries Theatre\, 316 W. Main Street\, Fries\, Virginia\, 24330
ATTACH;FMTTYPE=image/jpeg:https://friesva.com/wp-content/uploads/2022/07/2021-11-18-Fries-Jam_9809.jpg
END:VEVENT
BEGIN:VEVENT
DTSTART;TZID=America/New_York:20241003T190000
DTEND;TZID=America/New_York:20241003T210000
DTSTAMP:20260424T203537
CREATED:20241002T213501Z
LAST-MODIFIED:20241002T213501Z
UID:10000694-1727982000-1727989200@friesva.com
SUMMARY:The Thursday Night Jam is ON.
DESCRIPTION:The Thursday Night Jam\, AKA The Jam at the Dam\, is on for Thursday\, October 3. Concessions are free. Come if you can safely make it to the theatre. Doors open by 5:30 p.m.
URL:https://friesva.com/event/the-thursday-night-jam-is-on/
LOCATION:The Historic Fries Theatre\, 316 W. Main Street\, Fries\, Virginia\, 24330
ORGANIZER;CN="The Historic Fries Theatre":MAILTO:theatre@friesva.com
END:VEVENT
BEGIN:VEVENT
DTSTART;TZID=America/New_York:20241004T190000
DTEND;TZID=America/New_York:20241004T210000
DTSTAMP:20260424T203537
CREATED:20240324T104325Z
LAST-MODIFIED:20241002T212859Z
UID:10000526-1728068400-1728075600@friesva.com
SUMMARY:Gap Civil at The Depot
DESCRIPTION:THIS EVENT IS POSTPONED AND WILL BE RESCHEDULED AT A FUTURE DATE. \n  \nGroup photo of members of Gap Civil old-time band\nThis concert sponsored by The Crooked Road: Virginia’s Musical Heritage Trail \n \n  \n \nGap Civil brings their old-time music to The Depot. Admission $5 per person. Bring your own lawn chair.
URL:https://friesva.com/event/gap-civil-at-the-depot/
LOCATION:The Depot\, 510 Riverview Avenue\, Fries\, Virginia\, 24330
ATTACH;FMTTYPE=image/jpeg:https://friesva.com/wp-content/uploads/2024/03/Gap-Civil-in-street.jpeg
ORGANIZER;CN="Town of Fries":MAILTO:townoffries@friesva.com
END:VEVENT
BEGIN:VEVENT
DTSTART;TZID=America/New_York:20241005T090000
DTEND;TZID=America/New_York:20241005T140000
DTSTAMP:20260424T203537
CREATED:20240903T213102Z
LAST-MODIFIED:20241008T094820Z
UID:10000680-1728118800-1728136800@friesva.com
SUMMARY:Fall Festival and 5K
DESCRIPTION:NOTICE: FALL FESTIVAL HAS BEEN MOVED TO PROVIDENCE SCHOOL. THE 5K IS NOW A ‘VIRTUAL” 5K. SEE COMMUNITY CENTER FACEBOOK PAGE FOR MORE DETAILS. \nThe day will begin with a 5K Run & Walk along the new river trail at 9:00am. Festival will be in the Fries park. Entrance to the festival is FREE. We have some great music lined up on the stage at the park throughout the day including: The New Ballards Branch Bogtrotters\, The Hooligans\, Phillip & Elizabeth Vaughan and Nicole Linkous & Chris Smith. We will have bouncy houses and barrel train rides for FREE. While supplies last kids get a free pumpkin to paint. Various vendors will be set up from 9-2 including Grounded Coffee\, Boutique clothing\, Scentsy\, The Cookie Co.\, Southern Wick Candle Co.\, Pampered Chef\, Mary Kay\, Trish’s Earring Bling\, and many others selling homemade items. We have a vendor who will have pony rides for $5 and face painting. If you would like to set up as a vendor please contact 276-233-1876 https://runsignup.com/…/FriesCommunityCenter5KRiverRunWalk? \n 
URL:https://friesva.com/event/fall-festival-and-5k/
LOCATION:Fries Town Park\, Fries\, Virginia\, 24330
ATTACH;FMTTYPE=image/jpeg:https://friesva.com/wp-content/uploads/2024/09/453096089_7214208785277969_3344092899670808827_n.jpg
END:VEVENT
BEGIN:VEVENT
DTSTART;TZID=America/New_York:20241006T150000
DTEND;TZID=America/New_York:20241006T160000
DTSTAMP:20260424T203537
CREATED:20240110T005742Z
LAST-MODIFIED:20240110T005742Z
UID:10000507-1728226800-1728230400@friesva.com
SUMMARY:Fire Prevention Parade
DESCRIPTION:Fire Prevention Parade. Refreshments to follow at the Firehouse.
URL:https://friesva.com/event/fire-prevention-parade-2/
ATTACH;FMTTYPE=image/jpeg:https://friesva.com/wp-content/uploads/2023/02/2022-12-03-Christmas-Parade_2416-scaled.jpg
END:VEVENT
BEGIN:VEVENT
DTSTART;TZID=America/New_York:20241008T190000
DTEND;TZID=America/New_York:20241008T210000
DTSTAMP:20260424T203537
CREATED:20241001T161145Z
LAST-MODIFIED:20241001T161145Z
UID:10000693-1728414000-1728421200@friesva.com
SUMMARY:Town council monthly meeting
DESCRIPTION:The October monthly meeting of Fries Town Council will be held on 10/8/24 at the Community Center dining room at 7 p.m.
URL:https://friesva.com/event/town-council-monthly-meeting-4/
LOCATION:Fries Community Center\, 316 W. Main Street\, Fries\, Virginia\, 24330
ORGANIZER;CN="Town of Fries":MAILTO:townoffries@friesva.com
END:VEVENT
BEGIN:VEVENT
DTSTART;TZID=America/New_York:20241010T190000
DTEND;TZID=America/New_York:20241010T210000
DTSTAMP:20260424T203537
CREATED:20240602T113913Z
LAST-MODIFIED:20240704T091344Z
UID:10000660-1728586800-1728594000@friesva.com
SUMMARY:Thursday Night Jam Session
DESCRIPTION:Folks from all over the world find their way to the historic Fries Theatre for the weekly Thursday night jams. All visitors are welcome to mingle with the local residents who gather for a relaxing evening of old-time music and fellowship. The Fries jams are an affiliated venue on the famous Crooked Road – Virginia’s Heritage Music Trail. \n  \nBring a banjo\, dulcimer\, guitar\, fiddle\, or bass\, and join in the music circle. And there’s dancing all evening. If you don’t know the traditional two-step waltz\, just ask and someone will help. The jams are for all ages. \n  \nDoors open every Thursday at 6 p.m. and the music runs from 7 – 9 p.m. During a break\, around 8 p.m.\, there’s a real cake walk and the winner in this jolly tradition takes home a cake or other baked treat. \n  \nThe jams are free\, but donations are gratefully accepted. Refreshments are available. \n  \nDuring summer months there are occasional Friday night dances scheduled\, featuring the best local bands. 
URL:https://friesva.com/event/thursday-night-jam-session-4/2024-10-10/
LOCATION:The Historic Fries Theatre\, 316 W. Main Street\, Fries\, Virginia\, 24330
ATTACH;FMTTYPE=image/jpeg:https://friesva.com/wp-content/uploads/2022/07/2021-11-18-Fries-Jam_9809.jpg
END:VEVENT
BEGIN:VEVENT
DTSTART;TZID=America/New_York:20241012T090000
DTEND;TZID=America/New_York:20241012T150000
DTSTAMP:20260424T203537
CREATED:20241010T165826Z
LAST-MODIFIED:20241010T165826Z
UID:10000747-1728723600-1728745200@friesva.com
SUMMARY:Lions Club yard sale
DESCRIPTION:Fries Lions Club will have a yard sale at The Depot and will sell brooms as well \n9 a.m. – 3p.m. \n 
URL:https://friesva.com/event/lions-club-yard-sale/
LOCATION:The Depot\, 510 Riverview Avenue\, Fries\, Virginia\, 24330
ATTACH;FMTTYPE=image/png:https://friesva.com/wp-content/uploads/2024/10/Lions_Clubs_International_logo.svg_.png
END:VEVENT
BEGIN:VEVENT
DTSTART;TZID=America/New_York:20241017T190000
DTEND;TZID=America/New_York:20241017T210000
DTSTAMP:20260424T203537
CREATED:20240602T113913Z
LAST-MODIFIED:20240704T091344Z
UID:10000661-1729191600-1729198800@friesva.com
SUMMARY:Thursday Night Jam Session
DESCRIPTION:Folks from all over the world find their way to the historic Fries Theatre for the weekly Thursday night jams. All visitors are welcome to mingle with the local residents who gather for a relaxing evening of old-time music and fellowship. The Fries jams are an affiliated venue on the famous Crooked Road – Virginia’s Heritage Music Trail. \n  \nBring a banjo\, dulcimer\, guitar\, fiddle\, or bass\, and join in the music circle. And there’s dancing all evening. If you don’t know the traditional two-step waltz\, just ask and someone will help. The jams are for all ages. \n  \nDoors open every Thursday at 6 p.m. and the music runs from 7 – 9 p.m. During a break\, around 8 p.m.\, there’s a real cake walk and the winner in this jolly tradition takes home a cake or other baked treat. \n  \nThe jams are free\, but donations are gratefully accepted. Refreshments are available. \n  \nDuring summer months there are occasional Friday night dances scheduled\, featuring the best local bands. 
URL:https://friesva.com/event/thursday-night-jam-session-4/2024-10-17/
LOCATION:The Historic Fries Theatre\, 316 W. Main Street\, Fries\, Virginia\, 24330
ATTACH;FMTTYPE=image/jpeg:https://friesva.com/wp-content/uploads/2022/07/2021-11-18-Fries-Jam_9809.jpg
END:VEVENT
BEGIN:VEVENT
DTSTART;TZID=America/New_York:20241024T190000
DTEND;TZID=America/New_York:20241024T210000
DTSTAMP:20260424T203537
CREATED:20240602T113913Z
LAST-MODIFIED:20240704T091344Z
UID:10000662-1729796400-1729803600@friesva.com
SUMMARY:Thursday Night Jam Session
DESCRIPTION:Folks from all over the world find their way to the historic Fries Theatre for the weekly Thursday night jams. All visitors are welcome to mingle with the local residents who gather for a relaxing evening of old-time music and fellowship. The Fries jams are an affiliated venue on the famous Crooked Road – Virginia’s Heritage Music Trail. \n  \nBring a banjo\, dulcimer\, guitar\, fiddle\, or bass\, and join in the music circle. And there’s dancing all evening. If you don’t know the traditional two-step waltz\, just ask and someone will help. The jams are for all ages. \n  \nDoors open every Thursday at 6 p.m. and the music runs from 7 – 9 p.m. During a break\, around 8 p.m.\, there’s a real cake walk and the winner in this jolly tradition takes home a cake or other baked treat. \n  \nThe jams are free\, but donations are gratefully accepted. Refreshments are available. \n  \nDuring summer months there are occasional Friday night dances scheduled\, featuring the best local bands. 
URL:https://friesva.com/event/thursday-night-jam-session-4/2024-10-24/
LOCATION:The Historic Fries Theatre\, 316 W. Main Street\, Fries\, Virginia\, 24330
ATTACH;FMTTYPE=image/jpeg:https://friesva.com/wp-content/uploads/2022/07/2021-11-18-Fries-Jam_9809.jpg
END:VEVENT
BEGIN:VEVENT
DTSTART;TZID=America/New_York:20241031T190000
DTEND;TZID=America/New_York:20241031T210000
DTSTAMP:20260424T203537
CREATED:20240602T113913Z
LAST-MODIFIED:20240704T091344Z
UID:10000663-1730401200-1730408400@friesva.com
SUMMARY:Thursday Night Jam Session
DESCRIPTION:Folks from all over the world find their way to the historic Fries Theatre for the weekly Thursday night jams. All visitors are welcome to mingle with the local residents who gather for a relaxing evening of old-time music and fellowship. The Fries jams are an affiliated venue on the famous Crooked Road – Virginia’s Heritage Music Trail. \n  \nBring a banjo\, dulcimer\, guitar\, fiddle\, or bass\, and join in the music circle. And there’s dancing all evening. If you don’t know the traditional two-step waltz\, just ask and someone will help. The jams are for all ages. \n  \nDoors open every Thursday at 6 p.m. and the music runs from 7 – 9 p.m. During a break\, around 8 p.m.\, there’s a real cake walk and the winner in this jolly tradition takes home a cake or other baked treat. \n  \nThe jams are free\, but donations are gratefully accepted. Refreshments are available. \n  \nDuring summer months there are occasional Friday night dances scheduled\, featuring the best local bands. 
URL:https://friesva.com/event/thursday-night-jam-session-4/2024-10-31/
LOCATION:The Historic Fries Theatre\, 316 W. Main Street\, Fries\, Virginia\, 24330
ATTACH;FMTTYPE=image/jpeg:https://friesva.com/wp-content/uploads/2022/07/2021-11-18-Fries-Jam_9809.jpg
END:VEVENT
END:VCALENDAR