BEGIN:VCALENDAR
VERSION:2.0
PRODID:-// - ECPv6.15.20//NONSGML v1.0//EN
CALSCALE:GREGORIAN
METHOD:PUBLISH
X-ORIGINAL-URL:https://friesva.com
X-WR-CALDESC:Events for 
REFRESH-INTERVAL;VALUE=DURATION:PT1H
X-Robots-Tag:noindex
X-PUBLISHED-TTL:PT1H
BEGIN:VTIMEZONE
TZID:America/New_York
BEGIN:DAYLIGHT
TZOFFSETFROM:-0500
TZOFFSETTO:-0400
TZNAME:EDT
DTSTART:20230312T070000
END:DAYLIGHT
BEGIN:STANDARD
TZOFFSETFROM:-0400
TZOFFSETTO:-0500
TZNAME:EST
DTSTART:20231105T060000
END:STANDARD
BEGIN:DAYLIGHT
TZOFFSETFROM:-0500
TZOFFSETTO:-0400
TZNAME:EDT
DTSTART:20240310T070000
END:DAYLIGHT
BEGIN:STANDARD
TZOFFSETFROM:-0400
TZOFFSETTO:-0500
TZNAME:EST
DTSTART:20241103T060000
END:STANDARD
BEGIN:DAYLIGHT
TZOFFSETFROM:-0500
TZOFFSETTO:-0400
TZNAME:EDT
DTSTART:20250309T070000
END:DAYLIGHT
BEGIN:STANDARD
TZOFFSETFROM:-0400
TZOFFSETTO:-0500
TZNAME:EST
DTSTART:20251102T060000
END:STANDARD
END:VTIMEZONE
BEGIN:VEVENT
DTSTART;TZID=America/New_York:20241203T190000
DTEND;TZID=America/New_York:20241203T200000
DTSTAMP:20260424T170636
CREATED:20241203T105034Z
LAST-MODIFIED:20250107T000058Z
UID:10000372-1733252400-1733256000@friesva.com
SUMMARY:Town Council Monthly Meeting
DESCRIPTION:The Fries Town Council meets the first Tuesday of every month at 7 p.m.at The Historic Fries Theatre.  The meeting is open to the public.
URL:https://friesva.com/event/town-council-monthly-meeting-3-2-2/2024-12-03/
LOCATION:The Historic Fries Theatre\, 316 W. Main Street\, Fries\, Virginia\, 24330
ORGANIZER;CN="Town of Fries":MAILTO:townoffries@friesva.com
END:VEVENT
BEGIN:VEVENT
DTSTART;TZID=America/New_York:20241205T080000
DTEND;TZID=America/New_York:20241205T170000
DTSTAMP:20260424T170636
CREATED:20241127T103028Z
LAST-MODIFIED:20250512T231020Z
UID:10000765-1733385600-1733418000@friesva.com
SUMMARY:Thursday Night Jam Session
DESCRIPTION:Folks from all over the world find their way to the historic Fries Theatre for the weekly Thursday night jams. All visitors are welcome to mingle with the local residents who gather for a relaxing evening of old-time music and fellowship. The Fries jams are an affiliated venue on the famous Crooked Road – Virginia’s Heritage Music Trail. \n  \nBring a banjo\, dulcimer\, guitar\, fiddle\, or bass\, and join in the music circle. And there’s dancing all evening. If you don’t know the traditional two-step waltz\, just ask and someone will help. The jams are for all ages. \n  \nDoors open every Thursday at 6 p.m. and the music runs from 7 – 9 p.m. During a break\, around 8 p.m.\, there’s a real cake walk and the winner in this jolly tradition takes home a cake or other baked treat. \n  \nThe jams are free\, but donations are gratefully accepted. Refreshments are available. \n  \nDuring summer months there are occasional Friday night dances scheduled\, featuring the best local bands. 
URL:https://friesva.com/event/thursday-night-jam-session-4-2/2024-12-05/1/
LOCATION:The Historic Fries Theatre\, 316 W. Main Street\, Fries\, Virginia\, 24330
ATTACH;FMTTYPE=image/jpeg:https://friesva.com/wp-content/uploads/2022/07/2021-11-18-Fries-Jam_9809.jpg
END:VEVENT
BEGIN:VEVENT
DTSTART;TZID=America/New_York:20241205T190000
DTEND;TZID=America/New_York:20241205T210000
DTSTAMP:20260424T170636
CREATED:20241127T103028Z
LAST-MODIFIED:20250512T231020Z
UID:10000668-1733425200-1733432400@friesva.com
SUMMARY:Thursday Night Jam Session
DESCRIPTION:Folks from all over the world find their way to the historic Fries Theatre for the weekly Thursday night jams. All visitors are welcome to mingle with the local residents who gather for a relaxing evening of old-time music and fellowship. The Fries jams are an affiliated venue on the famous Crooked Road – Virginia’s Heritage Music Trail. \n  \nBring a banjo\, dulcimer\, guitar\, fiddle\, or bass\, and join in the music circle. And there’s dancing all evening. If you don’t know the traditional two-step waltz\, just ask and someone will help. The jams are for all ages. \n  \nDoors open every Thursday at 6 p.m. and the music runs from 7 – 9 p.m. During a break\, around 8 p.m.\, there’s a real cake walk and the winner in this jolly tradition takes home a cake or other baked treat. \n  \nThe jams are free\, but donations are gratefully accepted. Refreshments are available. \n  \nDuring summer months there are occasional Friday night dances scheduled\, featuring the best local bands. 
URL:https://friesva.com/event/thursday-night-jam-session-4-2/2024-12-05/2/
LOCATION:The Historic Fries Theatre\, 316 W. Main Street\, Fries\, Virginia\, 24330
ATTACH;FMTTYPE=image/jpeg:https://friesva.com/wp-content/uploads/2022/07/2021-11-18-Fries-Jam_9809.jpg
END:VEVENT
BEGIN:VEVENT
DTSTART;TZID=America/New_York:20241207T080000
DTEND;TZID=America/New_York:20241207T140000
DTSTAMP:20260424T170636
CREATED:20241203T105455Z
LAST-MODIFIED:20241203T105455Z
UID:10000759-1733558400-1733580000@friesva.com
SUMMARY:Christmas on the Mountain
DESCRIPTION:
URL:https://friesva.com/event/christmas-on-the-mountain-3/
LOCATION:Fries Community Center\, 316 W. Main Street\, Fries\, Virginia\, 24330
ATTACH;FMTTYPE=image/jpeg:https://friesva.com/wp-content/uploads/2024/12/Christmas-Mtn-2024.jpg
END:VEVENT
BEGIN:VEVENT
DTSTART;TZID=America/New_York:20241207T140000
DTEND;TZID=America/New_York:20241207T150000
DTSTAMP:20260424T170636
CREATED:20240110T005929Z
LAST-MODIFIED:20241203T105850Z
UID:10000508-1733580000-1733583600@friesva.com
SUMMARY:Christmas Parade sponsored by Fries Fire & Rescue
DESCRIPTION:Lineup starts at 1 p.m. \nParade begins at 2 p.m. \nRefreshments with Santa following the parade at Fries Fire and Rescue.
URL:https://friesva.com/event/christmas-parade-sponsored-by-fries-fire-rescue-2/
ATTACH;FMTTYPE=image/jpeg:https://friesva.com/wp-content/uploads/2023/10/2022-12-03-Christmas-Parade_2442.jpg
END:VEVENT
BEGIN:VEVENT
DTSTART;TZID=America/New_York:20241212T190000
DTEND;TZID=America/New_York:20241212T210000
DTSTAMP:20260424T170636
CREATED:20241127T103028Z
LAST-MODIFIED:20250512T231020Z
UID:10000669-1734030000-1734037200@friesva.com
SUMMARY:Thursday Night Jam Session
DESCRIPTION:Folks from all over the world find their way to the historic Fries Theatre for the weekly Thursday night jams. All visitors are welcome to mingle with the local residents who gather for a relaxing evening of old-time music and fellowship. The Fries jams are an affiliated venue on the famous Crooked Road – Virginia’s Heritage Music Trail. \n  \nBring a banjo\, dulcimer\, guitar\, fiddle\, or bass\, and join in the music circle. And there’s dancing all evening. If you don’t know the traditional two-step waltz\, just ask and someone will help. The jams are for all ages. \n  \nDoors open every Thursday at 6 p.m. and the music runs from 7 – 9 p.m. During a break\, around 8 p.m.\, there’s a real cake walk and the winner in this jolly tradition takes home a cake or other baked treat. \n  \nThe jams are free\, but donations are gratefully accepted. Refreshments are available. \n  \nDuring summer months there are occasional Friday night dances scheduled\, featuring the best local bands. 
URL:https://friesva.com/event/thursday-night-jam-session-4-2/2024-12-12/
LOCATION:The Historic Fries Theatre\, 316 W. Main Street\, Fries\, Virginia\, 24330
ATTACH;FMTTYPE=image/jpeg:https://friesva.com/wp-content/uploads/2022/07/2021-11-18-Fries-Jam_9809.jpg
END:VEVENT
BEGIN:VEVENT
DTSTART;TZID=America/New_York:20241219T190000
DTEND;TZID=America/New_York:20241219T210000
DTSTAMP:20260424T170636
CREATED:20241127T103028Z
LAST-MODIFIED:20250512T231020Z
UID:10000670-1734634800-1734642000@friesva.com
SUMMARY:Thursday Night Jam Session
DESCRIPTION:Folks from all over the world find their way to the historic Fries Theatre for the weekly Thursday night jams. All visitors are welcome to mingle with the local residents who gather for a relaxing evening of old-time music and fellowship. The Fries jams are an affiliated venue on the famous Crooked Road – Virginia’s Heritage Music Trail. \n  \nBring a banjo\, dulcimer\, guitar\, fiddle\, or bass\, and join in the music circle. And there’s dancing all evening. If you don’t know the traditional two-step waltz\, just ask and someone will help. The jams are for all ages. \n  \nDoors open every Thursday at 6 p.m. and the music runs from 7 – 9 p.m. During a break\, around 8 p.m.\, there’s a real cake walk and the winner in this jolly tradition takes home a cake or other baked treat. \n  \nThe jams are free\, but donations are gratefully accepted. Refreshments are available. \n  \nDuring summer months there are occasional Friday night dances scheduled\, featuring the best local bands. 
URL:https://friesva.com/event/thursday-night-jam-session-4-2/2024-12-19/
LOCATION:The Historic Fries Theatre\, 316 W. Main Street\, Fries\, Virginia\, 24330
ATTACH;FMTTYPE=image/jpeg:https://friesva.com/wp-content/uploads/2022/07/2021-11-18-Fries-Jam_9809.jpg
END:VEVENT
BEGIN:VEVENT
DTSTART;TZID=America/New_York:20241226T190000
DTEND;TZID=America/New_York:20241226T210000
DTSTAMP:20260424T170636
CREATED:20241127T103028Z
LAST-MODIFIED:20250512T231020Z
UID:10000867-1735239600-1735246800@friesva.com
SUMMARY:Thursday Night Jam Session
DESCRIPTION:Folks from all over the world find their way to the historic Fries Theatre for the weekly Thursday night jams. All visitors are welcome to mingle with the local residents who gather for a relaxing evening of old-time music and fellowship. The Fries jams are an affiliated venue on the famous Crooked Road – Virginia’s Heritage Music Trail. \n  \nBring a banjo\, dulcimer\, guitar\, fiddle\, or bass\, and join in the music circle. And there’s dancing all evening. If you don’t know the traditional two-step waltz\, just ask and someone will help. The jams are for all ages. \n  \nDoors open every Thursday at 6 p.m. and the music runs from 7 – 9 p.m. During a break\, around 8 p.m.\, there’s a real cake walk and the winner in this jolly tradition takes home a cake or other baked treat. \n  \nThe jams are free\, but donations are gratefully accepted. Refreshments are available. \n  \nDuring summer months there are occasional Friday night dances scheduled\, featuring the best local bands. 
URL:https://friesva.com/event/thursday-night-jam-session-4-2/2024-12-26/
LOCATION:The Historic Fries Theatre\, 316 W. Main Street\, Fries\, Virginia\, 24330
ATTACH;FMTTYPE=image/jpeg:https://friesva.com/wp-content/uploads/2022/07/2021-11-18-Fries-Jam_9809.jpg
END:VEVENT
BEGIN:VEVENT
DTSTART;TZID=America/New_York:20241226T190000
DTEND;TZID=America/New_York:20241226T210000
DTSTAMP:20260424T170636
CREATED:20241127T105804Z
LAST-MODIFIED:20241127T105804Z
UID:10000755-1735239600-1735246800@friesva.com
SUMMARY:Thursday Night Jam ~ break
DESCRIPTION:The Thursday Night Jam (aka The Jam at the Dam) will take a break on December 26 and January 2 for family time. We will resume the Jam on January 9th! \nDon’t forget the New Years Eve dance and concert on December 31 with the Whitetop Mountain Band and the Crooked Road Ramblers.
URL:https://friesva.com/event/thursday-night-jam-break/2024-12-26/
ATTACH;FMTTYPE=image/jpeg:https://friesva.com/wp-content/uploads/2024/11/Jam-at-the-dam-logo-v2-invert.jpg
END:VEVENT
BEGIN:VEVENT
DTSTART;TZID=America/New_York:20241231T190000
DTEND;TZID=America/New_York:20241231T213000
DTSTAMP:20260424T170636
CREATED:20241127T111623Z
LAST-MODIFIED:20241127T111623Z
UID:10000757-1735671600-1735680600@friesva.com
SUMMARY:New Years Eve Dance and Concert
DESCRIPTION:The Whitetop Mountain Band and The Crooked Road Ramblers will take the stage again this New Years Eve for our annual NYE party! Two big bands play for your evening entertainment and the cost is just $5!
URL:https://friesva.com/event/new-years-eve-dance-and-concert/
LOCATION:The Historic Fries Theatre\, 316 W. Main Street\, Fries\, Virginia\, 24330
ATTACH;FMTTYPE=image/jpeg:https://friesva.com/wp-content/uploads/2024/11/NYE-2024.jpeg
END:VEVENT
END:VCALENDAR