BEGIN:VCALENDAR
VERSION:2.0
PRODID:-// - ECPv6.15.20//NONSGML v1.0//EN
CALSCALE:GREGORIAN
METHOD:PUBLISH
X-ORIGINAL-URL:https://friesva.com
X-WR-CALDESC:Events for 
REFRESH-INTERVAL;VALUE=DURATION:PT1H
X-Robots-Tag:noindex
X-PUBLISHED-TTL:PT1H
BEGIN:VTIMEZONE
TZID:America/New_York
BEGIN:DAYLIGHT
TZOFFSETFROM:-0500
TZOFFSETTO:-0400
TZNAME:EDT
DTSTART:20240310T070000
END:DAYLIGHT
BEGIN:STANDARD
TZOFFSETFROM:-0400
TZOFFSETTO:-0500
TZNAME:EST
DTSTART:20241103T060000
END:STANDARD
BEGIN:DAYLIGHT
TZOFFSETFROM:-0500
TZOFFSETTO:-0400
TZNAME:EDT
DTSTART:20250309T070000
END:DAYLIGHT
BEGIN:STANDARD
TZOFFSETFROM:-0400
TZOFFSETTO:-0500
TZNAME:EST
DTSTART:20251102T060000
END:STANDARD
BEGIN:DAYLIGHT
TZOFFSETFROM:-0500
TZOFFSETTO:-0400
TZNAME:EDT
DTSTART:20260308T070000
END:DAYLIGHT
BEGIN:STANDARD
TZOFFSETFROM:-0400
TZOFFSETTO:-0500
TZNAME:EST
DTSTART:20261101T060000
END:STANDARD
END:VTIMEZONE
BEGIN:VEVENT
DTSTART;TZID=America/New_York:20250603T190000
DTEND;TZID=America/New_York:20250603T200000
DTSTAMP:20260424T060839
CREATED:20241203T105034Z
LAST-MODIFIED:20250107T000058Z
UID:10000378-1748977200-1748980800@friesva.com
SUMMARY:Town Council Monthly Meeting
DESCRIPTION:The Fries Town Council meets the first Tuesday of every month at 7 p.m.at The Historic Fries Theatre.  The meeting is open to the public.
URL:https://friesva.com/event/town-council-monthly-meeting-3-2-2/2025-06-03/
LOCATION:The Historic Fries Theatre\, 316 W. Main Street\, Fries\, Virginia\, 24330
ORGANIZER;CN="Town of Fries":MAILTO:townoffries@friesva.com
END:VEVENT
BEGIN:VEVENT
DTSTART;TZID=America/New_York:20250605T190000
DTEND;TZID=America/New_York:20250605T210000
DTSTAMP:20260424T060839
CREATED:20250521T181855Z
LAST-MODIFIED:20250521T181855Z
UID:10001100-1749150000-1749157200@friesva.com
SUMMARY:Thursday Night Jam cancelled on this date
DESCRIPTION:June 5 – Mt. Airy Fiddlers \nAugust 7 – Galax Fiddlers \nNovember 27 – Thanksgiving \nDecember 25 – Christmas \nJanuary 1 – New Years
URL:https://friesva.com/event/thursday-night-jam-cancelled-on-this-date/2025-06-05/
END:VEVENT
BEGIN:VEVENT
DTSTART;TZID=America/New_York:20250612T190000
DTEND;TZID=America/New_York:20250612T210000
DTSTAMP:20260424T060839
CREATED:20241127T103028Z
LAST-MODIFIED:20250512T231020Z
UID:10000783-1749754800-1749762000@friesva.com
SUMMARY:Thursday Night Jam Session
DESCRIPTION:Folks from all over the world find their way to the historic Fries Theatre for the weekly Thursday night jams. All visitors are welcome to mingle with the local residents who gather for a relaxing evening of old-time music and fellowship. The Fries jams are an affiliated venue on the famous Crooked Road – Virginia’s Heritage Music Trail. \n  \nBring a banjo\, dulcimer\, guitar\, fiddle\, or bass\, and join in the music circle. And there’s dancing all evening. If you don’t know the traditional two-step waltz\, just ask and someone will help. The jams are for all ages. \n  \nDoors open every Thursday at 6 p.m. and the music runs from 7 – 9 p.m. During a break\, around 8 p.m.\, there’s a real cake walk and the winner in this jolly tradition takes home a cake or other baked treat. \n  \nThe jams are free\, but donations are gratefully accepted. Refreshments are available. \n  \nDuring summer months there are occasional Friday night dances scheduled\, featuring the best local bands. 
URL:https://friesva.com/event/thursday-night-jam-session-4-2/2025-06-12/
LOCATION:The Historic Fries Theatre\, 316 W. Main Street\, Fries\, Virginia\, 24330
ATTACH;FMTTYPE=image/jpeg:https://friesva.com/wp-content/uploads/2022/07/2021-11-18-Fries-Jam_9809.jpg
END:VEVENT
BEGIN:VEVENT
DTSTART;TZID=America/New_York:20250619T180000
DTEND;TZID=America/New_York:20250619T190000
DTSTAMP:20260424T060839
CREATED:20250512T215431Z
LAST-MODIFIED:20250512T215431Z
UID:10000857-1750356000-1750359600@friesva.com
SUMMARY:Fries History Walk sponsored by New River Trail State Park
DESCRIPTION:Come explore the historic town of Fries. This walk does have several inclines and declines and is around a mile long. A park guide will share stories of local history and the remains of the once thriving textile industry. Please meet at the Fries Access parking lot\, dress for the weather\, and wear sturdy shoes. Leashed pets are welcome. \nDid you know that every Thursday evening the town of Fries hosts an old-time jam session? Our walk will end at the Historic Fries Theater where there’s a chance to enjoy good ole’ mountain music. Doors open at 6 p.m. and the music runs from 7-9 p.m. The Fries jams are an affiliated venue on the famous Crooked Road – Virginia’s Heritage Music Trail. The jams are free\, but donations are gratefully accepted (the jams are not affiliated with New River Trail State Park). Refreshments are available. Please note\, the two Saturday walks (3/22 & 4/12) are in the afternoon and will not end with mountain music.
URL:https://friesva.com/event/fries-history-walk-sponsored-by-new-river-trail-state-park/2025-06-19/
LOCATION:New River Trail Fries Access\, 323 Firehouse Drive\, Fries\, Virginia\, 24330
ATTACH;FMTTYPE=image/jpeg:https://friesva.com/wp-content/uploads/2023/11/2023-10-20-Rainy-mor_7749.jpg
END:VEVENT
BEGIN:VEVENT
DTSTART;TZID=America/New_York:20250619T190000
DTEND;TZID=America/New_York:20250619T210000
DTSTAMP:20260424T060839
CREATED:20241127T103028Z
LAST-MODIFIED:20250512T231020Z
UID:10000784-1750359600-1750366800@friesva.com
SUMMARY:Thursday Night Jam Session
DESCRIPTION:Folks from all over the world find their way to the historic Fries Theatre for the weekly Thursday night jams. All visitors are welcome to mingle with the local residents who gather for a relaxing evening of old-time music and fellowship. The Fries jams are an affiliated venue on the famous Crooked Road – Virginia’s Heritage Music Trail. \n  \nBring a banjo\, dulcimer\, guitar\, fiddle\, or bass\, and join in the music circle. And there’s dancing all evening. If you don’t know the traditional two-step waltz\, just ask and someone will help. The jams are for all ages. \n  \nDoors open every Thursday at 6 p.m. and the music runs from 7 – 9 p.m. During a break\, around 8 p.m.\, there’s a real cake walk and the winner in this jolly tradition takes home a cake or other baked treat. \n  \nThe jams are free\, but donations are gratefully accepted. Refreshments are available. \n  \nDuring summer months there are occasional Friday night dances scheduled\, featuring the best local bands. 
URL:https://friesva.com/event/thursday-night-jam-session-4-2/2025-06-19/
LOCATION:The Historic Fries Theatre\, 316 W. Main Street\, Fries\, Virginia\, 24330
ATTACH;FMTTYPE=image/jpeg:https://friesva.com/wp-content/uploads/2022/07/2021-11-18-Fries-Jam_9809.jpg
END:VEVENT
BEGIN:VEVENT
DTSTART;TZID=America/New_York:20250620T190000
DTEND;TZID=America/New_York:20250620T210000
DTSTAMP:20260424T060839
CREATED:20250303T114419Z
LAST-MODIFIED:20250305T105840Z
UID:10000847-1750446000-1750453200@friesva.com
SUMMARY:Summer Concert Series at The Depot
DESCRIPTION:Welcome to the third year of the Summer Concert Series! All concerts start at 7 p.m. \nMay 23\, 2025 – Whitetop Mountain Band \nJune 20\, 2025 – Leftover Biscuits \nJuly 11\, 2025 – The New Ballards Branch Bogtrotters \nSeptember 19\, 2025 – Twin Creek String Band \nEnjoy live music in the open air Depot in downtown Fries\, VA. Admission is only $5. \n 
URL:https://friesva.com/event/summer-concert-series-at-the-depot/2025-06-20/
LOCATION:The Depot\, 510 Riverview Avenue\, Fries\, Virginia\, 24330
ATTACH;FMTTYPE=image/jpeg:https://friesva.com/wp-content/uploads/2022/07/2022-06-23-Fries-Depot_2726.jpg
END:VEVENT
BEGIN:VEVENT
DTSTART;TZID=America/New_York:20250621T090000
DTEND;TZID=America/New_York:20250621T130000
DTSTAMP:20260424T060839
CREATED:20250619T094147Z
LAST-MODIFIED:20250619T094405Z
UID:10001106-1750496400-1750510800@friesva.com
SUMMARY:Fries Town Market
DESCRIPTION:Market opens every Saturday – food\, art\, crafts and more! \nFree coffee provided by the Town of Fries. \n  \n 
URL:https://friesva.com/event/fries-town-market/2025-06-21/
LOCATION:The Depot\, 510 Riverview Avenue\, Fries\, Virginia\, 24330
ATTACH;FMTTYPE=image/jpeg:https://friesva.com/wp-content/uploads/2025/06/Depot.00_03_25_19.Still002-scaled.jpg
ORGANIZER;CN="Town of Fries":MAILTO:townoffries@friesva.com
END:VEVENT
BEGIN:VEVENT
DTSTART;TZID=America/New_York:20250621T140000
DTEND;TZID=America/New_York:20250621T190000
DTSTAMP:20260424T060839
CREATED:20250303T113406Z
LAST-MODIFIED:20250626T172259Z
UID:10000837-1750514400-1750532400@friesva.com
SUMMARY:Thunder by the River - Classic Car Cruise-in 10th anniversary!! New date added!!
DESCRIPTION:Thunder by the River Classic Car Cruise-in. 2 p.m. until 7 p.m. 10th anniversary. Free admission. Food and live music. \n05/24/25 \n06/21/25 \n07/19/25 \n08/16/25 \n09/20/25 \n10/18/25  —-> New date!! \n 0 
URL:https://friesva.com/event/thunder-by-the-river-classic-car-cruise-in-10th-anniversary/2025-06-21/
LOCATION:Fries Town Park\, Fries\, Virginia\, 24330
ATTACH;FMTTYPE=image/jpeg:https://friesva.com/wp-content/uploads/2023/01/2022-06-18-Cruise-In_2508.jpg
END:VEVENT
BEGIN:VEVENT
DTSTART;TZID=America/New_York:20250626T190000
DTEND;TZID=America/New_York:20250626T210000
DTSTAMP:20260424T060839
CREATED:20241127T103028Z
LAST-MODIFIED:20250512T231020Z
UID:10000785-1750964400-1750971600@friesva.com
SUMMARY:Thursday Night Jam Session
DESCRIPTION:Folks from all over the world find their way to the historic Fries Theatre for the weekly Thursday night jams. All visitors are welcome to mingle with the local residents who gather for a relaxing evening of old-time music and fellowship. The Fries jams are an affiliated venue on the famous Crooked Road – Virginia’s Heritage Music Trail. \n  \nBring a banjo\, dulcimer\, guitar\, fiddle\, or bass\, and join in the music circle. And there’s dancing all evening. If you don’t know the traditional two-step waltz\, just ask and someone will help. The jams are for all ages. \n  \nDoors open every Thursday at 6 p.m. and the music runs from 7 – 9 p.m. During a break\, around 8 p.m.\, there’s a real cake walk and the winner in this jolly tradition takes home a cake or other baked treat. \n  \nThe jams are free\, but donations are gratefully accepted. Refreshments are available. \n  \nDuring summer months there are occasional Friday night dances scheduled\, featuring the best local bands. 
URL:https://friesva.com/event/thursday-night-jam-session-4-2/2025-06-26/
LOCATION:The Historic Fries Theatre\, 316 W. Main Street\, Fries\, Virginia\, 24330
ATTACH;FMTTYPE=image/jpeg:https://friesva.com/wp-content/uploads/2022/07/2021-11-18-Fries-Jam_9809.jpg
END:VEVENT
BEGIN:VEVENT
DTSTART;TZID=America/New_York:20250628T080000
DTEND;TZID=America/New_York:20250628T180000
DTSTAMP:20260424T060839
CREATED:20250217T110619Z
LAST-MODIFIED:20250217T110619Z
UID:10000814-1751097600-1751133600@friesva.com
SUMMARY:Horse show
DESCRIPTION:Horse show at Jamie Hyatt Arena (Providence School)
URL:https://friesva.com/event/horse-show-3/
LOCATION:Jamie Hyatt Arena (at Old Providence School)\, 56 Bainbridge Road\, Fries\, Virginia\, 24330
END:VEVENT
BEGIN:VEVENT
DTSTART;TZID=America/New_York:20250628T090000
DTEND;TZID=America/New_York:20250628T130000
DTSTAMP:20260424T060839
CREATED:20250619T094147Z
LAST-MODIFIED:20250619T094405Z
UID:10001107-1751101200-1751115600@friesva.com
SUMMARY:Fries Town Market
DESCRIPTION:Market opens every Saturday – food\, art\, crafts and more! \nFree coffee provided by the Town of Fries. \n  \n 
URL:https://friesva.com/event/fries-town-market/2025-06-28/
LOCATION:The Depot\, 510 Riverview Avenue\, Fries\, Virginia\, 24330
ATTACH;FMTTYPE=image/jpeg:https://friesva.com/wp-content/uploads/2025/06/Depot.00_03_25_19.Still002-scaled.jpg
ORGANIZER;CN="Town of Fries":MAILTO:townoffries@friesva.com
END:VEVENT
BEGIN:VEVENT
DTSTART;TZID=America/New_York:20250630T090000
DTEND;TZID=America/New_York:20250630T100000
DTSTAMP:20260424T060839
CREATED:20250512T230603Z
LAST-MODIFIED:20250512T230603Z
UID:10000863-1751274000-1751277600@friesva.com
SUMMARY:Women's Walking Group - New River Trail State Park event
DESCRIPTION:Do you feel safer walking with a friend? Want to meet other women who have common interests? Ready to meet your goals and get in a healthy exercise session? Join our Women’s Walking Group as we trek the New River Trail! Meet a ranger for a moderately paced\, brisk\, morning walk at Foster Falls. We will begin at 9 a.m. and meet at the red caboose. The hike will last about one hour and cover nearly 4 miles. Be sure to wear closed toed shoes and bring water to drink. Let’s create a safe space for each other and encourage one another in our goals! \nThe trail surface is crushed stone and a gentle grade. Leashed pets are welcome. This program is weather dependent. Please check our event listing on the New River Trail website for cancellations. See New River Trail Website for other locations and dates. \n 
URL:https://friesva.com/event/womens-walking-group-new-river-trail-state-park-event/2025-06-30/
LOCATION:New River Trail Fries Access\, 323 Firehouse Drive\, Fries\, Virginia\, 24330
ATTACH;FMTTYPE=image/jpeg:https://friesva.com/wp-content/uploads/2025/05/2025-04-15-Fries-morning-00731.jpg
END:VEVENT
END:VCALENDAR