BEGIN:VCALENDAR
VERSION:2.0
PRODID:-// - ECPv6.15.20//NONSGML v1.0//EN
CALSCALE:GREGORIAN
METHOD:PUBLISH
X-ORIGINAL-URL:https://friesva.com
X-WR-CALDESC:Events for 
REFRESH-INTERVAL;VALUE=DURATION:PT1H
X-Robots-Tag:noindex
X-PUBLISHED-TTL:PT1H
BEGIN:VTIMEZONE
TZID:America/New_York
BEGIN:DAYLIGHT
TZOFFSETFROM:-0500
TZOFFSETTO:-0400
TZNAME:EDT
DTSTART:20240310T070000
END:DAYLIGHT
BEGIN:STANDARD
TZOFFSETFROM:-0400
TZOFFSETTO:-0500
TZNAME:EST
DTSTART:20241103T060000
END:STANDARD
BEGIN:DAYLIGHT
TZOFFSETFROM:-0500
TZOFFSETTO:-0400
TZNAME:EDT
DTSTART:20250309T070000
END:DAYLIGHT
BEGIN:STANDARD
TZOFFSETFROM:-0400
TZOFFSETTO:-0500
TZNAME:EST
DTSTART:20251102T060000
END:STANDARD
BEGIN:DAYLIGHT
TZOFFSETFROM:-0500
TZOFFSETTO:-0400
TZNAME:EDT
DTSTART:20260308T070000
END:DAYLIGHT
BEGIN:STANDARD
TZOFFSETFROM:-0400
TZOFFSETTO:-0500
TZNAME:EST
DTSTART:20261101T060000
END:STANDARD
END:VTIMEZONE
BEGIN:VEVENT
DTSTART;TZID=America/New_York:20250902T190000
DTEND;TZID=America/New_York:20250902T200000
DTSTAMP:20260424T005943
CREATED:20250902T195311Z
LAST-MODIFIED:20250902T195614Z
UID:10000381-1756839600-1756843200@friesva.com
SUMMARY:Town Council Monthly Meeting
DESCRIPTION:The Fries Town Council meets the first Tuesday of every month at 7 p.m.at The Historic Fries Theatre.  The meeting is open to the public.
URL:https://friesva.com/event/town-council-monthly-meeting-3-2-2-2/2025-09-02/
LOCATION:The Historic Fries Theatre\, 316 W. Main Street\, Fries\, Virginia\, 24330
ORGANIZER;CN="Town of Fries":MAILTO:townoffries@friesva.com
END:VEVENT
BEGIN:VEVENT
DTSTART;TZID=America/New_York:20250902T190000
DTEND;TZID=America/New_York:20250902T200000
DTSTAMP:20260424T005943
CREATED:20250902T195924Z
LAST-MODIFIED:20250902T195924Z
UID:10001184-1756839600-1756843200@friesva.com
SUMMARY:Town Council meeting canceled tonight
DESCRIPTION:
URL:https://friesva.com/event/town-council-meeting-canceled-tonight/
END:VEVENT
BEGIN:VEVENT
DTSTART;TZID=America/New_York:20250904T190000
DTEND;TZID=America/New_York:20250904T210000
DTSTAMP:20260424T005943
CREATED:20241127T103028Z
LAST-MODIFIED:20250512T231020Z
UID:10000795-1757012400-1757019600@friesva.com
SUMMARY:Thursday Night Jam Session
DESCRIPTION:Folks from all over the world find their way to the historic Fries Theatre for the weekly Thursday night jams. All visitors are welcome to mingle with the local residents who gather for a relaxing evening of old-time music and fellowship. The Fries jams are an affiliated venue on the famous Crooked Road – Virginia’s Heritage Music Trail. \n  \nBring a banjo\, dulcimer\, guitar\, fiddle\, or bass\, and join in the music circle. And there’s dancing all evening. If you don’t know the traditional two-step waltz\, just ask and someone will help. The jams are for all ages. \n  \nDoors open every Thursday at 6 p.m. and the music runs from 7 – 9 p.m. During a break\, around 8 p.m.\, there’s a real cake walk and the winner in this jolly tradition takes home a cake or other baked treat. \n  \nThe jams are free\, but donations are gratefully accepted. Refreshments are available. \n  \nDuring summer months there are occasional Friday night dances scheduled\, featuring the best local bands. 
URL:https://friesva.com/event/thursday-night-jam-session-4-2/2025-09-04/
LOCATION:The Historic Fries Theatre\, 316 W. Main Street\, Fries\, Virginia\, 24330
ATTACH;FMTTYPE=image/jpeg:https://friesva.com/wp-content/uploads/2022/07/2021-11-18-Fries-Jam_9809.jpg
END:VEVENT
BEGIN:VEVENT
DTSTART;TZID=America/New_York:20250906T090000
DTEND;TZID=America/New_York:20250906T130000
DTSTAMP:20260424T005943
CREATED:20250619T094147Z
LAST-MODIFIED:20250619T094405Z
UID:10001117-1757149200-1757163600@friesva.com
SUMMARY:Fries Town Market
DESCRIPTION:Market opens every Saturday – food\, art\, crafts and more! \nFree coffee provided by the Town of Fries. \n  \n 
URL:https://friesva.com/event/fries-town-market/2025-09-06/
LOCATION:The Depot\, 510 Riverview Avenue\, Fries\, Virginia\, 24330
ATTACH;FMTTYPE=image/jpeg:https://friesva.com/wp-content/uploads/2025/06/Depot.00_03_25_19.Still002-scaled.jpg
ORGANIZER;CN="Town of Fries":MAILTO:townoffries@friesva.com
END:VEVENT
BEGIN:VEVENT
DTSTART;TZID=America/New_York:20250911T180000
DTEND;TZID=America/New_York:20250911T190000
DTSTAMP:20260424T005943
CREATED:20250512T215431Z
LAST-MODIFIED:20250512T215431Z
UID:10000861-1757613600-1757617200@friesva.com
SUMMARY:Fries History Walk sponsored by New River Trail State Park
DESCRIPTION:Come explore the historic town of Fries. This walk does have several inclines and declines and is around a mile long. A park guide will share stories of local history and the remains of the once thriving textile industry. Please meet at the Fries Access parking lot\, dress for the weather\, and wear sturdy shoes. Leashed pets are welcome. \nDid you know that every Thursday evening the town of Fries hosts an old-time jam session? Our walk will end at the Historic Fries Theater where there’s a chance to enjoy good ole’ mountain music. Doors open at 6 p.m. and the music runs from 7-9 p.m. The Fries jams are an affiliated venue on the famous Crooked Road – Virginia’s Heritage Music Trail. The jams are free\, but donations are gratefully accepted (the jams are not affiliated with New River Trail State Park). Refreshments are available. Please note\, the two Saturday walks (3/22 & 4/12) are in the afternoon and will not end with mountain music.
URL:https://friesva.com/event/fries-history-walk-sponsored-by-new-river-trail-state-park/2025-09-11/
LOCATION:New River Trail Fries Access\, 323 Firehouse Drive\, Fries\, Virginia\, 24330
ATTACH;FMTTYPE=image/jpeg:https://friesva.com/wp-content/uploads/2023/11/2023-10-20-Rainy-mor_7749.jpg
END:VEVENT
BEGIN:VEVENT
DTSTART;TZID=America/New_York:20250911T190000
DTEND;TZID=America/New_York:20250911T210000
DTSTAMP:20260424T005943
CREATED:20241127T103028Z
LAST-MODIFIED:20250512T231020Z
UID:10000796-1757617200-1757624400@friesva.com
SUMMARY:Thursday Night Jam Session
DESCRIPTION:Folks from all over the world find their way to the historic Fries Theatre for the weekly Thursday night jams. All visitors are welcome to mingle with the local residents who gather for a relaxing evening of old-time music and fellowship. The Fries jams are an affiliated venue on the famous Crooked Road – Virginia’s Heritage Music Trail. \n  \nBring a banjo\, dulcimer\, guitar\, fiddle\, or bass\, and join in the music circle. And there’s dancing all evening. If you don’t know the traditional two-step waltz\, just ask and someone will help. The jams are for all ages. \n  \nDoors open every Thursday at 6 p.m. and the music runs from 7 – 9 p.m. During a break\, around 8 p.m.\, there’s a real cake walk and the winner in this jolly tradition takes home a cake or other baked treat. \n  \nThe jams are free\, but donations are gratefully accepted. Refreshments are available. \n  \nDuring summer months there are occasional Friday night dances scheduled\, featuring the best local bands. 
URL:https://friesva.com/event/thursday-night-jam-session-4-2/2025-09-11/
LOCATION:The Historic Fries Theatre\, 316 W. Main Street\, Fries\, Virginia\, 24330
ATTACH;FMTTYPE=image/jpeg:https://friesva.com/wp-content/uploads/2022/07/2021-11-18-Fries-Jam_9809.jpg
END:VEVENT
BEGIN:VEVENT
DTSTART;TZID=America/New_York:20250913T080000
DTEND;TZID=America/New_York:20250913T170000
DTSTAMP:20260424T005943
CREATED:20250217T111213Z
LAST-MODIFIED:20250217T113626Z
UID:10000818-1757750400-1757782800@friesva.com
SUMMARY:Horse show and awards dinner
DESCRIPTION:Horse show and awards dinner  – Jamie Hyatt Arena\, Providence School
URL:https://friesva.com/event/horse-show-and-awards-dinner/
LOCATION:Fries Fire & Rescue\, 832 E. Main St.\, Fries\, Virginia\, 24330
ATTACH;FMTTYPE=image/jpeg:https://friesva.com/wp-content/uploads/2023/02/2016-05-07-Rodeo-7985-scaled.jpg
END:VEVENT
BEGIN:VEVENT
DTSTART;TZID=America/New_York:20250913T090000
DTEND;TZID=America/New_York:20250913T130000
DTSTAMP:20260424T005943
CREATED:20250619T094147Z
LAST-MODIFIED:20250619T094405Z
UID:10001118-1757754000-1757768400@friesva.com
SUMMARY:Fries Town Market
DESCRIPTION:Market opens every Saturday – food\, art\, crafts and more! \nFree coffee provided by the Town of Fries. \n  \n 
URL:https://friesva.com/event/fries-town-market/2025-09-13/
LOCATION:The Depot\, 510 Riverview Avenue\, Fries\, Virginia\, 24330
ATTACH;FMTTYPE=image/jpeg:https://friesva.com/wp-content/uploads/2025/06/Depot.00_03_25_19.Still002-scaled.jpg
ORGANIZER;CN="Town of Fries":MAILTO:townoffries@friesva.com
END:VEVENT
BEGIN:VEVENT
DTSTART;TZID=America/New_York:20250915T090000
DTEND;TZID=America/New_York:20250915T100000
DTSTAMP:20260424T005943
CREATED:20250512T230603Z
LAST-MODIFIED:20250512T230603Z
UID:10000865-1757926800-1757930400@friesva.com
SUMMARY:Women's Walking Group - New River Trail State Park event
DESCRIPTION:Do you feel safer walking with a friend? Want to meet other women who have common interests? Ready to meet your goals and get in a healthy exercise session? Join our Women’s Walking Group as we trek the New River Trail! Meet a ranger for a moderately paced\, brisk\, morning walk at Foster Falls. We will begin at 9 a.m. and meet at the red caboose. The hike will last about one hour and cover nearly 4 miles. Be sure to wear closed toed shoes and bring water to drink. Let’s create a safe space for each other and encourage one another in our goals! \nThe trail surface is crushed stone and a gentle grade. Leashed pets are welcome. This program is weather dependent. Please check our event listing on the New River Trail website for cancellations. See New River Trail Website for other locations and dates. \n 
URL:https://friesva.com/event/womens-walking-group-new-river-trail-state-park-event/2025-09-15/
LOCATION:New River Trail Fries Access\, 323 Firehouse Drive\, Fries\, Virginia\, 24330
ATTACH;FMTTYPE=image/jpeg:https://friesva.com/wp-content/uploads/2025/05/2025-04-15-Fries-morning-00731.jpg
END:VEVENT
BEGIN:VEVENT
DTSTART;TZID=America/New_York:20250918T190000
DTEND;TZID=America/New_York:20250918T210000
DTSTAMP:20260424T005943
CREATED:20241127T103028Z
LAST-MODIFIED:20250512T231020Z
UID:10000797-1758222000-1758229200@friesva.com
SUMMARY:Thursday Night Jam Session
DESCRIPTION:Folks from all over the world find their way to the historic Fries Theatre for the weekly Thursday night jams. All visitors are welcome to mingle with the local residents who gather for a relaxing evening of old-time music and fellowship. The Fries jams are an affiliated venue on the famous Crooked Road – Virginia’s Heritage Music Trail. \n  \nBring a banjo\, dulcimer\, guitar\, fiddle\, or bass\, and join in the music circle. And there’s dancing all evening. If you don’t know the traditional two-step waltz\, just ask and someone will help. The jams are for all ages. \n  \nDoors open every Thursday at 6 p.m. and the music runs from 7 – 9 p.m. During a break\, around 8 p.m.\, there’s a real cake walk and the winner in this jolly tradition takes home a cake or other baked treat. \n  \nThe jams are free\, but donations are gratefully accepted. Refreshments are available. \n  \nDuring summer months there are occasional Friday night dances scheduled\, featuring the best local bands. 
URL:https://friesva.com/event/thursday-night-jam-session-4-2/2025-09-18/
LOCATION:The Historic Fries Theatre\, 316 W. Main Street\, Fries\, Virginia\, 24330
ATTACH;FMTTYPE=image/jpeg:https://friesva.com/wp-content/uploads/2022/07/2021-11-18-Fries-Jam_9809.jpg
END:VEVENT
BEGIN:VEVENT
DTSTART;TZID=America/New_York:20250919T190000
DTEND;TZID=America/New_York:20250919T210000
DTSTAMP:20260424T005943
CREATED:20250303T114419Z
LAST-MODIFIED:20250305T105840Z
UID:10000849-1758308400-1758315600@friesva.com
SUMMARY:Summer Concert Series at The Depot
DESCRIPTION:Welcome to the third year of the Summer Concert Series! All concerts start at 7 p.m. \nMay 23\, 2025 – Whitetop Mountain Band \nJune 20\, 2025 – Leftover Biscuits \nJuly 11\, 2025 – The New Ballards Branch Bogtrotters \nSeptember 19\, 2025 – Twin Creek String Band \nEnjoy live music in the open air Depot in downtown Fries\, VA. Admission is only $5. \n 
URL:https://friesva.com/event/summer-concert-series-at-the-depot/2025-09-19/
LOCATION:The Depot\, 510 Riverview Avenue\, Fries\, Virginia\, 24330
ATTACH;FMTTYPE=image/jpeg:https://friesva.com/wp-content/uploads/2022/07/2022-06-23-Fries-Depot_2726.jpg
END:VEVENT
BEGIN:VEVENT
DTSTART;TZID=America/New_York:20250920T090000
DTEND;TZID=America/New_York:20250920T130000
DTSTAMP:20260424T005943
CREATED:20250619T094147Z
LAST-MODIFIED:20250619T094405Z
UID:10001119-1758358800-1758373200@friesva.com
SUMMARY:Fries Town Market
DESCRIPTION:Market opens every Saturday – food\, art\, crafts and more! \nFree coffee provided by the Town of Fries. \n  \n 
URL:https://friesva.com/event/fries-town-market/2025-09-20/
LOCATION:The Depot\, 510 Riverview Avenue\, Fries\, Virginia\, 24330
ATTACH;FMTTYPE=image/jpeg:https://friesva.com/wp-content/uploads/2025/06/Depot.00_03_25_19.Still002-scaled.jpg
ORGANIZER;CN="Town of Fries":MAILTO:townoffries@friesva.com
END:VEVENT
BEGIN:VEVENT
DTSTART;TZID=America/New_York:20250920T140000
DTEND;TZID=America/New_York:20250920T170000
DTSTAMP:20260424T005943
CREATED:20250303T113406Z
LAST-MODIFIED:20250626T172259Z
UID:10000840-1758376800-1758387600@friesva.com
SUMMARY:Thunder by the River - Classic Car Cruise-in 10th anniversary!! New date added!!
DESCRIPTION:Thunder by the River Classic Car Cruise-in. 2 p.m. until 7 p.m. 10th anniversary. Free admission. Food and live music. \n05/24/25 \n06/21/25 \n07/19/25 \n08/16/25 \n09/20/25 \n10/18/25  —-> New date!! \n 0 
URL:https://friesva.com/event/thunder-by-the-river-classic-car-cruise-in-10th-anniversary/2025-09-20/
LOCATION:Fries Town Park\, Fries\, Virginia\, 24330
ATTACH;FMTTYPE=image/jpeg:https://friesva.com/wp-content/uploads/2023/01/2022-06-18-Cruise-In_2508.jpg
END:VEVENT
BEGIN:VEVENT
DTSTART;TZID=America/New_York:20250925T180000
DTEND;TZID=America/New_York:20250925T190000
DTSTAMP:20260424T005943
CREATED:20250512T215431Z
LAST-MODIFIED:20250512T215431Z
UID:10000862-1758823200-1758826800@friesva.com
SUMMARY:Fries History Walk sponsored by New River Trail State Park
DESCRIPTION:Come explore the historic town of Fries. This walk does have several inclines and declines and is around a mile long. A park guide will share stories of local history and the remains of the once thriving textile industry. Please meet at the Fries Access parking lot\, dress for the weather\, and wear sturdy shoes. Leashed pets are welcome. \nDid you know that every Thursday evening the town of Fries hosts an old-time jam session? Our walk will end at the Historic Fries Theater where there’s a chance to enjoy good ole’ mountain music. Doors open at 6 p.m. and the music runs from 7-9 p.m. The Fries jams are an affiliated venue on the famous Crooked Road – Virginia’s Heritage Music Trail. The jams are free\, but donations are gratefully accepted (the jams are not affiliated with New River Trail State Park). Refreshments are available. Please note\, the two Saturday walks (3/22 & 4/12) are in the afternoon and will not end with mountain music.
URL:https://friesva.com/event/fries-history-walk-sponsored-by-new-river-trail-state-park/2025-09-25/
LOCATION:New River Trail Fries Access\, 323 Firehouse Drive\, Fries\, Virginia\, 24330
ATTACH;FMTTYPE=image/jpeg:https://friesva.com/wp-content/uploads/2023/11/2023-10-20-Rainy-mor_7749.jpg
END:VEVENT
BEGIN:VEVENT
DTSTART;TZID=America/New_York:20250925T190000
DTEND;TZID=America/New_York:20250925T210000
DTSTAMP:20260424T005943
CREATED:20241127T103028Z
LAST-MODIFIED:20250512T231020Z
UID:10000798-1758826800-1758834000@friesva.com
SUMMARY:Thursday Night Jam Session
DESCRIPTION:Folks from all over the world find their way to the historic Fries Theatre for the weekly Thursday night jams. All visitors are welcome to mingle with the local residents who gather for a relaxing evening of old-time music and fellowship. The Fries jams are an affiliated venue on the famous Crooked Road – Virginia’s Heritage Music Trail. \n  \nBring a banjo\, dulcimer\, guitar\, fiddle\, or bass\, and join in the music circle. And there’s dancing all evening. If you don’t know the traditional two-step waltz\, just ask and someone will help. The jams are for all ages. \n  \nDoors open every Thursday at 6 p.m. and the music runs from 7 – 9 p.m. During a break\, around 8 p.m.\, there’s a real cake walk and the winner in this jolly tradition takes home a cake or other baked treat. \n  \nThe jams are free\, but donations are gratefully accepted. Refreshments are available. \n  \nDuring summer months there are occasional Friday night dances scheduled\, featuring the best local bands. 
URL:https://friesva.com/event/thursday-night-jam-session-4-2/2025-09-25/
LOCATION:The Historic Fries Theatre\, 316 W. Main Street\, Fries\, Virginia\, 24330
ATTACH;FMTTYPE=image/jpeg:https://friesva.com/wp-content/uploads/2022/07/2021-11-18-Fries-Jam_9809.jpg
END:VEVENT
BEGIN:VEVENT
DTSTART;TZID=America/New_York:20250927T090000
DTEND;TZID=America/New_York:20250927T130000
DTSTAMP:20260424T005943
CREATED:20250619T094147Z
LAST-MODIFIED:20250619T094405Z
UID:10001120-1758963600-1758978000@friesva.com
SUMMARY:Fries Town Market
DESCRIPTION:Market opens every Saturday – food\, art\, crafts and more! \nFree coffee provided by the Town of Fries. \n  \n 
URL:https://friesva.com/event/fries-town-market/2025-09-27/
LOCATION:The Depot\, 510 Riverview Avenue\, Fries\, Virginia\, 24330
ATTACH;FMTTYPE=image/jpeg:https://friesva.com/wp-content/uploads/2025/06/Depot.00_03_25_19.Still002-scaled.jpg
ORGANIZER;CN="Town of Fries":MAILTO:townoffries@friesva.com
END:VEVENT
END:VCALENDAR