BEGIN:VCALENDAR
VERSION:2.0
PRODID:-// - ECPv6.15.20//NONSGML v1.0//EN
CALSCALE:GREGORIAN
METHOD:PUBLISH
X-ORIGINAL-URL:https://friesva.com
X-WR-CALDESC:Events for 
REFRESH-INTERVAL;VALUE=DURATION:PT1H
X-Robots-Tag:noindex
X-PUBLISHED-TTL:PT1H
BEGIN:VTIMEZONE
TZID:America/New_York
BEGIN:DAYLIGHT
TZOFFSETFROM:-0500
TZOFFSETTO:-0400
TZNAME:EDT
DTSTART:20250309T070000
END:DAYLIGHT
BEGIN:STANDARD
TZOFFSETFROM:-0400
TZOFFSETTO:-0500
TZNAME:EST
DTSTART:20251102T060000
END:STANDARD
BEGIN:DAYLIGHT
TZOFFSETFROM:-0500
TZOFFSETTO:-0400
TZNAME:EDT
DTSTART:20260308T070000
END:DAYLIGHT
BEGIN:STANDARD
TZOFFSETFROM:-0400
TZOFFSETTO:-0500
TZNAME:EST
DTSTART:20261101T060000
END:STANDARD
BEGIN:DAYLIGHT
TZOFFSETFROM:-0500
TZOFFSETTO:-0400
TZNAME:EDT
DTSTART:20270314T070000
END:DAYLIGHT
BEGIN:STANDARD
TZOFFSETFROM:-0400
TZOFFSETTO:-0500
TZNAME:EST
DTSTART:20271107T060000
END:STANDARD
END:VTIMEZONE
BEGIN:VEVENT
DTSTART;TZID=America/New_York:20260801T090000
DTEND;TZID=America/New_York:20260801T130000
DTSTAMP:20260423T184654
CREATED:20251101T014547Z
LAST-MODIFIED:20251101T113202Z
UID:10001164-1785574800-1785589200@friesva.com
SUMMARY:Fries Town Market
DESCRIPTION:Market opens every Saturday – food\, art\, crafts and more! Moved inside to the Community Center. \nFree coffee provided by the Town of Fries. \n  \n 
URL:https://friesva.com/event/fries-town-market-2/2026-08-01/
LOCATION:Fries Community Center\, 316 W. Main Street\, Fries\, Virginia\, 24330
ATTACH;FMTTYPE=image/jpeg:https://friesva.com/wp-content/uploads/2025/06/Depot.00_03_25_19.Still002-scaled.jpg
ORGANIZER;CN="Town of Fries":MAILTO:townoffries@friesva.com
END:VEVENT
BEGIN:VEVENT
DTSTART;TZID=America/New_York:20260804T190000
DTEND;TZID=America/New_York:20260804T200000
DTSTAMP:20260423T184654
CREATED:20250902T195311Z
LAST-MODIFIED:20250902T195614Z
UID:10000392-1785870000-1785873600@friesva.com
SUMMARY:Town Council Monthly Meeting
DESCRIPTION:The Fries Town Council meets the first Tuesday of every month at 7 p.m.at The Historic Fries Theatre.  The meeting is open to the public.
URL:https://friesva.com/event/town-council-monthly-meeting-3-2-2-2/2026-08-04/
LOCATION:The Historic Fries Theatre\, 316 W. Main Street\, Fries\, Virginia\, 24330
ORGANIZER;CN="Town of Fries":MAILTO:townoffries@friesva.com
END:VEVENT
BEGIN:VEVENT
DTSTART;TZID=America/New_York:20260806T190000
DTEND;TZID=America/New_York:20260806T210000
DTSTAMP:20260423T184654
CREATED:20250512T231859Z
LAST-MODIFIED:20260325T055221Z
UID:10001242-1786042800-1786050000@friesva.com
SUMMARY:Thursday Night Jam Session
DESCRIPTION:Folks from all over the world find their way to the historic Fries Theatre for the weekly Thursday night jams. All visitors are welcome to mingle with the local residents who gather for a relaxing evening of old-time music and fellowship. The Fries jams are an affiliated venue on the famous Crooked Road – Virginia’s Heritage Music Trail. \nBring a banjo\, dulcimer\, guitar\, fiddle\, or bass\, and join in the music circle. And there’s dancing all evening. If you don’t know the traditional two-step waltz\, just ask and someone will help. The jams are for all ages. \nDoors open every Thursday by 5:30 p.m. and the music runs from 7 – 9 p.m. During a break\, around 8 p.m.\, there’s a real cake walk and the winner in this jolly tradition takes home a cake or other baked treat. \nThe jams are free\, but donations are gratefully accepted. Refreshments are available. \n 
URL:https://friesva.com/event/thursday-night-jam-session-5/2026-08-06/
LOCATION:The Historic Fries Theatre\, 316 W. Main Street\, Fries\, Virginia\, 24330
ATTACH;FMTTYPE=image/jpeg:https://friesva.com/wp-content/uploads/2022/07/2021-11-18-Fries-Jam_9809.jpg
ORGANIZER;CN="The Historic Fries Theatre":MAILTO:theatre@friesva.com
END:VEVENT
BEGIN:VEVENT
DTSTART;TZID=America/New_York:20260808T090000
DTEND;TZID=America/New_York:20260808T130000
DTSTAMP:20260423T184654
CREATED:20251101T014547Z
LAST-MODIFIED:20251101T113202Z
UID:10001165-1786179600-1786194000@friesva.com
SUMMARY:Fries Town Market
DESCRIPTION:Market opens every Saturday – food\, art\, crafts and more! Moved inside to the Community Center. \nFree coffee provided by the Town of Fries. \n  \n 
URL:https://friesva.com/event/fries-town-market-2/2026-08-08/
LOCATION:Fries Community Center\, 316 W. Main Street\, Fries\, Virginia\, 24330
ATTACH;FMTTYPE=image/jpeg:https://friesva.com/wp-content/uploads/2025/06/Depot.00_03_25_19.Still002-scaled.jpg
ORGANIZER;CN="Town of Fries":MAILTO:townoffries@friesva.com
END:VEVENT
BEGIN:VEVENT
DTSTART;TZID=America/New_York:20260813T190000
DTEND;TZID=America/New_York:20260813T210000
DTSTAMP:20260423T184654
CREATED:20250512T231859Z
LAST-MODIFIED:20260325T055221Z
UID:10001243-1786647600-1786654800@friesva.com
SUMMARY:Thursday Night Jam Session
DESCRIPTION:Folks from all over the world find their way to the historic Fries Theatre for the weekly Thursday night jams. All visitors are welcome to mingle with the local residents who gather for a relaxing evening of old-time music and fellowship. The Fries jams are an affiliated venue on the famous Crooked Road – Virginia’s Heritage Music Trail. \nBring a banjo\, dulcimer\, guitar\, fiddle\, or bass\, and join in the music circle. And there’s dancing all evening. If you don’t know the traditional two-step waltz\, just ask and someone will help. The jams are for all ages. \nDoors open every Thursday by 5:30 p.m. and the music runs from 7 – 9 p.m. During a break\, around 8 p.m.\, there’s a real cake walk and the winner in this jolly tradition takes home a cake or other baked treat. \nThe jams are free\, but donations are gratefully accepted. Refreshments are available. \n 
URL:https://friesva.com/event/thursday-night-jam-session-5/2026-08-13/
LOCATION:The Historic Fries Theatre\, 316 W. Main Street\, Fries\, Virginia\, 24330
ATTACH;FMTTYPE=image/jpeg:https://friesva.com/wp-content/uploads/2022/07/2021-11-18-Fries-Jam_9809.jpg
ORGANIZER;CN="The Historic Fries Theatre":MAILTO:theatre@friesva.com
END:VEVENT
BEGIN:VEVENT
DTSTART;TZID=America/New_York:20260815T080000
DTEND;TZID=America/New_York:20260815T170000
DTSTAMP:20260423T184654
CREATED:20260215T114236Z
LAST-MODIFIED:20260215T114236Z
UID:10001201-1786780800-1786813200@friesva.com
SUMMARY:Breakfast Drive Thru
DESCRIPTION:8 a.m. – 12 p.m.
URL:https://friesva.com/event/breakfast-drive-thru/
LOCATION:Fries Fire & Rescue\, 832 E. Main St.\, Fries\, Virginia\, 24330
ATTACH;FMTTYPE=image/jpeg:https://friesva.com/wp-content/uploads/2026/02/Breakfast-Drive-Thru.jpg
END:VEVENT
BEGIN:VEVENT
DTSTART;TZID=America/New_York:20260815T090000
DTEND;TZID=America/New_York:20260815T130000
DTSTAMP:20260423T184654
CREATED:20251101T014547Z
LAST-MODIFIED:20251101T113202Z
UID:10001166-1786784400-1786798800@friesva.com
SUMMARY:Fries Town Market
DESCRIPTION:Market opens every Saturday – food\, art\, crafts and more! Moved inside to the Community Center. \nFree coffee provided by the Town of Fries. \n  \n 
URL:https://friesva.com/event/fries-town-market-2/2026-08-15/
LOCATION:Fries Community Center\, 316 W. Main Street\, Fries\, Virginia\, 24330
ATTACH;FMTTYPE=image/jpeg:https://friesva.com/wp-content/uploads/2025/06/Depot.00_03_25_19.Still002-scaled.jpg
ORGANIZER;CN="Town of Fries":MAILTO:townoffries@friesva.com
END:VEVENT
BEGIN:VEVENT
DTSTART;TZID=America/New_York:20260820T190000
DTEND;TZID=America/New_York:20260820T210000
DTSTAMP:20260423T184654
CREATED:20250512T231859Z
LAST-MODIFIED:20260325T055221Z
UID:10001244-1787252400-1787259600@friesva.com
SUMMARY:Thursday Night Jam Session
DESCRIPTION:Folks from all over the world find their way to the historic Fries Theatre for the weekly Thursday night jams. All visitors are welcome to mingle with the local residents who gather for a relaxing evening of old-time music and fellowship. The Fries jams are an affiliated venue on the famous Crooked Road – Virginia’s Heritage Music Trail. \nBring a banjo\, dulcimer\, guitar\, fiddle\, or bass\, and join in the music circle. And there’s dancing all evening. If you don’t know the traditional two-step waltz\, just ask and someone will help. The jams are for all ages. \nDoors open every Thursday by 5:30 p.m. and the music runs from 7 – 9 p.m. During a break\, around 8 p.m.\, there’s a real cake walk and the winner in this jolly tradition takes home a cake or other baked treat. \nThe jams are free\, but donations are gratefully accepted. Refreshments are available. \n 
URL:https://friesva.com/event/thursday-night-jam-session-5/2026-08-20/
LOCATION:The Historic Fries Theatre\, 316 W. Main Street\, Fries\, Virginia\, 24330
ATTACH;FMTTYPE=image/jpeg:https://friesva.com/wp-content/uploads/2022/07/2021-11-18-Fries-Jam_9809.jpg
ORGANIZER;CN="The Historic Fries Theatre":MAILTO:theatre@friesva.com
END:VEVENT
BEGIN:VEVENT
DTSTART;TZID=America/New_York:20260822T090000
DTEND;TZID=America/New_York:20260822T130000
DTSTAMP:20260423T184654
CREATED:20251101T014547Z
LAST-MODIFIED:20251101T113202Z
UID:10001167-1787389200-1787403600@friesva.com
SUMMARY:Fries Town Market
DESCRIPTION:Market opens every Saturday – food\, art\, crafts and more! Moved inside to the Community Center. \nFree coffee provided by the Town of Fries. \n  \n 
URL:https://friesva.com/event/fries-town-market-2/2026-08-22/
LOCATION:Fries Community Center\, 316 W. Main Street\, Fries\, Virginia\, 24330
ATTACH;FMTTYPE=image/jpeg:https://friesva.com/wp-content/uploads/2025/06/Depot.00_03_25_19.Still002-scaled.jpg
ORGANIZER;CN="Town of Fries":MAILTO:townoffries@friesva.com
END:VEVENT
BEGIN:VEVENT
DTSTART;TZID=America/New_York:20260822T140000
DTEND;TZID=America/New_York:20260822T190000
DTSTAMP:20260423T184654
CREATED:20260211T111003Z
LAST-MODIFIED:20260211T111003Z
UID:10001193-1787407200-1787425200@friesva.com
SUMMARY:Thunder by the River - Classic Car Cruise-IN
DESCRIPTION:2026 Dates have been announced: \nMay 23 \nJune 20 \nJuly 18 \nAug 22 \nSept 19 \nOct 17 \n 
URL:https://friesva.com/event/thunder-by-the-river-classic-car-cruise-in-4/2026-08-22/
ATTACH;FMTTYPE=image/jpeg:https://friesva.com/wp-content/uploads/2023/01/2022-06-18-Cruise-In_2508.jpg
END:VEVENT
BEGIN:VEVENT
DTSTART;TZID=America/New_York:20260822T170000
DTEND;TZID=America/New_York:20260822T210000
DTSTAMP:20260423T184654
CREATED:20260215T115005Z
LAST-MODIFIED:20260217T112517Z
UID:10001202-1787418000-1787432400@friesva.com
SUMMARY:Draw Down Dinner
DESCRIPTION:$75 meal ticket \n$40 chance ticket
URL:https://friesva.com/event/draw-down-dinner-2/
LOCATION:Fries Fire & Rescue\, 832 E. Main St.\, Fries\, Virginia\, 24330
ATTACH;FMTTYPE=image/jpeg:https://friesva.com/wp-content/uploads/2026/02/Fries-FIre-draw-down-dinner.jpg
END:VEVENT
BEGIN:VEVENT
DTSTART;TZID=America/New_York:20260827T190000
DTEND;TZID=America/New_York:20260827T210000
DTSTAMP:20260423T184654
CREATED:20250512T231859Z
LAST-MODIFIED:20260325T055221Z
UID:10001245-1787857200-1787864400@friesva.com
SUMMARY:Thursday Night Jam Session
DESCRIPTION:Folks from all over the world find their way to the historic Fries Theatre for the weekly Thursday night jams. All visitors are welcome to mingle with the local residents who gather for a relaxing evening of old-time music and fellowship. The Fries jams are an affiliated venue on the famous Crooked Road – Virginia’s Heritage Music Trail. \nBring a banjo\, dulcimer\, guitar\, fiddle\, or bass\, and join in the music circle. And there’s dancing all evening. If you don’t know the traditional two-step waltz\, just ask and someone will help. The jams are for all ages. \nDoors open every Thursday by 5:30 p.m. and the music runs from 7 – 9 p.m. During a break\, around 8 p.m.\, there’s a real cake walk and the winner in this jolly tradition takes home a cake or other baked treat. \nThe jams are free\, but donations are gratefully accepted. Refreshments are available. \n 
URL:https://friesva.com/event/thursday-night-jam-session-5/2026-08-27/
LOCATION:The Historic Fries Theatre\, 316 W. Main Street\, Fries\, Virginia\, 24330
ATTACH;FMTTYPE=image/jpeg:https://friesva.com/wp-content/uploads/2022/07/2021-11-18-Fries-Jam_9809.jpg
ORGANIZER;CN="The Historic Fries Theatre":MAILTO:theatre@friesva.com
END:VEVENT
BEGIN:VEVENT
DTSTART;TZID=America/New_York:20260829T090000
DTEND;TZID=America/New_York:20260829T130000
DTSTAMP:20260423T184654
CREATED:20251101T014547Z
LAST-MODIFIED:20251101T113202Z
UID:10001168-1787994000-1788008400@friesva.com
SUMMARY:Fries Town Market
DESCRIPTION:Market opens every Saturday – food\, art\, crafts and more! Moved inside to the Community Center. \nFree coffee provided by the Town of Fries. \n  \n 
URL:https://friesva.com/event/fries-town-market-2/2026-08-29/
LOCATION:Fries Community Center\, 316 W. Main Street\, Fries\, Virginia\, 24330
ATTACH;FMTTYPE=image/jpeg:https://friesva.com/wp-content/uploads/2025/06/Depot.00_03_25_19.Still002-scaled.jpg
ORGANIZER;CN="Town of Fries":MAILTO:townoffries@friesva.com
END:VEVENT
END:VCALENDAR