BEGIN:VCALENDAR
VERSION:2.0
PRODID:-// - ECPv6.15.20//NONSGML v1.0//EN
CALSCALE:GREGORIAN
METHOD:PUBLISH
X-ORIGINAL-URL:https://friesva.com
X-WR-CALDESC:Events for 
REFRESH-INTERVAL;VALUE=DURATION:PT1H
X-Robots-Tag:noindex
X-PUBLISHED-TTL:PT1H
BEGIN:VTIMEZONE
TZID:America/New_York
BEGIN:DAYLIGHT
TZOFFSETFROM:-0500
TZOFFSETTO:-0400
TZNAME:EDT
DTSTART:20270314T070000
END:DAYLIGHT
BEGIN:STANDARD
TZOFFSETFROM:-0400
TZOFFSETTO:-0500
TZNAME:EST
DTSTART:20271107T060000
END:STANDARD
BEGIN:DAYLIGHT
TZOFFSETFROM:-0500
TZOFFSETTO:-0400
TZNAME:EDT
DTSTART:20280312T070000
END:DAYLIGHT
BEGIN:STANDARD
TZOFFSETFROM:-0400
TZOFFSETTO:-0500
TZNAME:EST
DTSTART:20281105T060000
END:STANDARD
BEGIN:DAYLIGHT
TZOFFSETFROM:-0500
TZOFFSETTO:-0400
TZNAME:EDT
DTSTART:20290311T070000
END:DAYLIGHT
BEGIN:STANDARD
TZOFFSETFROM:-0400
TZOFFSETTO:-0500
TZNAME:EST
DTSTART:20291104T060000
END:STANDARD
END:VTIMEZONE
BEGIN:VEVENT
DTSTART;TZID=America/New_York:20280801T190000
DTEND;TZID=America/New_York:20280801T200000
DTSTAMP:20260425T121149
CREATED:20250902T195311Z
LAST-MODIFIED:20250902T195614Z
UID:10000416-1848769200-1848772800@friesva.com
SUMMARY:Town Council Monthly Meeting
DESCRIPTION:The Fries Town Council meets the first Tuesday of every month at 7 p.m.at The Historic Fries Theatre.  The meeting is open to the public.
URL:https://friesva.com/event/town-council-monthly-meeting-3-2-2-2/2028-08-01/
LOCATION:The Historic Fries Theatre\, 316 W. Main Street\, Fries\, Virginia\, 24330
ORGANIZER;CN="Town of Fries":MAILTO:townoffries@friesva.com
END:VEVENT
BEGIN:VEVENT
DTSTART;TZID=America/New_York:20280803T190000
DTEND;TZID=America/New_York:20280803T210000
DTSTAMP:20260425T121149
CREATED:20250512T231859Z
LAST-MODIFIED:20260325T055221Z
UID:10001346-1848942000-1848949200@friesva.com
SUMMARY:Thursday Night Jam Session
DESCRIPTION:Folks from all over the world find their way to the historic Fries Theatre for the weekly Thursday night jams. All visitors are welcome to mingle with the local residents who gather for a relaxing evening of old-time music and fellowship. The Fries jams are an affiliated venue on the famous Crooked Road – Virginia’s Heritage Music Trail. \nBring a banjo\, dulcimer\, guitar\, fiddle\, or bass\, and join in the music circle. And there’s dancing all evening. If you don’t know the traditional two-step waltz\, just ask and someone will help. The jams are for all ages. \nDoors open every Thursday by 5:30 p.m. and the music runs from 7 – 9 p.m. During a break\, around 8 p.m.\, there’s a real cake walk and the winner in this jolly tradition takes home a cake or other baked treat. \nThe jams are free\, but donations are gratefully accepted. Refreshments are available. \n 
URL:https://friesva.com/event/thursday-night-jam-session-5/2028-08-03/
LOCATION:The Historic Fries Theatre\, 316 W. Main Street\, Fries\, Virginia\, 24330
ATTACH;FMTTYPE=image/jpeg:https://friesva.com/wp-content/uploads/2022/07/2021-11-18-Fries-Jam_9809.jpg
ORGANIZER;CN="The Historic Fries Theatre":MAILTO:theatre@friesva.com
END:VEVENT
BEGIN:VEVENT
DTSTART;TZID=America/New_York:20280810T190000
DTEND;TZID=America/New_York:20280810T210000
DTSTAMP:20260425T121149
CREATED:20250512T231859Z
LAST-MODIFIED:20260325T055221Z
UID:10001347-1849546800-1849554000@friesva.com
SUMMARY:Thursday Night Jam Session
DESCRIPTION:Folks from all over the world find their way to the historic Fries Theatre for the weekly Thursday night jams. All visitors are welcome to mingle with the local residents who gather for a relaxing evening of old-time music and fellowship. The Fries jams are an affiliated venue on the famous Crooked Road – Virginia’s Heritage Music Trail. \nBring a banjo\, dulcimer\, guitar\, fiddle\, or bass\, and join in the music circle. And there’s dancing all evening. If you don’t know the traditional two-step waltz\, just ask and someone will help. The jams are for all ages. \nDoors open every Thursday by 5:30 p.m. and the music runs from 7 – 9 p.m. During a break\, around 8 p.m.\, there’s a real cake walk and the winner in this jolly tradition takes home a cake or other baked treat. \nThe jams are free\, but donations are gratefully accepted. Refreshments are available. \n 
URL:https://friesva.com/event/thursday-night-jam-session-5/2028-08-10/
LOCATION:The Historic Fries Theatre\, 316 W. Main Street\, Fries\, Virginia\, 24330
ATTACH;FMTTYPE=image/jpeg:https://friesva.com/wp-content/uploads/2022/07/2021-11-18-Fries-Jam_9809.jpg
ORGANIZER;CN="The Historic Fries Theatre":MAILTO:theatre@friesva.com
END:VEVENT
BEGIN:VEVENT
DTSTART;TZID=America/New_York:20280817T190000
DTEND;TZID=America/New_York:20280817T210000
DTSTAMP:20260425T121149
CREATED:20250512T231859Z
LAST-MODIFIED:20260325T055221Z
UID:10001348-1850151600-1850158800@friesva.com
SUMMARY:Thursday Night Jam Session
DESCRIPTION:Folks from all over the world find their way to the historic Fries Theatre for the weekly Thursday night jams. All visitors are welcome to mingle with the local residents who gather for a relaxing evening of old-time music and fellowship. The Fries jams are an affiliated venue on the famous Crooked Road – Virginia’s Heritage Music Trail. \nBring a banjo\, dulcimer\, guitar\, fiddle\, or bass\, and join in the music circle. And there’s dancing all evening. If you don’t know the traditional two-step waltz\, just ask and someone will help. The jams are for all ages. \nDoors open every Thursday by 5:30 p.m. and the music runs from 7 – 9 p.m. During a break\, around 8 p.m.\, there’s a real cake walk and the winner in this jolly tradition takes home a cake or other baked treat. \nThe jams are free\, but donations are gratefully accepted. Refreshments are available. \n 
URL:https://friesva.com/event/thursday-night-jam-session-5/2028-08-17/
LOCATION:The Historic Fries Theatre\, 316 W. Main Street\, Fries\, Virginia\, 24330
ATTACH;FMTTYPE=image/jpeg:https://friesva.com/wp-content/uploads/2022/07/2021-11-18-Fries-Jam_9809.jpg
ORGANIZER;CN="The Historic Fries Theatre":MAILTO:theatre@friesva.com
END:VEVENT
BEGIN:VEVENT
DTSTART;TZID=America/New_York:20280824T190000
DTEND;TZID=America/New_York:20280824T210000
DTSTAMP:20260425T121149
CREATED:20250512T231859Z
LAST-MODIFIED:20260325T055221Z
UID:10001349-1850756400-1850763600@friesva.com
SUMMARY:Thursday Night Jam Session
DESCRIPTION:Folks from all over the world find their way to the historic Fries Theatre for the weekly Thursday night jams. All visitors are welcome to mingle with the local residents who gather for a relaxing evening of old-time music and fellowship. The Fries jams are an affiliated venue on the famous Crooked Road – Virginia’s Heritage Music Trail. \nBring a banjo\, dulcimer\, guitar\, fiddle\, or bass\, and join in the music circle. And there’s dancing all evening. If you don’t know the traditional two-step waltz\, just ask and someone will help. The jams are for all ages. \nDoors open every Thursday by 5:30 p.m. and the music runs from 7 – 9 p.m. During a break\, around 8 p.m.\, there’s a real cake walk and the winner in this jolly tradition takes home a cake or other baked treat. \nThe jams are free\, but donations are gratefully accepted. Refreshments are available. \n 
URL:https://friesva.com/event/thursday-night-jam-session-5/2028-08-24/
LOCATION:The Historic Fries Theatre\, 316 W. Main Street\, Fries\, Virginia\, 24330
ATTACH;FMTTYPE=image/jpeg:https://friesva.com/wp-content/uploads/2022/07/2021-11-18-Fries-Jam_9809.jpg
ORGANIZER;CN="The Historic Fries Theatre":MAILTO:theatre@friesva.com
END:VEVENT
BEGIN:VEVENT
DTSTART;TZID=America/New_York:20280831T190000
DTEND;TZID=America/New_York:20280831T210000
DTSTAMP:20260425T121149
CREATED:20250512T231859Z
LAST-MODIFIED:20260325T055221Z
UID:10001350-1851361200-1851368400@friesva.com
SUMMARY:Thursday Night Jam Session
DESCRIPTION:Folks from all over the world find their way to the historic Fries Theatre for the weekly Thursday night jams. All visitors are welcome to mingle with the local residents who gather for a relaxing evening of old-time music and fellowship. The Fries jams are an affiliated venue on the famous Crooked Road – Virginia’s Heritage Music Trail. \nBring a banjo\, dulcimer\, guitar\, fiddle\, or bass\, and join in the music circle. And there’s dancing all evening. If you don’t know the traditional two-step waltz\, just ask and someone will help. The jams are for all ages. \nDoors open every Thursday by 5:30 p.m. and the music runs from 7 – 9 p.m. During a break\, around 8 p.m.\, there’s a real cake walk and the winner in this jolly tradition takes home a cake or other baked treat. \nThe jams are free\, but donations are gratefully accepted. Refreshments are available. \n 
URL:https://friesva.com/event/thursday-night-jam-session-5/2028-08-31/
LOCATION:The Historic Fries Theatre\, 316 W. Main Street\, Fries\, Virginia\, 24330
ATTACH;FMTTYPE=image/jpeg:https://friesva.com/wp-content/uploads/2022/07/2021-11-18-Fries-Jam_9809.jpg
ORGANIZER;CN="The Historic Fries Theatre":MAILTO:theatre@friesva.com
END:VEVENT
END:VCALENDAR