BEGIN:VCALENDAR
VERSION:2.0
PRODID:-// - ECPv6.15.20//NONSGML v1.0//EN
CALSCALE:GREGORIAN
METHOD:PUBLISH
X-ORIGINAL-URL:https://friesva.com
X-WR-CALDESC:Events for 
REFRESH-INTERVAL;VALUE=DURATION:PT1H
X-Robots-Tag:noindex
X-PUBLISHED-TTL:PT1H
BEGIN:VTIMEZONE
TZID:America/New_York
BEGIN:DAYLIGHT
TZOFFSETFROM:-0500
TZOFFSETTO:-0400
TZNAME:EDT
DTSTART:20230312T070000
END:DAYLIGHT
BEGIN:STANDARD
TZOFFSETFROM:-0400
TZOFFSETTO:-0500
TZNAME:EST
DTSTART:20231105T060000
END:STANDARD
BEGIN:DAYLIGHT
TZOFFSETFROM:-0500
TZOFFSETTO:-0400
TZNAME:EDT
DTSTART:20240310T070000
END:DAYLIGHT
BEGIN:STANDARD
TZOFFSETFROM:-0400
TZOFFSETTO:-0500
TZNAME:EST
DTSTART:20241103T060000
END:STANDARD
BEGIN:DAYLIGHT
TZOFFSETFROM:-0500
TZOFFSETTO:-0400
TZNAME:EDT
DTSTART:20250309T070000
END:DAYLIGHT
BEGIN:STANDARD
TZOFFSETFROM:-0400
TZOFFSETTO:-0500
TZNAME:EST
DTSTART:20251102T060000
END:STANDARD
END:VTIMEZONE
BEGIN:VEVENT
DTSTART;TZID=America/New_York:20241207T080000
DTEND;TZID=America/New_York:20241207T140000
DTSTAMP:20260423T200719
CREATED:20241203T105455Z
LAST-MODIFIED:20241203T105455Z
UID:10000759-1733558400-1733580000@friesva.com
SUMMARY:Christmas on the Mountain
DESCRIPTION:
URL:https://friesva.com/event/christmas-on-the-mountain-3/
LOCATION:Fries Community Center\, 316 W. Main Street\, Fries\, Virginia\, 24330
ATTACH;FMTTYPE=image/jpeg:https://friesva.com/wp-content/uploads/2024/12/Christmas-Mtn-2024.jpg
END:VEVENT
BEGIN:VEVENT
DTSTART;TZID=America/New_York:20241005T090000
DTEND;TZID=America/New_York:20241005T140000
DTSTAMP:20260423T200719
CREATED:20240903T213102Z
LAST-MODIFIED:20241008T094820Z
UID:10000680-1728118800-1728136800@friesva.com
SUMMARY:Fall Festival and 5K
DESCRIPTION:NOTICE: FALL FESTIVAL HAS BEEN MOVED TO PROVIDENCE SCHOOL. THE 5K IS NOW A ‘VIRTUAL” 5K. SEE COMMUNITY CENTER FACEBOOK PAGE FOR MORE DETAILS. \nThe day will begin with a 5K Run & Walk along the new river trail at 9:00am. Festival will be in the Fries park. Entrance to the festival is FREE. We have some great music lined up on the stage at the park throughout the day including: The New Ballards Branch Bogtrotters\, The Hooligans\, Phillip & Elizabeth Vaughan and Nicole Linkous & Chris Smith. We will have bouncy houses and barrel train rides for FREE. While supplies last kids get a free pumpkin to paint. Various vendors will be set up from 9-2 including Grounded Coffee\, Boutique clothing\, Scentsy\, The Cookie Co.\, Southern Wick Candle Co.\, Pampered Chef\, Mary Kay\, Trish’s Earring Bling\, and many others selling homemade items. We have a vendor who will have pony rides for $5 and face painting. If you would like to set up as a vendor please contact 276-233-1876 https://runsignup.com/…/FriesCommunityCenter5KRiverRunWalk? \n 
URL:https://friesva.com/event/fall-festival-and-5k/
LOCATION:Fries Town Park\, Fries\, Virginia\, 24330
ATTACH;FMTTYPE=image/jpeg:https://friesva.com/wp-content/uploads/2024/09/453096089_7214208785277969_3344092899670808827_n.jpg
END:VEVENT
BEGIN:VEVENT
DTSTART;TZID=America/New_York:20240524T130000
DTEND;TZID=America/New_York:20240524T170000
DTSTAMP:20260423T200719
CREATED:20240524T145550Z
LAST-MODIFIED:20240524T145550Z
UID:10000618-1716555600-1716570000@friesva.com
SUMMARY:Pool Summer Opening
DESCRIPTION:$2 swim \nConcessions available
URL:https://friesva.com/event/pool-summer-opening/
LOCATION:Fries Community Center\, 316 W. Main Street\, Fries\, Virginia\, 24330
ATTACH;FMTTYPE=image/jpeg:https://friesva.com/wp-content/uploads/2022/07/0706221331a.jpg
END:VEVENT
END:VCALENDAR