BEGIN:VCALENDAR
VERSION:2.0
PRODID:-// - ECPv6.15.20//NONSGML v1.0//EN
CALSCALE:GREGORIAN
METHOD:PUBLISH
X-ORIGINAL-URL:https://friesva.com
X-WR-CALDESC:Events for 
REFRESH-INTERVAL;VALUE=DURATION:PT1H
X-Robots-Tag:noindex
X-PUBLISHED-TTL:PT1H
BEGIN:VTIMEZONE
TZID:America/New_York
BEGIN:DAYLIGHT
TZOFFSETFROM:-0500
TZOFFSETTO:-0400
TZNAME:EDT
DTSTART:20220313T070000
END:DAYLIGHT
BEGIN:STANDARD
TZOFFSETFROM:-0400
TZOFFSETTO:-0500
TZNAME:EST
DTSTART:20221106T060000
END:STANDARD
BEGIN:DAYLIGHT
TZOFFSETFROM:-0500
TZOFFSETTO:-0400
TZNAME:EDT
DTSTART:20230312T070000
END:DAYLIGHT
BEGIN:STANDARD
TZOFFSETFROM:-0400
TZOFFSETTO:-0500
TZNAME:EST
DTSTART:20231105T060000
END:STANDARD
BEGIN:DAYLIGHT
TZOFFSETFROM:-0500
TZOFFSETTO:-0400
TZNAME:EDT
DTSTART:20240310T070000
END:DAYLIGHT
BEGIN:STANDARD
TZOFFSETFROM:-0400
TZOFFSETTO:-0500
TZNAME:EST
DTSTART:20241103T060000
END:STANDARD
BEGIN:DAYLIGHT
TZOFFSETFROM:-0500
TZOFFSETTO:-0400
TZNAME:EDT
DTSTART:20250309T070000
END:DAYLIGHT
BEGIN:STANDARD
TZOFFSETFROM:-0400
TZOFFSETTO:-0500
TZNAME:EST
DTSTART:20251102T060000
END:STANDARD
BEGIN:DAYLIGHT
TZOFFSETFROM:-0500
TZOFFSETTO:-0400
TZNAME:EDT
DTSTART:20260308T070000
END:DAYLIGHT
BEGIN:STANDARD
TZOFFSETFROM:-0400
TZOFFSETTO:-0500
TZNAME:EST
DTSTART:20261101T060000
END:STANDARD
BEGIN:DAYLIGHT
TZOFFSETFROM:-0500
TZOFFSETTO:-0400
TZNAME:EDT
DTSTART:20270314T070000
END:DAYLIGHT
BEGIN:STANDARD
TZOFFSETFROM:-0400
TZOFFSETTO:-0500
TZNAME:EST
DTSTART:20271107T060000
END:STANDARD
END:VTIMEZONE
BEGIN:VEVENT
DTSTART;TZID=America/New_York:20260328T180000
DTEND;TZID=America/New_York:20260328T210000
DTSTAMP:20260423T162247
CREATED:20260211T111810Z
LAST-MODIFIED:20260215T113015Z
UID:10001196-1774720800-1774731600@friesva.com
SUMMARY:Bingo
DESCRIPTION:Bingo at the Firehouse – Sponsored by Fries Fire & Rescue \nDoors open at 4. Bingo starts at 6.
URL:https://friesva.com/event/bingo-7/
LOCATION:Fries Fire & Rescue\, 832 E. Main St.\, Fries\, Virginia\, 24330
ATTACH;FMTTYPE=image/jpeg:https://friesva.com/wp-content/uploads/2023/02/BINGO-graphic.jpeg
END:VEVENT
BEGIN:VEVENT
DTSTART;TZID=America/New_York:20251206T160000
DTEND;TZID=America/New_York:20251206T180000
DTSTAMP:20260423T162247
CREATED:20251116T120026Z
LAST-MODIFIED:20251116T120026Z
UID:10001187-1765036800-1765044000@friesva.com
SUMMARY:Christmas Parade sponsored by Fries Fire & Rescue
DESCRIPTION:Lineup starts at 3 p.m. \nParade begins at 4 p.m. \nRefreshments with Santa following the parade at Fries Fire and Rescue.
URL:https://friesva.com/event/christmas-parade-sponsored-by-fries-fire-rescue-3/
ATTACH;FMTTYPE=image/jpeg:https://friesva.com/wp-content/uploads/2023/10/2022-12-03-Christmas-Parade_2442.jpg
END:VEVENT
BEGIN:VEVENT
DTSTART;TZID=America/New_York:20251108T160000
DTEND;TZID=America/New_York:20251108T210000
DTSTAMP:20260423T162247
CREATED:20250217T111846Z
LAST-MODIFIED:20250217T111846Z
UID:10000822-1762617600-1762635600@friesva.com
SUMMARY:Bingo
DESCRIPTION:Bingo at Fries Fire House – doors open at 4\, bingo starts at 5.
URL:https://friesva.com/event/bingo-6/
LOCATION:Fries Fire & Rescue\, 832 E. Main St.\, Fries\, Virginia\, 24330
ATTACH;FMTTYPE=image/jpeg:https://friesva.com/wp-content/uploads/2023/02/BINGO-graphic.jpeg
END:VEVENT
BEGIN:VEVENT
DTSTART;TZID=America/New_York:20251031T160000
DTEND;TZID=America/New_York:20251031T190000
DTSTAMP:20260423T162247
CREATED:20250217T111635Z
LAST-MODIFIED:20250217T113328Z
UID:10000821-1761926400-1761937200@friesva.com
SUMMARY:Trunk or treat
DESCRIPTION:Trunk or treat at Fries Ballpark sponsored by Fries Fire & Rescue
URL:https://friesva.com/event/trunk-or-treat/
LOCATION:Fries Ball Park
ATTACH;FMTTYPE=image/jpeg:https://friesva.com/wp-content/uploads/2023/10/Screen-Shot-2022-10-07-at-11.09.57-PM-1.jpg
END:VEVENT
BEGIN:VEVENT
DTSTART;TZID=America/New_York:20251019T120000
DTEND;TZID=America/New_York:20251019T150000
DTSTAMP:20260423T162247
CREATED:20250217T111520Z
LAST-MODIFIED:20251016T080515Z
UID:10000820-1760875200-1760886000@friesva.com
SUMMARY:Chili drive thru
DESCRIPTION:Chili drive-thru at the Fries Fire House 12 noon – 3 p.m.
URL:https://friesva.com/event/chili-drive-thru/
LOCATION:Fries Fire & Rescue\, 832 E. Main St.\, Fries\, Virginia\, 24330
END:VEVENT
BEGIN:VEVENT
DTSTART;TZID=America/New_York:20251005T160000
DTEND;TZID=America/New_York:20251005T190000
DTSTAMP:20260423T162247
CREATED:20250217T111347Z
LAST-MODIFIED:20250217T111347Z
UID:10000819-1759680000-1759690800@friesva.com
SUMMARY:Fire prevention parade and awards
DESCRIPTION:Fire prevention parade and awards\, 4 p.m.
URL:https://friesva.com/event/fire-prevention-parade-and-awards/
END:VEVENT
BEGIN:VEVENT
DTSTART;TZID=America/New_York:20250913T080000
DTEND;TZID=America/New_York:20250913T170000
DTSTAMP:20260423T162247
CREATED:20250217T111213Z
LAST-MODIFIED:20250217T113626Z
UID:10000818-1757750400-1757782800@friesva.com
SUMMARY:Horse show and awards dinner
DESCRIPTION:Horse show and awards dinner  – Jamie Hyatt Arena\, Providence School
URL:https://friesva.com/event/horse-show-and-awards-dinner/
LOCATION:Fries Fire & Rescue\, 832 E. Main St.\, Fries\, Virginia\, 24330
ATTACH;FMTTYPE=image/jpeg:https://friesva.com/wp-content/uploads/2023/02/2016-05-07-Rodeo-7985-scaled.jpg
END:VEVENT
BEGIN:VEVENT
DTSTART;TZID=America/New_York:20250823T180000
DTEND;TZID=America/New_York:20250823T210000
DTSTAMP:20260423T162247
CREATED:20250217T111043Z
LAST-MODIFIED:20250217T111043Z
UID:10000817-1755972000-1755982800@friesva.com
SUMMARY:Draw down dinner
DESCRIPTION:Draw down dinner at Fries Fire House
URL:https://friesva.com/event/draw-down-dinner/
LOCATION:Fries Fire & Rescue\, 832 E. Main St.\, Fries\, Virginia\, 24330
END:VEVENT
BEGIN:VEVENT
DTSTART;TZID=America/New_York:20250705T170000
DTEND;TZID=America/New_York:20250705T213000
DTSTAMP:20260423T162247
CREATED:20250217T110933Z
LAST-MODIFIED:20250217T110933Z
UID:10000816-1751734800-1751751000@friesva.com
SUMMARY:Family and Friends by the River
DESCRIPTION:Family and Friends by the River\, 5pm until Fireworks \nFireworks at dark
URL:https://friesva.com/event/family-and-friends-by-the-river/
LOCATION:Big Bottom\, Fries\, 24330\, United States
END:VEVENT
BEGIN:VEVENT
DTSTART;TZID=America/New_York:20250704T133000
DTEND;TZID=America/New_York:20250704T143000
DTSTAMP:20260423T162247
CREATED:20250217T110743Z
LAST-MODIFIED:20250703T153526Z
UID:10000815-1751635800-1751639400@friesva.com
SUMMARY:July 4th Parade
DESCRIPTION:Parade is at 1:30 on July 4th.
URL:https://friesva.com/event/july-4th-parade/
END:VEVENT
BEGIN:VEVENT
DTSTART;TZID=America/New_York:20250628T080000
DTEND;TZID=America/New_York:20250628T180000
DTSTAMP:20260423T162247
CREATED:20250217T110619Z
LAST-MODIFIED:20250217T110619Z
UID:10000814-1751097600-1751133600@friesva.com
SUMMARY:Horse show
DESCRIPTION:Horse show at Jamie Hyatt Arena (Providence School)
URL:https://friesva.com/event/horse-show-3/
LOCATION:Jamie Hyatt Arena (at Old Providence School)\, 56 Bainbridge Road\, Fries\, Virginia\, 24330
END:VEVENT
BEGIN:VEVENT
DTSTART;TZID=America/New_York:20250502T080000
DTEND;TZID=America/New_York:20250502T170000
DTSTAMP:20260423T162247
CREATED:20250217T110459Z
LAST-MODIFIED:20250217T110459Z
UID:10000813-1746172800-1746205200@friesva.com
SUMMARY:Touch a truck
DESCRIPTION:Time and location pending
URL:https://friesva.com/event/touch-a-truck/
END:VEVENT
BEGIN:VEVENT
DTSTART;TZID=America/New_York:20250426T140000
DTEND;TZID=America/New_York:20250426T180000
DTSTAMP:20260423T162247
CREATED:20250217T110401Z
LAST-MODIFIED:20250217T110401Z
UID:10000812-1745676000-1745690400@friesva.com
SUMMARY:Cruise in and music
DESCRIPTION:Cruise in and music at the Jamie Hyatt Arena (at Providence School \n2 p.m – 6 p.m.
URL:https://friesva.com/event/cruise-in-and-music/
LOCATION:Jamie Hyatt Arena (at Old Providence School)\, 56 Bainbridge Road\, Fries\, Virginia\, 24330
END:VEVENT
BEGIN:VEVENT
DTSTART;TZID=America/New_York:20250406T120000
DTEND;TZID=America/New_York:20250406T140000
DTSTAMP:20260423T162247
CREATED:20250210T221838Z
LAST-MODIFIED:20250210T221838Z
UID:10000811-1743940800-1743948000@friesva.com
SUMMARY:Pancake drive thru at Fries Fire and Rescue
DESCRIPTION:Pancake drive thru from 12 p.m. – 2 p.m. at the fire house
URL:https://friesva.com/event/pancake-drive-thru-at-fries-fire-and-rescue/
LOCATION:Fries Fire & Rescue\, 832 E. Main St.\, Fries\, Virginia\, 24330
END:VEVENT
BEGIN:VEVENT
DTSTART;TZID=America/New_York:20250322T160000
DTEND;TZID=America/New_York:20250322T210000
DTSTAMP:20260423T162247
CREATED:20250210T221008Z
LAST-MODIFIED:20250210T221008Z
UID:10000810-1742659200-1742677200@friesva.com
SUMMARY:Bingo
DESCRIPTION:Bingo at the Fries Fire house \nDoors open at 4\, Bingo starts at 5
URL:https://friesva.com/event/bingo-5/
LOCATION:Fries Fire & Rescue\, 832 E. Main St.\, Fries\, Virginia\, 24330
ATTACH;FMTTYPE=image/jpeg:https://friesva.com/wp-content/uploads/2023/02/BINGO-graphic.jpeg
END:VEVENT
BEGIN:VEVENT
DTSTART;TZID=America/New_York:20250216T120000
DTEND;TZID=America/New_York:20250216T140000
DTSTAMP:20260423T162247
CREATED:20250210T220731Z
LAST-MODIFIED:20250210T220731Z
UID:10000809-1739707200-1739714400@friesva.com
SUMMARY:Taco dinner drive-thru
DESCRIPTION:Taco dinner drive thru at the Fries Fire house. \nFeb 16\, 12 p.m. – 2 p.m.
URL:https://friesva.com/event/taco-dinner-drive-thru/
LOCATION:Fries Fire & Rescue\, 832 E. Main St.\, Fries\, Virginia\, 24330
ATTACH;FMTTYPE=image/png:https://friesva.com/wp-content/uploads/2025/02/taco.png
END:VEVENT
BEGIN:VEVENT
DTSTART;TZID=America/New_York:20240921T150000
DTEND;TZID=America/New_York:20240921T210000
DTSTAMP:20260423T162247
CREATED:20240703T150013Z
LAST-MODIFIED:20240703T150013Z
UID:10000620-1726930800-1726952400@friesva.com
SUMMARY:Horse show - Fries Fire and Rescue
DESCRIPTION:Fries Fire and Rescue will have a horse show at the Jamie Hyatt Arena \nRain date September 28 \n  \n 
URL:https://friesva.com/event/horse-show-fries-fire-and-rescue/
LOCATION:Jamie Hyatt Arena (at Old Providence School)\, 56 Bainbridge Road\, Fries\, Virginia\, 24330
ATTACH;FMTTYPE=image/jpeg:https://friesva.com/wp-content/uploads/2023/02/2016-05-07-Rodeo-7985-scaled.jpg
END:VEVENT
BEGIN:VEVENT
DTSTART;TZID=America/New_York:20240706T213000
DTEND;TZID=America/New_York:20240706T220000
DTSTAMP:20260423T162247
CREATED:20240110T005627Z
LAST-MODIFIED:20240110T005627Z
UID:10000506-1720301400-1720303200@friesva.com
SUMMARY:Fireworks
DESCRIPTION:Fireworks start at 9:30. \n  \n 
URL:https://friesva.com/event/fireworks-2/
ATTACH;FMTTYPE=image/jpeg:https://friesva.com/wp-content/uploads/2023/06/2022-07-05-Fries-fireworks_4531.jpg
END:VEVENT
BEGIN:VEVENT
DTSTART;TZID=America/New_York:20240704T140000
DTEND;TZID=America/New_York:20240704T150000
DTSTAMP:20260423T162247
CREATED:20240110T005519Z
LAST-MODIFIED:20240628T084617Z
UID:10000505-1720101600-1720105200@friesva.com
SUMMARY:Fourth of July Parade
DESCRIPTION:Annual Independence Day Parade sponsored by Fries Fire and Rescue. Parade starts at Mill parking lot (line up at the mill parking lot at 1 p.m.) and makes its way through town on Main Street ending at the Fries Ball Park. \n  \nCalling all local tractor owners! Your participation in the July 4th parade is requested. Call Virgil Moore at 276-237-0233 if you’re interested. \nFestivities continue at the Ball Park following the parade. \n \n 
URL:https://friesva.com/event/fourth-of-july-parade/
ATTACH;FMTTYPE=image/jpeg:https://friesva.com/wp-content/uploads/2023/01/2022-07-02-Fries-parade_4421-scaled.jpg
END:VEVENT
BEGIN:VEVENT
DTSTART;TZID=America/New_York:20240504T170000
DTEND;TZID=America/New_York:20240504T200000
DTSTAMP:20260423T162247
CREATED:20240211T142727Z
LAST-MODIFIED:20240211T142727Z
UID:10000522-1714842000-1714852800@friesva.com
SUMMARY:Bingo
DESCRIPTION:Bingo night at Fries Fire and Rescue \nMore info to come
URL:https://friesva.com/event/bingo-4/
LOCATION:Fries Fire & Rescue\, 832 E. Main St.\, Fries\, Virginia\, 24330
ATTACH;FMTTYPE=image/jpeg:https://friesva.com/wp-content/uploads/2023/02/BINGO-graphic.jpeg
END:VEVENT
BEGIN:VEVENT
DTSTART;TZID=America/New_York:20240421T140000
DTEND;TZID=America/New_York:20240421T190000
DTSTAMP:20260423T162247
CREATED:20240211T142257Z
LAST-MODIFIED:20240211T142257Z
UID:10000520-1713708000-1713726000@friesva.com
SUMMARY:Poker Ride
DESCRIPTION:Poker Ride sponsored by Fries Fire & Rescue \nMore info to come \n 
URL:https://friesva.com/event/poker-ride-2/
LOCATION:Big Bottom\, Fries\, 24330\, United States
END:VEVENT
BEGIN:VEVENT
DTSTART;TZID=America/New_York:20240421T120000
DTEND;TZID=America/New_York:20240421T150000
DTSTAMP:20260423T162247
CREATED:20240211T142511Z
LAST-MODIFIED:20240211T142511Z
UID:10000521-1713700800-1713711600@friesva.com
SUMMARY:Spaghetti lunch drive-through
DESCRIPTION:At Fries Fire Hall. By donation
URL:https://friesva.com/event/spaghetti-lunch-drive-through/
LOCATION:Fries Fire & Rescue\, 832 E. Main St.\, Fries\, Virginia\, 24330
END:VEVENT
BEGIN:VEVENT
DTSTART;TZID=America/New_York:20240420T140000
DTEND;TZID=America/New_York:20240420T150000
DTSTAMP:20260423T162247
CREATED:20240403T002303Z
LAST-MODIFIED:20240403T002303Z
UID:10000615-1713621600-1713625200@friesva.com
SUMMARY:Ribbon Cutting Fries Fire Station #2
DESCRIPTION:Fries Fire and Rescue celebrates the grand opening of Fire Station #2 at the old Providence School.
URL:https://friesva.com/event/ribbon-cutting-fries-fire-station-2/
LOCATION:Fries FIre Station #2\, 56 Bainbridge Road\, Fries\, VA\, 24330\, United States
END:VEVENT
BEGIN:VEVENT
DTSTART;TZID=America/New_York:20240224T170000
DTEND;TZID=America/New_York:20240224T210000
DTSTAMP:20260423T162247
CREATED:20240211T141216Z
LAST-MODIFIED:20240211T141946Z
UID:10000504-1708794000-1708808400@friesva.com
SUMMARY:Rook Tournament CANCELLED!
DESCRIPTION:CANCELLED! \nRook Tournament sponsored by Fries Fire and Rescue – at the Firehouse. \nDoors open at 5. Games begin at 6.
URL:https://friesva.com/event/rook-tournament-2-2/
LOCATION:Fries Fire & Rescue\, 832 E. Main St.\, Fries\, Virginia\, 24330
ATTACH;FMTTYPE=image/jpeg:https://friesva.com/wp-content/uploads/2024/02/Rook_card_game_logo.jpg
END:VEVENT
BEGIN:VEVENT
DTSTART;TZID=America/New_York:20240210T170000
DTEND;TZID=America/New_York:20240210T210000
DTSTAMP:20260423T162247
CREATED:20240110T005345Z
LAST-MODIFIED:20240110T150344Z
UID:10000503-1707584400-1707598800@friesva.com
SUMMARY:Rook Tournament
DESCRIPTION:Rook Tournament sponsored by Fries FIre and Rescue – at the Firehouse. \nDoors open at 5. Games begin at 6.
URL:https://friesva.com/event/rook-tournament-2/2024-02-10/
LOCATION:Fries Fire & Rescue\, 832 E. Main St.\, Fries\, Virginia\, 24330
ATTACH;FMTTYPE=image/jpeg:https://friesva.com/wp-content/uploads/2023/02/Rook_card_game_logo.jpg
END:VEVENT
BEGIN:VEVENT
DTSTART;TZID=America/New_York:20231104T160000
DTEND;TZID=America/New_York:20231104T200000
DTSTAMP:20260423T162247
CREATED:20231002T134843Z
LAST-MODIFIED:20231002T134844Z
UID:10000276-1699113600-1699128000@friesva.com
SUMMARY:Bingo
DESCRIPTION:Bingo at the Firehouse sponsored by Fries FIre & Rescue
URL:https://friesva.com/event/bingo-3/
LOCATION:Fries Fire & Rescue\, 832 E. Main St.\, Fries\, Virginia\, 24330
ATTACH;FMTTYPE=image/jpeg:https://friesva.com/wp-content/uploads/2023/02/BINGO-graphic.jpeg
END:VEVENT
BEGIN:VEVENT
DTSTART;TZID=America/New_York:20230923T150000
DTEND;TZID=America/New_York:20230923T210000
DTSTAMP:20260423T162247
CREATED:20230821T204923Z
LAST-MODIFIED:20230821T204923Z
UID:10000347-1695481200-1695502800@friesva.com
SUMMARY:Horse Show
DESCRIPTION:
URL:https://friesva.com/event/horse-show-2/
LOCATION:Jamie Hyatt Arena (at Old Providence School)\, 56 Bainbridge Road\, Fries\, Virginia\, 24330
ATTACH;FMTTYPE=image/jpeg:https://friesva.com/wp-content/uploads/2023/02/2016-05-07-Rodeo-7985-scaled.jpg
END:VEVENT
BEGIN:VEVENT
DTSTART;TZID=America/New_York:20230827T140000
DTEND;TZID=America/New_York:20230827T190000
DTSTAMP:20260423T162247
CREATED:20230714T091353Z
LAST-MODIFIED:20230714T091353Z
UID:10000334-1693144800-1693162800@friesva.com
SUMMARY:Poker Ride
DESCRIPTION:Poker Ride sponsored by Fries Fire & Rescue \nRegistration at 2 p.m. \nRide starts at 3 p.m. \n$25 to participate. $5 for each additional passenger. \nAll types of bikes and cars welcome.
URL:https://friesva.com/event/poker-ride/
LOCATION:Big Bottom\, Fries\, 24330\, United States
END:VEVENT
BEGIN:VEVENT
DTSTART;TZID=America/New_York:20230805T120000
DTEND;TZID=America/New_York:20230805T230000
DTSTAMP:20260423T162247
CREATED:20230301T025233Z
LAST-MODIFIED:20230717T020505Z
UID:10000275-1691236800-1691276400@friesva.com
SUMMARY:Fries Fiddlers' Convention
DESCRIPTION:The 56th Annual Old Time Fiddlers and Bluegrass Convention will be held August 4th and 5th\, 2023 at the Fries Ballpark. Friday gates open at 4 p.m. and Saturday gates open at 12 p.m. \nIn addition\, the park will open Thursday\, August 3\, 2023 at 12 p.m. for campers.
URL:https://friesva.com/event/fries-fiddlers-convention/2023-08-05/
LOCATION:Fries Ball Park
ATTACH;FMTTYPE=image/jpeg:https://friesva.com/wp-content/uploads/2023/01/2022-08-06-Fries-Fiddlers_5630-a-studio-scaled.jpg
END:VEVENT
BEGIN:VEVENT
DTSTART;TZID=America/New_York:20230804T160000
DTEND;TZID=America/New_York:20230804T230000
DTSTAMP:20260423T162247
CREATED:20230301T025233Z
LAST-MODIFIED:20230717T020505Z
UID:10000274-1691164800-1691190000@friesva.com
SUMMARY:Fries Fiddlers' Convention
DESCRIPTION:The 56th Annual Old Time Fiddlers and Bluegrass Convention will be held August 4th and 5th\, 2023 at the Fries Ballpark. Friday gates open at 4 p.m. and Saturday gates open at 12 p.m. \nIn addition\, the park will open Thursday\, August 3\, 2023 at 12 p.m. for campers.
URL:https://friesva.com/event/fries-fiddlers-convention/2023-08-04/
LOCATION:Fries Ball Park
ATTACH;FMTTYPE=image/jpeg:https://friesva.com/wp-content/uploads/2023/01/2022-08-06-Fries-Fiddlers_5630-a-studio-scaled.jpg
END:VEVENT
END:VCALENDAR