BEGIN:VCALENDAR
VERSION:2.0
PRODID:-// - ECPv6.15.20//NONSGML v1.0//EN
CALSCALE:GREGORIAN
METHOD:PUBLISH
X-ORIGINAL-URL:https://friesva.com
X-WR-CALDESC:Events for 
REFRESH-INTERVAL;VALUE=DURATION:PT1H
X-Robots-Tag:noindex
X-PUBLISHED-TTL:PT1H
BEGIN:VTIMEZONE
TZID:America/New_York
BEGIN:DAYLIGHT
TZOFFSETFROM:-0500
TZOFFSETTO:-0400
TZNAME:EDT
DTSTART:20230312T070000
END:DAYLIGHT
BEGIN:STANDARD
TZOFFSETFROM:-0400
TZOFFSETTO:-0500
TZNAME:EST
DTSTART:20231105T060000
END:STANDARD
BEGIN:DAYLIGHT
TZOFFSETFROM:-0500
TZOFFSETTO:-0400
TZNAME:EDT
DTSTART:20240310T070000
END:DAYLIGHT
BEGIN:STANDARD
TZOFFSETFROM:-0400
TZOFFSETTO:-0500
TZNAME:EST
DTSTART:20241103T060000
END:STANDARD
BEGIN:DAYLIGHT
TZOFFSETFROM:-0500
TZOFFSETTO:-0400
TZNAME:EDT
DTSTART:20250309T070000
END:DAYLIGHT
BEGIN:STANDARD
TZOFFSETFROM:-0400
TZOFFSETTO:-0500
TZNAME:EST
DTSTART:20251102T060000
END:STANDARD
BEGIN:DAYLIGHT
TZOFFSETFROM:-0500
TZOFFSETTO:-0400
TZNAME:EDT
DTSTART:20260308T070000
END:DAYLIGHT
BEGIN:STANDARD
TZOFFSETFROM:-0400
TZOFFSETTO:-0500
TZNAME:EST
DTSTART:20261101T060000
END:STANDARD
END:VTIMEZONE
BEGIN:VEVENT
DTSTART;TZID=America/New_York:20250815T180000
DTEND;TZID=America/New_York:20250816T230000
DTSTAMP:20260423T194729
CREATED:20250217T115138Z
LAST-MODIFIED:20250217T115138Z
UID:10000824-1755280800-1755385200@friesva.com
SUMMARY:58th Annual Old-Time and Bluegrass Fiddlers' Convention
DESCRIPTION:58th Annual Old-time and Bluegrass Fiddlers’ Convention at the Fries Ballpark. \nGates open on Thursday at noon for camping. \nAugust 15th Friday evening – 6 p.m. – until \nAugust 16th Saturday afternoon youth contests\, adult folksong\, adult dance \nAugust 16th Saturday evening 0 6 p.m. – until \n  \nAdmission Friday $10 \nAdmission Saturday $15 \nFull weekend $20 \n  \n 
URL:https://friesva.com/event/58th-annual-old-time-and-bluegrass-fiddlers-convention/
LOCATION:Fries Ball Park
ATTACH;FMTTYPE=image/jpeg:https://friesva.com/wp-content/uploads/2024/02/Logo-final-small.jpg
ORGANIZER;CN="Fries Musical Heritage Committee":MAILTO:tourism@friesva.com
END:VEVENT
BEGIN:VEVENT
DTSTART;TZID=America/New_York:20250530T190000
DTEND;TZID=America/New_York:20250530T210000
DTSTAMP:20260423T194729
CREATED:20250507T101736Z
LAST-MODIFIED:20250507T101736Z
UID:10000855-1748631600-1748638800@friesva.com
SUMMARY:Fiddlers' Fundraiser
DESCRIPTION:The Fries Musical Heritage Committee is holding a fundraiser to raise money to buy the stage from Fries Fire & Rescue\, for its second year of operation\, and for scholarships for young people. Ten dollar admission gets you an evening of music\, a poor man’s dinner\, and access to some wonderful silent auction items. \nAdvance tickets available at: https://www.paypal.com/ncp/payment/H9ZRPRDEW32U6 \nCome out and enjoy the evening and help raise money for the fiddlers’ convention!
URL:https://friesva.com/event/fiddlers-fundraiser/
LOCATION:The Historic Fries Theatre\, 316 W. Main Street\, Fries\, Virginia\, 24330
ATTACH;FMTTYPE=image/jpeg:https://friesva.com/wp-content/uploads/2025/05/Fundraiser-flyer-header.jpg
ORGANIZER;CN="Fries Musical Heritage Committee":MAILTO:tourism@friesva.com
END:VEVENT
BEGIN:VEVENT
DTSTART;TZID=America/New_York:20240817T130000
DTEND;TZID=America/New_York:20240817T233000
DTSTAMP:20260423T194729
CREATED:20240513T111717Z
LAST-MODIFIED:20240703T145038Z
UID:10000617-1723899600-1723937400@friesva.com
SUMMARY:Fries Fiddlers' Convention August 16-17
DESCRIPTION:Fries Fiddlers’ Convention will be August 16 – 17\, 2024 \nFries has always been the traditional end of the fiddlers’ convention season\, taking bluegrass and old-time musicians out with a bang in August. Held the weekend after the Galax Fiddlers’\, Fries is great place to unwind and play those tunes you learned at places like Mt Airy\, Elk Creek\, Sparta\, Clifftop\, and Galax. \nCamping is available. First come – first serve. Band competition both nights. \nAdmission $10 Friday night\, $15 Saturday\, or $20 for weekend ticket. $25 camping for the weekend.
URL:https://friesva.com/event/fries-fiddlers-convention-2/2024-08-17/
LOCATION:Fries Ball Park
ATTACH;FMTTYPE=image/jpeg:https://friesva.com/wp-content/uploads/2024/02/Logo-final-small.jpg
ORGANIZER;CN="Fries Musical Heritage Committee":MAILTO:tourism@friesva.com
END:VEVENT
BEGIN:VEVENT
DTSTART;TZID=America/New_York:20240816T180000
DTEND;TZID=America/New_York:20240816T233000
DTSTAMP:20260423T194729
CREATED:20240513T111717Z
LAST-MODIFIED:20240703T145038Z
UID:10000616-1723831200-1723851000@friesva.com
SUMMARY:Fries Fiddlers' Convention August 16-17
DESCRIPTION:Fries Fiddlers’ Convention will be August 16 – 17\, 2024 \nFries has always been the traditional end of the fiddlers’ convention season\, taking bluegrass and old-time musicians out with a bang in August. Held the weekend after the Galax Fiddlers’\, Fries is great place to unwind and play those tunes you learned at places like Mt Airy\, Elk Creek\, Sparta\, Clifftop\, and Galax. \nCamping is available. First come – first serve. Band competition both nights. \nAdmission $10 Friday night\, $15 Saturday\, or $20 for weekend ticket. $25 camping for the weekend.
URL:https://friesva.com/event/fries-fiddlers-convention-2/2024-08-16/
LOCATION:Fries Ball Park
ATTACH;FMTTYPE=image/jpeg:https://friesva.com/wp-content/uploads/2024/02/Logo-final-small.jpg
ORGANIZER;CN="Fries Musical Heritage Committee":MAILTO:tourism@friesva.com
END:VEVENT
END:VCALENDAR