BEGIN:VCALENDAR
VERSION:2.0
PRODID:-// - ECPv6.15.20//NONSGML v1.0//EN
CALSCALE:GREGORIAN
METHOD:PUBLISH
X-ORIGINAL-URL:https://friesva.com
X-WR-CALDESC:Events for 
REFRESH-INTERVAL;VALUE=DURATION:PT1H
X-Robots-Tag:noindex
X-PUBLISHED-TTL:PT1H
BEGIN:VTIMEZONE
TZID:America/New_York
BEGIN:DAYLIGHT
TZOFFSETFROM:-0500
TZOFFSETTO:-0400
TZNAME:EDT
DTSTART:20220313T070000
END:DAYLIGHT
BEGIN:STANDARD
TZOFFSETFROM:-0400
TZOFFSETTO:-0500
TZNAME:EST
DTSTART:20221106T060000
END:STANDARD
BEGIN:DAYLIGHT
TZOFFSETFROM:-0500
TZOFFSETTO:-0400
TZNAME:EDT
DTSTART:20230312T070000
END:DAYLIGHT
BEGIN:STANDARD
TZOFFSETFROM:-0400
TZOFFSETTO:-0500
TZNAME:EST
DTSTART:20231105T060000
END:STANDARD
BEGIN:DAYLIGHT
TZOFFSETFROM:-0500
TZOFFSETTO:-0400
TZNAME:EDT
DTSTART:20240310T070000
END:DAYLIGHT
BEGIN:STANDARD
TZOFFSETFROM:-0400
TZOFFSETTO:-0500
TZNAME:EST
DTSTART:20241103T060000
END:STANDARD
BEGIN:DAYLIGHT
TZOFFSETFROM:-0500
TZOFFSETTO:-0400
TZNAME:EDT
DTSTART:20250309T070000
END:DAYLIGHT
BEGIN:STANDARD
TZOFFSETFROM:-0400
TZOFFSETTO:-0500
TZNAME:EST
DTSTART:20251102T060000
END:STANDARD
BEGIN:DAYLIGHT
TZOFFSETFROM:-0500
TZOFFSETTO:-0400
TZNAME:EDT
DTSTART:20260308T070000
END:DAYLIGHT
BEGIN:STANDARD
TZOFFSETFROM:-0400
TZOFFSETTO:-0500
TZNAME:EST
DTSTART:20261101T060000
END:STANDARD
END:VTIMEZONE
BEGIN:VEVENT
DTSTART;TZID=America/New_York:20250412T040000
DTEND;TZID=America/New_York:20250412T170000
DTSTAMP:20260423T160447
CREATED:20250302T122220Z
LAST-MODIFIED:20250302T122220Z
UID:10000825-1744430400-1744477200@friesva.com
SUMMARY:New River Trails Races 10/25/50/100k
DESCRIPTION:New River Trail Races returns to Fries once again with a new schedule of races. More information at their website.
URL:https://friesva.com/event/new-river-trails-races-10-25-50-100k/
LOCATION:Fries Town Park\, Fries\, Virginia\, 24330
END:VEVENT
BEGIN:VEVENT
DTSTART;TZID=America/New_York:20240413T080000
DTEND;TZID=America/New_York:20240413T150000
DTSTAMP:20260423T160447
CREATED:20240105T095050Z
LAST-MODIFIED:20240105T095050Z
UID:10000499-1712995200-1713020400@friesva.com
SUMMARY:New River Trail 50k and 25k
DESCRIPTION:The New River Trail 50k and 25k will start from the Fries access to the New River Trail. Visit website for more information and to register. See website for registration fee.
URL:https://friesva.com/event/new-river-trail-50k-and-25k-2/
LOCATION:New River Trail Fries Access\, 323 Firehouse Drive\, Fries\, Virginia\, 24330
ATTACH;FMTTYPE=image/png:https://friesva.com/wp-content/uploads/2023/01/image.png
END:VEVENT
BEGIN:VEVENT
DTSTART;TZID=America/New_York:20230415T080000
DTEND;TZID=America/New_York:20230415T150000
DTSTAMP:20260423T160447
CREATED:20230119T205727Z
LAST-MODIFIED:20230119T205727Z
UID:10000107-1681545600-1681570800@friesva.com
SUMMARY:New River Trail 50k and 25k
DESCRIPTION:The New River Trail 50k and 25k will start from the Fries access to the New River Trail. Visit website for more information and to register. See website for registration fee.
URL:https://friesva.com/event/new-river-trail-50k-and-25k/
LOCATION:New River Trail Fries Access\, 323 Firehouse Drive\, Fries\, Virginia\, 24330
ATTACH;FMTTYPE=image/png:https://friesva.com/wp-content/uploads/2023/01/image.png
END:VEVENT
END:VCALENDAR