BEGIN:VCALENDAR
VERSION:2.0
PRODID:-// - ECPv6.15.20//NONSGML v1.0//EN
CALSCALE:GREGORIAN
METHOD:PUBLISH
X-ORIGINAL-URL:https://friesva.com
X-WR-CALDESC:Events for 
REFRESH-INTERVAL;VALUE=DURATION:PT1H
X-Robots-Tag:noindex
X-PUBLISHED-TTL:PT1H
BEGIN:VTIMEZONE
TZID:America/New_York
BEGIN:DAYLIGHT
TZOFFSETFROM:-0500
TZOFFSETTO:-0400
TZNAME:EDT
DTSTART:20220313T070000
END:DAYLIGHT
BEGIN:STANDARD
TZOFFSETFROM:-0400
TZOFFSETTO:-0500
TZNAME:EST
DTSTART:20221106T060000
END:STANDARD
BEGIN:DAYLIGHT
TZOFFSETFROM:-0500
TZOFFSETTO:-0400
TZNAME:EDT
DTSTART:20230312T070000
END:DAYLIGHT
BEGIN:STANDARD
TZOFFSETFROM:-0400
TZOFFSETTO:-0500
TZNAME:EST
DTSTART:20231105T060000
END:STANDARD
BEGIN:DAYLIGHT
TZOFFSETFROM:-0500
TZOFFSETTO:-0400
TZNAME:EDT
DTSTART:20240310T070000
END:DAYLIGHT
BEGIN:STANDARD
TZOFFSETFROM:-0400
TZOFFSETTO:-0500
TZNAME:EST
DTSTART:20241103T060000
END:STANDARD
BEGIN:DAYLIGHT
TZOFFSETFROM:-0500
TZOFFSETTO:-0400
TZNAME:EDT
DTSTART:20250309T070000
END:DAYLIGHT
BEGIN:STANDARD
TZOFFSETFROM:-0400
TZOFFSETTO:-0500
TZNAME:EST
DTSTART:20251102T060000
END:STANDARD
BEGIN:DAYLIGHT
TZOFFSETFROM:-0500
TZOFFSETTO:-0400
TZNAME:EDT
DTSTART:20260308T070000
END:DAYLIGHT
BEGIN:STANDARD
TZOFFSETFROM:-0400
TZOFFSETTO:-0500
TZNAME:EST
DTSTART:20261101T060000
END:STANDARD
END:VTIMEZONE
BEGIN:VEVENT
DTSTART;TZID=America/New_York:20250228T190000
DTEND;TZID=America/New_York:20250228T210000
DTSTAMP:20260423T181956
CREATED:20250217T112945Z
LAST-MODIFIED:20250217T112945Z
UID:10000823-1740769200-1740776400@friesva.com
SUMMARY:Dance and concert
DESCRIPTION:The New Spring Valley Boys at The Historic Fries Theatre. Feb 28 – Dance and concert. 7 pm.
URL:https://friesva.com/event/dance-and-concert/
LOCATION:The Historic Fries Theatre\, 316 W. Main Street\, Fries\, Virginia\, 24330
ATTACH;FMTTYPE=image/jpeg:https://friesva.com/wp-content/uploads/2025/02/SVB-poster-QR-code-small.jpg
ORGANIZER;CN="The Historic Fries Theatre":MAILTO:theatre@friesva.com
END:VEVENT
BEGIN:VEVENT
DTSTART;TZID=America/New_York:20250216T150000
DTEND;TZID=America/New_York:20250216T180000
DTSTAMP:20260423T181956
CREATED:20250119T120541Z
LAST-MODIFIED:20250216T144106Z
UID:10000808-1739718000-1739728800@friesva.com
SUMMARY:POSTPONED - Shelton & Williams in concert at The Historic Fries Theatre
DESCRIPTION:  \n \n \nThe traditional music group Shelton & Williams will appear at The Historic Fries Theatre on February 16th. \nThe group is made up of Johnny and Jeanette Williams and Jay Shelton. This show is a homecoming for Johnny Williams as he spent part of his childhood in Fries and has family in the area. \nOpening the show is Brett Morris and Appalachian Roulette. \n  \n 
URL:https://friesva.com/event/shelton-williams-in-concert-at-the-historic-fries-theatre/
LOCATION:The Historic Fries Theatre\, 316 W. Main Street\, Fries\, Virginia\, 24330
ATTACH;FMTTYPE=image/jpeg:https://friesva.com/wp-content/uploads/2025/01/Shelton-Williams-Feb-16-postponed-cropped-scaled.jpg
ORGANIZER;CN="The Historic Fries Theatre":MAILTO:theatre@friesva.com
END:VEVENT
BEGIN:VEVENT
DTSTART;TZID=America/New_York:20250112T150000
DTEND;TZID=America/New_York:20250112T180000
DTSTAMP:20260423T181956
CREATED:20241127T113113Z
LAST-MODIFIED:20250112T102621Z
UID:10000758-1736694000-1736704800@friesva.com
SUMMARY:Shelton & Williams
DESCRIPTION:Concert has been postponed due to weather. Will be rescheduled. \nThe traditional music group Shelton & Williams will appear at The Historic Fries Theatre on January 12th. \nThe group is made up of Johnny and Jeanette Williams and Jay Shelton. This show is a homecoming for Johnny Williams as he spent part of his childhood in Fries and has family in the area. \nOpening the show is Brett Morris and Appalachian Roulette. \n  \n 
URL:https://friesva.com/event/shelton-williams/
LOCATION:The Historic Fries Theatre\, 316 W. Main Street\, Fries\, Virginia\, 24330
ATTACH;FMTTYPE=image/jpeg:https://friesva.com/wp-content/uploads/2024/11/SnW-postponed-2.jpg
ORGANIZER;CN="The Historic Fries Theatre":MAILTO:theatre@friesva.com
END:VEVENT
BEGIN:VEVENT
DTSTART;TZID=America/New_York:20241003T190000
DTEND;TZID=America/New_York:20241003T210000
DTSTAMP:20260423T181956
CREATED:20241002T213501Z
LAST-MODIFIED:20241002T213501Z
UID:10000694-1727982000-1727989200@friesva.com
SUMMARY:The Thursday Night Jam is ON.
DESCRIPTION:The Thursday Night Jam\, AKA The Jam at the Dam\, is on for Thursday\, October 3. Concessions are free. Come if you can safely make it to the theatre. Doors open by 5:30 p.m.
URL:https://friesva.com/event/the-thursday-night-jam-is-on/
LOCATION:The Historic Fries Theatre\, 316 W. Main Street\, Fries\, Virginia\, 24330
ORGANIZER;CN="The Historic Fries Theatre":MAILTO:theatre@friesva.com
END:VEVENT
BEGIN:VEVENT
DTSTART;TZID=America/New_York:20240412T190000
DTEND;TZID=America/New_York:20240412T210000
DTSTAMP:20260423T181956
CREATED:20240319T141840Z
LAST-MODIFIED:20240324T105712Z
UID:10000525-1712948400-1712955600@friesva.com
SUMMARY:Leftover Biscuits at The Historic Fries Theatre
DESCRIPTION:No it’s not our leavings from breakfast – it’s one of the best dance bands in the area – Leftover Biscuits. \nYou’ll want to hear this band. Doors open by 6 p.m. Music starts at 7. Concessions. Admission is $10 per person. \n \n  \n  \n 
URL:https://friesva.com/event/leftover-biscuits-at-the-historic-fries-theatre/
LOCATION:The Historic Fries Theatre\, 316 W. Main Street\, Fries\, Virginia\, 24330
ATTACH;FMTTYPE=image/jpeg:https://friesva.com/wp-content/uploads/2024/03/356813885_259083296860791_5433931216898628114_n.jpg
ORGANIZER;CN="The Historic Fries Theatre":MAILTO:theatre@friesva.com
END:VEVENT
BEGIN:VEVENT
DTSTART;TZID=America/New_York:20240209T190000
DTEND;TZID=America/New_York:20240209T210000
DTSTAMP:20260423T181956
CREATED:20240202T155914Z
LAST-MODIFIED:20240203T135329Z
UID:10000514-1707505200-1707512400@friesva.com
SUMMARY:Sweethearts Dance
DESCRIPTION:The New Ballards Branch Bogtrotters will be playing at The Historic Fries Theatre. Doors open at 6. Music starts at 7. Concessions available. 50/50. Door prizes! The Historic Fries Theatre is proud to be an Affiliated Venue of The Crooked Road: Virginia’s Heritage Music Trail.
URL:https://friesva.com/event/sweethearts-dance/
LOCATION:The Historic Fries Theatre\, 316 W. Main Street\, Fries\, Virginia\, 24330
ATTACH;FMTTYPE=image/jpeg:https://friesva.com/wp-content/uploads/2024/02/Valentines-Dance-graphic-small.jpg
ORGANIZER;CN="The Historic Fries Theatre":MAILTO:theatre@friesva.com
END:VEVENT
BEGIN:VEVENT
DTSTART;TZID=America/New_York:20231231T190000
DTEND;TZID=America/New_York:20231231T213000
DTSTAMP:20260423T181956
CREATED:20231223T154948Z
LAST-MODIFIED:20231226T015737Z
UID:10000485-1704049200-1704058200@friesva.com
SUMMARY:New Years Eve at The Historic Fries Theatre
DESCRIPTION:Two great bands!! Dance starts at 7 p.m. \nBring your favorite finger foods to share.
URL:https://friesva.com/event/new-years-eve-at-the-historic-fries-theatre/
LOCATION:The Historic Fries Theatre\, 316 W. Main Street\, Fries\, Virginia\, 24330
ATTACH;FMTTYPE=image/jpeg:https://friesva.com/wp-content/uploads/2023/12/New-Years-Eve-2023.jpeg
ORGANIZER;CN="The Historic Fries Theatre":MAILTO:theatre@friesva.com
END:VEVENT
END:VCALENDAR