BEGIN:VCALENDAR
VERSION:2.0
PRODID:-// - ECPv6.15.20//NONSGML v1.0//EN
CALSCALE:GREGORIAN
METHOD:PUBLISH
X-ORIGINAL-URL:https://friesva.com
X-WR-CALDESC:Events for 
REFRESH-INTERVAL;VALUE=DURATION:PT1H
X-Robots-Tag:noindex
X-PUBLISHED-TTL:PT1H
BEGIN:VTIMEZONE
TZID:America/New_York
BEGIN:DAYLIGHT
TZOFFSETFROM:-0500
TZOFFSETTO:-0400
TZNAME:EDT
DTSTART:20240310T070000
END:DAYLIGHT
BEGIN:STANDARD
TZOFFSETFROM:-0400
TZOFFSETTO:-0500
TZNAME:EST
DTSTART:20241103T060000
END:STANDARD
BEGIN:DAYLIGHT
TZOFFSETFROM:-0500
TZOFFSETTO:-0400
TZNAME:EDT
DTSTART:20250309T070000
END:DAYLIGHT
BEGIN:STANDARD
TZOFFSETFROM:-0400
TZOFFSETTO:-0500
TZNAME:EST
DTSTART:20251102T060000
END:STANDARD
BEGIN:DAYLIGHT
TZOFFSETFROM:-0500
TZOFFSETTO:-0400
TZNAME:EDT
DTSTART:20260308T070000
END:DAYLIGHT
BEGIN:STANDARD
TZOFFSETFROM:-0400
TZOFFSETTO:-0500
TZNAME:EST
DTSTART:20261101T060000
END:STANDARD
BEGIN:DAYLIGHT
TZOFFSETFROM:-0500
TZOFFSETTO:-0400
TZNAME:EDT
DTSTART:20270314T070000
END:DAYLIGHT
BEGIN:STANDARD
TZOFFSETFROM:-0400
TZOFFSETTO:-0500
TZNAME:EST
DTSTART:20271107T060000
END:STANDARD
END:VTIMEZONE
BEGIN:VEVENT
DTSTART;TZID=America/New_York:20260207T090000
DTEND;TZID=America/New_York:20260207T130000
DTSTAMP:20260423T150327
CREATED:20251101T014547Z
LAST-MODIFIED:20251101T113202Z
UID:10001139-1770454800-1770469200@friesva.com
SUMMARY:Fries Town Market
DESCRIPTION:Market opens every Saturday – food\, art\, crafts and more! Moved inside to the Community Center. \nFree coffee provided by the Town of Fries. \n  \n 
URL:https://friesva.com/event/fries-town-market-2/2026-02-07/
LOCATION:Fries Community Center\, 316 W. Main Street\, Fries\, Virginia\, 24330
ATTACH;FMTTYPE=image/jpeg:https://friesva.com/wp-content/uploads/2025/06/Depot.00_03_25_19.Still002-scaled.jpg
ORGANIZER;CN="Town of Fries":MAILTO:townoffries@friesva.com
END:VEVENT
BEGIN:VEVENT
DTSTART;TZID=America/New_York:20260203T190000
DTEND;TZID=America/New_York:20260203T200000
DTSTAMP:20260423T150327
CREATED:20250902T195311Z
LAST-MODIFIED:20250902T195614Z
UID:10000386-1770145200-1770148800@friesva.com
SUMMARY:Town Council Monthly Meeting
DESCRIPTION:The Fries Town Council meets the first Tuesday of every month at 7 p.m.at The Historic Fries Theatre.  The meeting is open to the public.
URL:https://friesva.com/event/town-council-monthly-meeting-3-2-2-2/2026-02-03/
LOCATION:The Historic Fries Theatre\, 316 W. Main Street\, Fries\, Virginia\, 24330
ORGANIZER;CN="Town of Fries":MAILTO:townoffries@friesva.com
END:VEVENT
BEGIN:VEVENT
DTSTART;TZID=America/New_York:20260131T090000
DTEND;TZID=America/New_York:20260131T130000
DTSTAMP:20260423T150327
CREATED:20251101T014547Z
LAST-MODIFIED:20251101T113202Z
UID:10001138-1769850000-1769864400@friesva.com
SUMMARY:Fries Town Market
DESCRIPTION:Market opens every Saturday – food\, art\, crafts and more! Moved inside to the Community Center. \nFree coffee provided by the Town of Fries. \n  \n 
URL:https://friesva.com/event/fries-town-market-2/2026-01-31/
LOCATION:Fries Community Center\, 316 W. Main Street\, Fries\, Virginia\, 24330
ATTACH;FMTTYPE=image/jpeg:https://friesva.com/wp-content/uploads/2025/06/Depot.00_03_25_19.Still002-scaled.jpg
ORGANIZER;CN="Town of Fries":MAILTO:townoffries@friesva.com
END:VEVENT
BEGIN:VEVENT
DTSTART;TZID=America/New_York:20260124T090000
DTEND;TZID=America/New_York:20260124T130000
DTSTAMP:20260423T150327
CREATED:20251101T014547Z
LAST-MODIFIED:20251101T113202Z
UID:10001137-1769245200-1769259600@friesva.com
SUMMARY:Fries Town Market
DESCRIPTION:Market opens every Saturday – food\, art\, crafts and more! Moved inside to the Community Center. \nFree coffee provided by the Town of Fries. \n  \n 
URL:https://friesva.com/event/fries-town-market-2/2026-01-24/
LOCATION:Fries Community Center\, 316 W. Main Street\, Fries\, Virginia\, 24330
ATTACH;FMTTYPE=image/jpeg:https://friesva.com/wp-content/uploads/2025/06/Depot.00_03_25_19.Still002-scaled.jpg
ORGANIZER;CN="Town of Fries":MAILTO:townoffries@friesva.com
END:VEVENT
BEGIN:VEVENT
DTSTART;TZID=America/New_York:20260117T090000
DTEND;TZID=America/New_York:20260117T130000
DTSTAMP:20260423T150327
CREATED:20251101T014547Z
LAST-MODIFIED:20251101T113202Z
UID:10001136-1768640400-1768654800@friesva.com
SUMMARY:Fries Town Market
DESCRIPTION:Market opens every Saturday – food\, art\, crafts and more! Moved inside to the Community Center. \nFree coffee provided by the Town of Fries. \n  \n 
URL:https://friesva.com/event/fries-town-market-2/2026-01-17/
LOCATION:Fries Community Center\, 316 W. Main Street\, Fries\, Virginia\, 24330
ATTACH;FMTTYPE=image/jpeg:https://friesva.com/wp-content/uploads/2025/06/Depot.00_03_25_19.Still002-scaled.jpg
ORGANIZER;CN="Town of Fries":MAILTO:townoffries@friesva.com
END:VEVENT
BEGIN:VEVENT
DTSTART;TZID=America/New_York:20260110T090000
DTEND;TZID=America/New_York:20260110T130000
DTSTAMP:20260423T150327
CREATED:20251101T014547Z
LAST-MODIFIED:20251101T113202Z
UID:10001135-1768035600-1768050000@friesva.com
SUMMARY:Fries Town Market
DESCRIPTION:Market opens every Saturday – food\, art\, crafts and more! Moved inside to the Community Center. \nFree coffee provided by the Town of Fries. \n  \n 
URL:https://friesva.com/event/fries-town-market-2/2026-01-10/
LOCATION:Fries Community Center\, 316 W. Main Street\, Fries\, Virginia\, 24330
ATTACH;FMTTYPE=image/jpeg:https://friesva.com/wp-content/uploads/2025/06/Depot.00_03_25_19.Still002-scaled.jpg
ORGANIZER;CN="Town of Fries":MAILTO:townoffries@friesva.com
END:VEVENT
BEGIN:VEVENT
DTSTART;TZID=America/New_York:20260106T190000
DTEND;TZID=America/New_York:20260106T200000
DTSTAMP:20260423T150327
CREATED:20250902T195311Z
LAST-MODIFIED:20250902T195614Z
UID:10000385-1767726000-1767729600@friesva.com
SUMMARY:Town Council Monthly Meeting
DESCRIPTION:The Fries Town Council meets the first Tuesday of every month at 7 p.m.at The Historic Fries Theatre.  The meeting is open to the public.
URL:https://friesva.com/event/town-council-monthly-meeting-3-2-2-2/2026-01-06/
LOCATION:The Historic Fries Theatre\, 316 W. Main Street\, Fries\, Virginia\, 24330
ORGANIZER;CN="Town of Fries":MAILTO:townoffries@friesva.com
END:VEVENT
BEGIN:VEVENT
DTSTART;TZID=America/New_York:20260103T090000
DTEND;TZID=America/New_York:20260103T130000
DTSTAMP:20260423T150327
CREATED:20251101T014547Z
LAST-MODIFIED:20251101T113202Z
UID:10001134-1767430800-1767445200@friesva.com
SUMMARY:Fries Town Market
DESCRIPTION:Market opens every Saturday – food\, art\, crafts and more! Moved inside to the Community Center. \nFree coffee provided by the Town of Fries. \n  \n 
URL:https://friesva.com/event/fries-town-market-2/2026-01-03/
LOCATION:Fries Community Center\, 316 W. Main Street\, Fries\, Virginia\, 24330
ATTACH;FMTTYPE=image/jpeg:https://friesva.com/wp-content/uploads/2025/06/Depot.00_03_25_19.Still002-scaled.jpg
ORGANIZER;CN="Town of Fries":MAILTO:townoffries@friesva.com
END:VEVENT
BEGIN:VEVENT
DTSTART;TZID=America/New_York:20251227T090000
DTEND;TZID=America/New_York:20251227T130000
DTSTAMP:20260423T150327
CREATED:20251101T014547Z
LAST-MODIFIED:20251101T113202Z
UID:10001133-1766826000-1766840400@friesva.com
SUMMARY:Fries Town Market
DESCRIPTION:Market opens every Saturday – food\, art\, crafts and more! Moved inside to the Community Center. \nFree coffee provided by the Town of Fries. \n  \n 
URL:https://friesva.com/event/fries-town-market-2/2025-12-27/
LOCATION:Fries Community Center\, 316 W. Main Street\, Fries\, Virginia\, 24330
ATTACH;FMTTYPE=image/jpeg:https://friesva.com/wp-content/uploads/2025/06/Depot.00_03_25_19.Still002-scaled.jpg
ORGANIZER;CN="Town of Fries":MAILTO:townoffries@friesva.com
END:VEVENT
BEGIN:VEVENT
DTSTART;TZID=America/New_York:20251220T090000
DTEND;TZID=America/New_York:20251220T130000
DTSTAMP:20260423T150327
CREATED:20251101T014547Z
LAST-MODIFIED:20251101T113202Z
UID:10001132-1766221200-1766235600@friesva.com
SUMMARY:Fries Town Market
DESCRIPTION:Market opens every Saturday – food\, art\, crafts and more! Moved inside to the Community Center. \nFree coffee provided by the Town of Fries. \n  \n 
URL:https://friesva.com/event/fries-town-market-2/2025-12-20/
LOCATION:Fries Community Center\, 316 W. Main Street\, Fries\, Virginia\, 24330
ATTACH;FMTTYPE=image/jpeg:https://friesva.com/wp-content/uploads/2025/06/Depot.00_03_25_19.Still002-scaled.jpg
ORGANIZER;CN="Town of Fries":MAILTO:townoffries@friesva.com
END:VEVENT
BEGIN:VEVENT
DTSTART;TZID=America/New_York:20251213T090000
DTEND;TZID=America/New_York:20251213T130000
DTSTAMP:20260423T150327
CREATED:20251101T014547Z
LAST-MODIFIED:20251101T113202Z
UID:10001131-1765616400-1765630800@friesva.com
SUMMARY:Fries Town Market
DESCRIPTION:Market opens every Saturday – food\, art\, crafts and more! Moved inside to the Community Center. \nFree coffee provided by the Town of Fries. \n  \n 
URL:https://friesva.com/event/fries-town-market-2/2025-12-13/
LOCATION:Fries Community Center\, 316 W. Main Street\, Fries\, Virginia\, 24330
ATTACH;FMTTYPE=image/jpeg:https://friesva.com/wp-content/uploads/2025/06/Depot.00_03_25_19.Still002-scaled.jpg
ORGANIZER;CN="Town of Fries":MAILTO:townoffries@friesva.com
END:VEVENT
BEGIN:VEVENT
DTSTART;TZID=America/New_York:20251206T090000
DTEND;TZID=America/New_York:20251206T130000
DTSTAMP:20260423T150327
CREATED:20251101T014547Z
LAST-MODIFIED:20251101T113202Z
UID:10001130-1765011600-1765026000@friesva.com
SUMMARY:Fries Town Market
DESCRIPTION:Market opens every Saturday – food\, art\, crafts and more! Moved inside to the Community Center. \nFree coffee provided by the Town of Fries. \n  \n 
URL:https://friesva.com/event/fries-town-market-2/2025-12-06/
LOCATION:Fries Community Center\, 316 W. Main Street\, Fries\, Virginia\, 24330
ATTACH;FMTTYPE=image/jpeg:https://friesva.com/wp-content/uploads/2025/06/Depot.00_03_25_19.Still002-scaled.jpg
ORGANIZER;CN="Town of Fries":MAILTO:townoffries@friesva.com
END:VEVENT
BEGIN:VEVENT
DTSTART;TZID=America/New_York:20251202T190000
DTEND;TZID=America/New_York:20251202T200000
DTSTAMP:20260423T150327
CREATED:20250902T195311Z
LAST-MODIFIED:20250902T195614Z
UID:10000384-1764702000-1764705600@friesva.com
SUMMARY:Town Council Monthly Meeting
DESCRIPTION:The Fries Town Council meets the first Tuesday of every month at 7 p.m.at The Historic Fries Theatre.  The meeting is open to the public.
URL:https://friesva.com/event/town-council-monthly-meeting-3-2-2-2/2025-12-02/
LOCATION:The Historic Fries Theatre\, 316 W. Main Street\, Fries\, Virginia\, 24330
ORGANIZER;CN="Town of Fries":MAILTO:townoffries@friesva.com
END:VEVENT
BEGIN:VEVENT
DTSTART;TZID=America/New_York:20251129T090000
DTEND;TZID=America/New_York:20251129T130000
DTSTAMP:20260423T150327
CREATED:20251101T014547Z
LAST-MODIFIED:20251101T113202Z
UID:10001129-1764406800-1764421200@friesva.com
SUMMARY:Fries Town Market
DESCRIPTION:Market opens every Saturday – food\, art\, crafts and more! Moved inside to the Community Center. \nFree coffee provided by the Town of Fries. \n  \n 
URL:https://friesva.com/event/fries-town-market-2/2025-11-29/
LOCATION:Fries Community Center\, 316 W. Main Street\, Fries\, Virginia\, 24330
ATTACH;FMTTYPE=image/jpeg:https://friesva.com/wp-content/uploads/2025/06/Depot.00_03_25_19.Still002-scaled.jpg
ORGANIZER;CN="Town of Fries":MAILTO:townoffries@friesva.com
END:VEVENT
BEGIN:VEVENT
DTSTART;TZID=America/New_York:20251122T090000
DTEND;TZID=America/New_York:20251122T130000
DTSTAMP:20260423T150327
CREATED:20251101T014547Z
LAST-MODIFIED:20251101T113202Z
UID:10001128-1763802000-1763816400@friesva.com
SUMMARY:Fries Town Market
DESCRIPTION:Market opens every Saturday – food\, art\, crafts and more! Moved inside to the Community Center. \nFree coffee provided by the Town of Fries. \n  \n 
URL:https://friesva.com/event/fries-town-market-2/2025-11-22/
LOCATION:Fries Community Center\, 316 W. Main Street\, Fries\, Virginia\, 24330
ATTACH;FMTTYPE=image/jpeg:https://friesva.com/wp-content/uploads/2025/06/Depot.00_03_25_19.Still002-scaled.jpg
ORGANIZER;CN="Town of Fries":MAILTO:townoffries@friesva.com
END:VEVENT
BEGIN:VEVENT
DTSTART;TZID=America/New_York:20251115T090000
DTEND;TZID=America/New_York:20251115T130000
DTSTAMP:20260423T150327
CREATED:20251101T014547Z
LAST-MODIFIED:20251101T113202Z
UID:10001127-1763197200-1763211600@friesva.com
SUMMARY:Fries Town Market
DESCRIPTION:Market opens every Saturday – food\, art\, crafts and more! Moved inside to the Community Center. \nFree coffee provided by the Town of Fries. \n  \n 
URL:https://friesva.com/event/fries-town-market-2/2025-11-15/
LOCATION:Fries Community Center\, 316 W. Main Street\, Fries\, Virginia\, 24330
ATTACH;FMTTYPE=image/jpeg:https://friesva.com/wp-content/uploads/2025/06/Depot.00_03_25_19.Still002-scaled.jpg
ORGANIZER;CN="Town of Fries":MAILTO:townoffries@friesva.com
END:VEVENT
BEGIN:VEVENT
DTSTART;TZID=America/New_York:20251108T090000
DTEND;TZID=America/New_York:20251108T130000
DTSTAMP:20260423T150327
CREATED:20251101T014547Z
LAST-MODIFIED:20251101T113202Z
UID:10001126-1762592400-1762606800@friesva.com
SUMMARY:Fries Town Market
DESCRIPTION:Market opens every Saturday – food\, art\, crafts and more! Moved inside to the Community Center. \nFree coffee provided by the Town of Fries. \n  \n 
URL:https://friesva.com/event/fries-town-market-2/2025-11-08/
LOCATION:Fries Community Center\, 316 W. Main Street\, Fries\, Virginia\, 24330
ATTACH;FMTTYPE=image/jpeg:https://friesva.com/wp-content/uploads/2025/06/Depot.00_03_25_19.Still002-scaled.jpg
ORGANIZER;CN="Town of Fries":MAILTO:townoffries@friesva.com
END:VEVENT
BEGIN:VEVENT
DTSTART;TZID=America/New_York:20251104T190000
DTEND;TZID=America/New_York:20251104T200000
DTSTAMP:20260423T150327
CREATED:20250902T195311Z
LAST-MODIFIED:20250902T195614Z
UID:10000383-1762282800-1762286400@friesva.com
SUMMARY:Town Council Monthly Meeting
DESCRIPTION:The Fries Town Council meets the first Tuesday of every month at 7 p.m.at The Historic Fries Theatre.  The meeting is open to the public.
URL:https://friesva.com/event/town-council-monthly-meeting-3-2-2-2/2025-11-04/
LOCATION:The Historic Fries Theatre\, 316 W. Main Street\, Fries\, Virginia\, 24330
ORGANIZER;CN="Town of Fries":MAILTO:townoffries@friesva.com
END:VEVENT
BEGIN:VEVENT
DTSTART;TZID=America/New_York:20251101T090000
DTEND;TZID=America/New_York:20251101T130000
DTSTAMP:20260423T150327
CREATED:20251101T014547Z
LAST-MODIFIED:20251101T113202Z
UID:10001125-1761987600-1762002000@friesva.com
SUMMARY:Fries Town Market
DESCRIPTION:Market opens every Saturday – food\, art\, crafts and more! Moved inside to the Community Center. \nFree coffee provided by the Town of Fries. \n  \n 
URL:https://friesva.com/event/fries-town-market-2/2025-11-01/
LOCATION:Fries Community Center\, 316 W. Main Street\, Fries\, Virginia\, 24330
ATTACH;FMTTYPE=image/jpeg:https://friesva.com/wp-content/uploads/2025/06/Depot.00_03_25_19.Still002-scaled.jpg
ORGANIZER;CN="Town of Fries":MAILTO:townoffries@friesva.com
END:VEVENT
BEGIN:VEVENT
DTSTART;TZID=America/New_York:20251025T090000
DTEND;TZID=America/New_York:20251025T130000
DTSTAMP:20260423T150327
CREATED:20250619T094147Z
LAST-MODIFIED:20250619T094405Z
UID:10001124-1761382800-1761397200@friesva.com
SUMMARY:Fries Town Market
DESCRIPTION:Market opens every Saturday – food\, art\, crafts and more! \nFree coffee provided by the Town of Fries. \n  \n 
URL:https://friesva.com/event/fries-town-market/2025-10-25/
LOCATION:The Depot\, 510 Riverview Avenue\, Fries\, Virginia\, 24330
ATTACH;FMTTYPE=image/jpeg:https://friesva.com/wp-content/uploads/2025/06/Depot.00_03_25_19.Still002-scaled.jpg
ORGANIZER;CN="Town of Fries":MAILTO:townoffries@friesva.com
END:VEVENT
BEGIN:VEVENT
DTSTART;TZID=America/New_York:20251018T090000
DTEND;TZID=America/New_York:20251018T130000
DTSTAMP:20260423T150327
CREATED:20250619T094147Z
LAST-MODIFIED:20250619T094405Z
UID:10001123-1760778000-1760792400@friesva.com
SUMMARY:Fries Town Market
DESCRIPTION:Market opens every Saturday – food\, art\, crafts and more! \nFree coffee provided by the Town of Fries. \n  \n 
URL:https://friesva.com/event/fries-town-market/2025-10-18/
LOCATION:The Depot\, 510 Riverview Avenue\, Fries\, Virginia\, 24330
ATTACH;FMTTYPE=image/jpeg:https://friesva.com/wp-content/uploads/2025/06/Depot.00_03_25_19.Still002-scaled.jpg
ORGANIZER;CN="Town of Fries":MAILTO:townoffries@friesva.com
END:VEVENT
BEGIN:VEVENT
DTSTART;TZID=America/New_York:20251011T090000
DTEND;TZID=America/New_York:20251011T130000
DTSTAMP:20260423T150327
CREATED:20250619T094147Z
LAST-MODIFIED:20250619T094405Z
UID:10001122-1760173200-1760187600@friesva.com
SUMMARY:Fries Town Market
DESCRIPTION:Market opens every Saturday – food\, art\, crafts and more! \nFree coffee provided by the Town of Fries. \n  \n 
URL:https://friesva.com/event/fries-town-market/2025-10-11/
LOCATION:The Depot\, 510 Riverview Avenue\, Fries\, Virginia\, 24330
ATTACH;FMTTYPE=image/jpeg:https://friesva.com/wp-content/uploads/2025/06/Depot.00_03_25_19.Still002-scaled.jpg
ORGANIZER;CN="Town of Fries":MAILTO:townoffries@friesva.com
END:VEVENT
BEGIN:VEVENT
DTSTART;TZID=America/New_York:20251007T190000
DTEND;TZID=America/New_York:20251007T200000
DTSTAMP:20260423T150327
CREATED:20250902T195311Z
LAST-MODIFIED:20250902T195614Z
UID:10000382-1759863600-1759867200@friesva.com
SUMMARY:Town Council Monthly Meeting
DESCRIPTION:The Fries Town Council meets the first Tuesday of every month at 7 p.m.at The Historic Fries Theatre.  The meeting is open to the public.
URL:https://friesva.com/event/town-council-monthly-meeting-3-2-2-2/2025-10-07/
LOCATION:The Historic Fries Theatre\, 316 W. Main Street\, Fries\, Virginia\, 24330
ORGANIZER;CN="Town of Fries":MAILTO:townoffries@friesva.com
END:VEVENT
BEGIN:VEVENT
DTSTART;TZID=America/New_York:20251004T090000
DTEND;TZID=America/New_York:20251004T130000
DTSTAMP:20260423T150327
CREATED:20250619T094147Z
LAST-MODIFIED:20250619T094405Z
UID:10001121-1759568400-1759582800@friesva.com
SUMMARY:Fries Town Market
DESCRIPTION:Market opens every Saturday – food\, art\, crafts and more! \nFree coffee provided by the Town of Fries. \n  \n 
URL:https://friesva.com/event/fries-town-market/2025-10-04/
LOCATION:The Depot\, 510 Riverview Avenue\, Fries\, Virginia\, 24330
ATTACH;FMTTYPE=image/jpeg:https://friesva.com/wp-content/uploads/2025/06/Depot.00_03_25_19.Still002-scaled.jpg
ORGANIZER;CN="Town of Fries":MAILTO:townoffries@friesva.com
END:VEVENT
BEGIN:VEVENT
DTSTART;TZID=America/New_York:20250927T090000
DTEND;TZID=America/New_York:20250927T130000
DTSTAMP:20260423T150327
CREATED:20250619T094147Z
LAST-MODIFIED:20250619T094405Z
UID:10001120-1758963600-1758978000@friesva.com
SUMMARY:Fries Town Market
DESCRIPTION:Market opens every Saturday – food\, art\, crafts and more! \nFree coffee provided by the Town of Fries. \n  \n 
URL:https://friesva.com/event/fries-town-market/2025-09-27/
LOCATION:The Depot\, 510 Riverview Avenue\, Fries\, Virginia\, 24330
ATTACH;FMTTYPE=image/jpeg:https://friesva.com/wp-content/uploads/2025/06/Depot.00_03_25_19.Still002-scaled.jpg
ORGANIZER;CN="Town of Fries":MAILTO:townoffries@friesva.com
END:VEVENT
BEGIN:VEVENT
DTSTART;TZID=America/New_York:20250920T090000
DTEND;TZID=America/New_York:20250920T130000
DTSTAMP:20260423T150327
CREATED:20250619T094147Z
LAST-MODIFIED:20250619T094405Z
UID:10001119-1758358800-1758373200@friesva.com
SUMMARY:Fries Town Market
DESCRIPTION:Market opens every Saturday – food\, art\, crafts and more! \nFree coffee provided by the Town of Fries. \n  \n 
URL:https://friesva.com/event/fries-town-market/2025-09-20/
LOCATION:The Depot\, 510 Riverview Avenue\, Fries\, Virginia\, 24330
ATTACH;FMTTYPE=image/jpeg:https://friesva.com/wp-content/uploads/2025/06/Depot.00_03_25_19.Still002-scaled.jpg
ORGANIZER;CN="Town of Fries":MAILTO:townoffries@friesva.com
END:VEVENT
BEGIN:VEVENT
DTSTART;TZID=America/New_York:20250913T090000
DTEND;TZID=America/New_York:20250913T130000
DTSTAMP:20260423T150327
CREATED:20250619T094147Z
LAST-MODIFIED:20250619T094405Z
UID:10001118-1757754000-1757768400@friesva.com
SUMMARY:Fries Town Market
DESCRIPTION:Market opens every Saturday – food\, art\, crafts and more! \nFree coffee provided by the Town of Fries. \n  \n 
URL:https://friesva.com/event/fries-town-market/2025-09-13/
LOCATION:The Depot\, 510 Riverview Avenue\, Fries\, Virginia\, 24330
ATTACH;FMTTYPE=image/jpeg:https://friesva.com/wp-content/uploads/2025/06/Depot.00_03_25_19.Still002-scaled.jpg
ORGANIZER;CN="Town of Fries":MAILTO:townoffries@friesva.com
END:VEVENT
BEGIN:VEVENT
DTSTART;TZID=America/New_York:20250906T090000
DTEND;TZID=America/New_York:20250906T130000
DTSTAMP:20260423T150327
CREATED:20250619T094147Z
LAST-MODIFIED:20250619T094405Z
UID:10001117-1757149200-1757163600@friesva.com
SUMMARY:Fries Town Market
DESCRIPTION:Market opens every Saturday – food\, art\, crafts and more! \nFree coffee provided by the Town of Fries. \n  \n 
URL:https://friesva.com/event/fries-town-market/2025-09-06/
LOCATION:The Depot\, 510 Riverview Avenue\, Fries\, Virginia\, 24330
ATTACH;FMTTYPE=image/jpeg:https://friesva.com/wp-content/uploads/2025/06/Depot.00_03_25_19.Still002-scaled.jpg
ORGANIZER;CN="Town of Fries":MAILTO:townoffries@friesva.com
END:VEVENT
BEGIN:VEVENT
DTSTART;TZID=America/New_York:20250902T190000
DTEND;TZID=America/New_York:20250902T200000
DTSTAMP:20260423T150327
CREATED:20250902T195311Z
LAST-MODIFIED:20250902T195614Z
UID:10000381-1756839600-1756843200@friesva.com
SUMMARY:Town Council Monthly Meeting
DESCRIPTION:The Fries Town Council meets the first Tuesday of every month at 7 p.m.at The Historic Fries Theatre.  The meeting is open to the public.
URL:https://friesva.com/event/town-council-monthly-meeting-3-2-2-2/2025-09-02/
LOCATION:The Historic Fries Theatre\, 316 W. Main Street\, Fries\, Virginia\, 24330
ORGANIZER;CN="Town of Fries":MAILTO:townoffries@friesva.com
END:VEVENT
BEGIN:VEVENT
DTSTART;TZID=America/New_York:20250830T090000
DTEND;TZID=America/New_York:20250830T130000
DTSTAMP:20260423T150327
CREATED:20250619T094147Z
LAST-MODIFIED:20250619T094405Z
UID:10001116-1756544400-1756558800@friesva.com
SUMMARY:Fries Town Market
DESCRIPTION:Market opens every Saturday – food\, art\, crafts and more! \nFree coffee provided by the Town of Fries. \n  \n 
URL:https://friesva.com/event/fries-town-market/2025-08-30/
LOCATION:The Depot\, 510 Riverview Avenue\, Fries\, Virginia\, 24330
ATTACH;FMTTYPE=image/jpeg:https://friesva.com/wp-content/uploads/2025/06/Depot.00_03_25_19.Still002-scaled.jpg
ORGANIZER;CN="Town of Fries":MAILTO:townoffries@friesva.com
END:VEVENT
END:VCALENDAR