BEGIN:VCALENDAR
VERSION:2.0
PRODID:-// - ECPv6.15.20//NONSGML v1.0//EN
CALSCALE:GREGORIAN
METHOD:PUBLISH
X-ORIGINAL-URL:https://friesva.com
X-WR-CALDESC:Events for 
REFRESH-INTERVAL;VALUE=DURATION:PT1H
X-Robots-Tag:noindex
X-PUBLISHED-TTL:PT1H
BEGIN:VTIMEZONE
TZID:America/New_York
BEGIN:DAYLIGHT
TZOFFSETFROM:-0500
TZOFFSETTO:-0400
TZNAME:EDT
DTSTART:20220313T070000
END:DAYLIGHT
BEGIN:STANDARD
TZOFFSETFROM:-0400
TZOFFSETTO:-0500
TZNAME:EST
DTSTART:20221106T060000
END:STANDARD
BEGIN:DAYLIGHT
TZOFFSETFROM:-0500
TZOFFSETTO:-0400
TZNAME:EDT
DTSTART:20230312T070000
END:DAYLIGHT
BEGIN:STANDARD
TZOFFSETFROM:-0400
TZOFFSETTO:-0500
TZNAME:EST
DTSTART:20231105T060000
END:STANDARD
BEGIN:DAYLIGHT
TZOFFSETFROM:-0500
TZOFFSETTO:-0400
TZNAME:EDT
DTSTART:20240310T070000
END:DAYLIGHT
BEGIN:STANDARD
TZOFFSETFROM:-0400
TZOFFSETTO:-0500
TZNAME:EST
DTSTART:20241103T060000
END:STANDARD
BEGIN:DAYLIGHT
TZOFFSETFROM:-0500
TZOFFSETTO:-0400
TZNAME:EDT
DTSTART:20250309T070000
END:DAYLIGHT
BEGIN:STANDARD
TZOFFSETFROM:-0400
TZOFFSETTO:-0500
TZNAME:EST
DTSTART:20251102T060000
END:STANDARD
END:VTIMEZONE
BEGIN:VEVENT
DTSTART;TZID=America/New_York:20241203T190000
DTEND;TZID=America/New_York:20241203T200000
DTSTAMP:20260423T223751
CREATED:20241203T105034Z
LAST-MODIFIED:20250107T000058Z
UID:10000372-1733252400-1733256000@friesva.com
SUMMARY:Town Council Monthly Meeting
DESCRIPTION:The Fries Town Council meets the first Tuesday of every month at 7 p.m.at The Historic Fries Theatre.  The meeting is open to the public.
URL:https://friesva.com/event/town-council-monthly-meeting-3-2-2/2024-12-03/
LOCATION:The Historic Fries Theatre\, 316 W. Main Street\, Fries\, Virginia\, 24330
ORGANIZER;CN="Town of Fries":MAILTO:townoffries@friesva.com
END:VEVENT
BEGIN:VEVENT
DTSTART;TZID=America/New_York:20241112T190000
DTEND;TZID=America/New_York:20241112T210000
DTSTAMP:20260423T223751
CREATED:20241010T172145Z
LAST-MODIFIED:20241010T172145Z
UID:10000751-1731438000-1731445200@friesva.com
SUMMARY:Town Council Monthly meeting
DESCRIPTION:Town Council monthly meeting\, regularly scheduled for the first Tuesday in the month\, will instead be on November 12\, 2024 – due to elections. This meeting will be held at The Historic Fries Theatre.
URL:https://friesva.com/event/town-council-monthly-meeting-5/
LOCATION:The Historic Fries Theatre\, 316 W. Main Street\, Fries\, Virginia\, 24330
ORGANIZER;CN="Town of Fries":MAILTO:townoffries@friesva.com
END:VEVENT
BEGIN:VEVENT
DTSTART;TZID=America/New_York:20241105T190000
DTEND;TZID=America/New_York:20241105T210000
DTSTAMP:20260423T223751
CREATED:20241010T171947Z
LAST-MODIFIED:20241010T172226Z
UID:10000750-1730833200-1730840400@friesva.com
SUMMARY:Town Council monthly meeting postponed
DESCRIPTION:The monthly town council meeting scheduled for November 5\, 2024 is postponed to November 12\, 2024. It will be held at The Historic Fries Theatre at 7 p.m.
URL:https://friesva.com/event/town-council-monthly-meeting-postponed/
ORGANIZER;CN="Town of Fries":MAILTO:townoffries@friesva.com
END:VEVENT
BEGIN:VEVENT
DTSTART;TZID=America/New_York:20241008T190000
DTEND;TZID=America/New_York:20241008T210000
DTSTAMP:20260423T223751
CREATED:20241001T161145Z
LAST-MODIFIED:20241001T161145Z
UID:10000693-1728414000-1728421200@friesva.com
SUMMARY:Town council monthly meeting
DESCRIPTION:The October monthly meeting of Fries Town Council will be held on 10/8/24 at the Community Center dining room at 7 p.m.
URL:https://friesva.com/event/town-council-monthly-meeting-4/
LOCATION:Fries Community Center\, 316 W. Main Street\, Fries\, Virginia\, 24330
ORGANIZER;CN="Town of Fries":MAILTO:townoffries@friesva.com
END:VEVENT
BEGIN:VEVENT
DTSTART;TZID=America/New_York:20241004T190000
DTEND;TZID=America/New_York:20241004T210000
DTSTAMP:20260423T223751
CREATED:20240324T104325Z
LAST-MODIFIED:20241002T212859Z
UID:10000526-1728068400-1728075600@friesva.com
SUMMARY:Gap Civil at The Depot
DESCRIPTION:THIS EVENT IS POSTPONED AND WILL BE RESCHEDULED AT A FUTURE DATE. \n  \nGroup photo of members of Gap Civil old-time band\nThis concert sponsored by The Crooked Road: Virginia’s Musical Heritage Trail \n \n  \n \nGap Civil brings their old-time music to The Depot. Admission $5 per person. Bring your own lawn chair.
URL:https://friesva.com/event/gap-civil-at-the-depot/
LOCATION:The Depot\, 510 Riverview Avenue\, Fries\, Virginia\, 24330
ATTACH;FMTTYPE=image/jpeg:https://friesva.com/wp-content/uploads/2024/03/Gap-Civil-in-street.jpeg
ORGANIZER;CN="Town of Fries":MAILTO:townoffries@friesva.com
END:VEVENT
BEGIN:VEVENT
DTSTART;TZID=America/New_York:20241001T190000
DTEND;TZID=America/New_York:20241001T200000
DTSTAMP:20260423T223751
CREATED:20231011T140322Z
LAST-MODIFIED:20241127T101937Z
UID:10000748-1727809200-1727812800@friesva.com
SUMMARY:Town Council Monthly Meeting
DESCRIPTION:The Fries Town Council meets the first Tuesday of every month at 7 p.m.at The Historic Fries Theatre.  The meeting is open to the public.
URL:https://friesva.com/event/town-council-monthly-meeting-3-2/2024-10-01/
LOCATION:Fries Community Center\, 316 W. Main Street\, Fries\, Virginia\, 24330
ORGANIZER;CN="Town of Fries":MAILTO:townoffries@friesva.com
END:VEVENT
BEGIN:VEVENT
DTSTART;TZID=America/New_York:20240911T140000
DTEND;TZID=America/New_York:20240911T150000
DTSTAMP:20260423T223751
CREATED:20240828T140526Z
LAST-MODIFIED:20240828T140526Z
UID:10000679-1726063200-1726066800@friesva.com
SUMMARY:Zoning Board of Appeals meeting
DESCRIPTION:Zoning Board of Appeals will meet Wednesday\, Sept 11 at 2 p.m. \n  \n 
URL:https://friesva.com/event/zoning-board-of-appeals-meeting/
LOCATION:Fries Community Center\, 316 W. Main Street\, Fries\, Virginia\, 24330
ATTACH;FMTTYPE=image/jpeg:https://friesva.com/wp-content/uploads/2024/08/Zoning.jpg
ORGANIZER;CN="Town of Fries":MAILTO:townoffries@friesva.com
END:VEVENT
BEGIN:VEVENT
DTSTART;TZID=America/New_York:20240903T190000
DTEND;TZID=America/New_York:20240903T200000
DTSTAMP:20260423T223751
CREATED:20231011T140322Z
LAST-MODIFIED:20241127T101937Z
UID:10000369-1725390000-1725393600@friesva.com
SUMMARY:Town Council Monthly Meeting
DESCRIPTION:The Fries Town Council meets the first Tuesday of every month at 7 p.m.at The Historic Fries Theatre.  The meeting is open to the public.
URL:https://friesva.com/event/town-council-monthly-meeting-3-2/2024-09-03/
LOCATION:Fries Community Center\, 316 W. Main Street\, Fries\, Virginia\, 24330
ORGANIZER;CN="Town of Fries":MAILTO:townoffries@friesva.com
END:VEVENT
BEGIN:VEVENT
DTSTART;TZID=America/New_York:20240806T190000
DTEND;TZID=America/New_York:20240806T200000
DTSTAMP:20260423T223751
CREATED:20231011T140322Z
LAST-MODIFIED:20241127T101937Z
UID:10000368-1722970800-1722974400@friesva.com
SUMMARY:Town Council Monthly Meeting
DESCRIPTION:The Fries Town Council meets the first Tuesday of every month at 7 p.m.at The Historic Fries Theatre.  The meeting is open to the public.
URL:https://friesva.com/event/town-council-monthly-meeting-3-2/2024-08-06/
LOCATION:Fries Community Center\, 316 W. Main Street\, Fries\, Virginia\, 24330
ORGANIZER;CN="Town of Fries":MAILTO:townoffries@friesva.com
END:VEVENT
BEGIN:VEVENT
DTSTART;TZID=America/New_York:20240702T190000
DTEND;TZID=America/New_York:20240702T200000
DTSTAMP:20260423T223751
CREATED:20231011T140322Z
LAST-MODIFIED:20241127T101937Z
UID:10000367-1719946800-1719950400@friesva.com
SUMMARY:Town Council Monthly Meeting
DESCRIPTION:The Fries Town Council meets the first Tuesday of every month at 7 p.m.at The Historic Fries Theatre.  The meeting is open to the public.
URL:https://friesva.com/event/town-council-monthly-meeting-3-2/2024-07-02/
LOCATION:Fries Community Center\, 316 W. Main Street\, Fries\, Virginia\, 24330
ORGANIZER;CN="Town of Fries":MAILTO:townoffries@friesva.com
END:VEVENT
BEGIN:VEVENT
DTSTART;TZID=America/New_York:20240604T190000
DTEND;TZID=America/New_York:20240604T200000
DTSTAMP:20260423T223751
CREATED:20231011T140322Z
LAST-MODIFIED:20241127T101937Z
UID:10000366-1717527600-1717531200@friesva.com
SUMMARY:Town Council Monthly Meeting
DESCRIPTION:The Fries Town Council meets the first Tuesday of every month at 7 p.m.at The Historic Fries Theatre.  The meeting is open to the public.
URL:https://friesva.com/event/town-council-monthly-meeting-3-2/2024-06-04/
LOCATION:Fries Community Center\, 316 W. Main Street\, Fries\, Virginia\, 24330
ORGANIZER;CN="Town of Fries":MAILTO:townoffries@friesva.com
END:VEVENT
BEGIN:VEVENT
DTSTART;TZID=America/New_York:20240525T090000
DTEND;TZID=America/New_York:20240525T130000
DTSTAMP:20260423T223751
CREATED:20240331T101855Z
LAST-MODIFIED:20240402T004634Z
UID:10000543-1716627600-1716642000@friesva.com
SUMMARY:Town Market grand opening
DESCRIPTION:Market opens May 25. Turn in vendor applications ASAP
URL:https://friesva.com/event/town-market-grand-opening/
LOCATION:The Depot\, 510 Riverview Avenue\, Fries\, Virginia\, 24330
ATTACH;FMTTYPE=image/jpeg:https://friesva.com/wp-content/uploads/2023/10/2023-10-04-Foggy-Fries_7229.jpg
ORGANIZER;CN="Town of Fries":MAILTO:townoffries@friesva.com
END:VEVENT
BEGIN:VEVENT
DTSTART;TZID=America/New_York:20240507T190000
DTEND;TZID=America/New_York:20240507T200000
DTSTAMP:20260423T223751
CREATED:20231011T140322Z
LAST-MODIFIED:20241127T101937Z
UID:10000365-1715108400-1715112000@friesva.com
SUMMARY:Town Council Monthly Meeting
DESCRIPTION:The Fries Town Council meets the first Tuesday of every month at 7 p.m.at The Historic Fries Theatre.  The meeting is open to the public.
URL:https://friesva.com/event/town-council-monthly-meeting-3-2/2024-05-07/
LOCATION:Fries Community Center\, 316 W. Main Street\, Fries\, Virginia\, 24330
ORGANIZER;CN="Town of Fries":MAILTO:townoffries@friesva.com
END:VEVENT
BEGIN:VEVENT
DTSTART;TZID=America/New_York:20240402T190000
DTEND;TZID=America/New_York:20240402T200000
DTSTAMP:20260423T223751
CREATED:20231011T140322Z
LAST-MODIFIED:20241127T101937Z
UID:10000364-1712084400-1712088000@friesva.com
SUMMARY:Town Council Monthly Meeting
DESCRIPTION:The Fries Town Council meets the first Tuesday of every month at 7 p.m.at The Historic Fries Theatre.  The meeting is open to the public.
URL:https://friesva.com/event/town-council-monthly-meeting-3-2/2024-04-02/
LOCATION:Fries Community Center\, 316 W. Main Street\, Fries\, Virginia\, 24330
ORGANIZER;CN="Town of Fries":MAILTO:townoffries@friesva.com
END:VEVENT
BEGIN:VEVENT
DTSTART;TZID=America/New_York:20240305T190000
DTEND;TZID=America/New_York:20240305T200000
DTSTAMP:20260423T223751
CREATED:20231011T140322Z
LAST-MODIFIED:20241127T101937Z
UID:10000363-1709665200-1709668800@friesva.com
SUMMARY:Town Council Monthly Meeting
DESCRIPTION:The Fries Town Council meets the first Tuesday of every month at 7 p.m.at The Historic Fries Theatre.  The meeting is open to the public.
URL:https://friesva.com/event/town-council-monthly-meeting-3-2/2024-03-05/
LOCATION:Fries Community Center\, 316 W. Main Street\, Fries\, Virginia\, 24330
ORGANIZER;CN="Town of Fries":MAILTO:townoffries@friesva.com
END:VEVENT
BEGIN:VEVENT
DTSTART;TZID=America/New_York:20240206T190000
DTEND;TZID=America/New_York:20240206T200000
DTSTAMP:20260423T223751
CREATED:20231011T140322Z
LAST-MODIFIED:20241127T101937Z
UID:10000362-1707246000-1707249600@friesva.com
SUMMARY:Town Council Monthly Meeting
DESCRIPTION:The Fries Town Council meets the first Tuesday of every month at 7 p.m.at The Historic Fries Theatre.  The meeting is open to the public.
URL:https://friesva.com/event/town-council-monthly-meeting-3-2/2024-02-06/
LOCATION:Fries Community Center\, 316 W. Main Street\, Fries\, Virginia\, 24330
ORGANIZER;CN="Town of Fries":MAILTO:townoffries@friesva.com
END:VEVENT
BEGIN:VEVENT
DTSTART;TZID=America/New_York:20240102T190000
DTEND;TZID=America/New_York:20240102T200000
DTSTAMP:20260423T223751
CREATED:20231011T140322Z
LAST-MODIFIED:20241127T101937Z
UID:10000682-1704222000-1704225600@friesva.com
SUMMARY:Town Council Monthly Meeting
DESCRIPTION:The Fries Town Council meets the first Tuesday of every month at 7 p.m.at The Historic Fries Theatre.  The meeting is open to the public.
URL:https://friesva.com/event/town-council-monthly-meeting-3-2/2024-01-02/
LOCATION:Fries Community Center\, 316 W. Main Street\, Fries\, Virginia\, 24330
ORGANIZER;CN="Town of Fries":MAILTO:townoffries@friesva.com
END:VEVENT
BEGIN:VEVENT
DTSTART;TZID=America/New_York:20231205T190000
DTEND;TZID=America/New_York:20231205T200000
DTSTAMP:20260423T223751
CREATED:20231011T140322Z
LAST-MODIFIED:20241127T101937Z
UID:10000360-1701802800-1701806400@friesva.com
SUMMARY:Town Council Monthly Meeting
DESCRIPTION:The Fries Town Council meets the first Tuesday of every month at 7 p.m.at The Historic Fries Theatre.  The meeting is open to the public.
URL:https://friesva.com/event/town-council-monthly-meeting-3-2/2023-12-05/
LOCATION:Fries Community Center\, 316 W. Main Street\, Fries\, Virginia\, 24330
ORGANIZER;CN="Town of Fries":MAILTO:townoffries@friesva.com
END:VEVENT
BEGIN:VEVENT
DTSTART;TZID=America/New_York:20231114T080000
DTEND;TZID=America/New_York:20231114T170000
DTSTAMP:20260423T223751
CREATED:20231011T141507Z
LAST-MODIFIED:20231011T141509Z
UID:10000478-1699948800-1699981200@friesva.com
SUMMARY:Town Council Monthly Meeting
DESCRIPTION:The Fries Town Council usually meets the first Tuesday of every month at 7 p.m. in the Fries Community Center dining room. \nThe November meeting is being held on Nov 14 because Nov 7  is Election Day. \nThe meeting is open to the public.
URL:https://friesva.com/event/town-council-monthly-meeting-3-3/
LOCATION:Fries Community Center\, 316 W. Main Street\, Fries\, Virginia\, 24330
ORGANIZER;CN="Town of Fries":MAILTO:townoffries@friesva.com
END:VEVENT
BEGIN:VEVENT
DTSTART;TZID=America/New_York:20231003T190000
DTEND;TZID=America/New_York:20231003T200000
DTSTAMP:20260423T223751
CREATED:20230126T224510Z
LAST-MODIFIED:20231011T141159Z
UID:10000116-1696359600-1696363200@friesva.com
SUMMARY:Town Council Monthly Meeting
DESCRIPTION:The Fries Town Council meets the first Tuesday of every month at 7 p.m. in the Fries Community Center dining room. The meeting is open to the public. Obsolete 1.
URL:https://friesva.com/event/town-council-monthly-meeting/2023-10-03/
LOCATION:Fries Community Center\, 316 W. Main Street\, Fries\, Virginia\, 24330
ORGANIZER;CN="Town of Fries":MAILTO:townoffries@friesva.com
END:VEVENT
BEGIN:VEVENT
DTSTART;TZID=America/New_York:20230905T190000
DTEND;TZID=America/New_York:20230905T200000
DTSTAMP:20260423T223751
CREATED:20230126T224510Z
LAST-MODIFIED:20231011T141159Z
UID:10000115-1693940400-1693944000@friesva.com
SUMMARY:Town Council Monthly Meeting
DESCRIPTION:The Fries Town Council meets the first Tuesday of every month at 7 p.m. in the Fries Community Center dining room. The meeting is open to the public. Obsolete 1.
URL:https://friesva.com/event/town-council-monthly-meeting/2023-09-05/
LOCATION:Fries Community Center\, 316 W. Main Street\, Fries\, Virginia\, 24330
ORGANIZER;CN="Town of Fries":MAILTO:townoffries@friesva.com
END:VEVENT
BEGIN:VEVENT
DTSTART;TZID=America/New_York:20230801T190000
DTEND;TZID=America/New_York:20230801T200000
DTSTAMP:20260423T223751
CREATED:20230126T224510Z
LAST-MODIFIED:20231011T141159Z
UID:10000114-1690916400-1690920000@friesva.com
SUMMARY:Town Council Monthly Meeting
DESCRIPTION:The Fries Town Council meets the first Tuesday of every month at 7 p.m. in the Fries Community Center dining room. The meeting is open to the public. Obsolete 1.
URL:https://friesva.com/event/town-council-monthly-meeting/2023-08-01/
LOCATION:Fries Community Center\, 316 W. Main Street\, Fries\, Virginia\, 24330
ORGANIZER;CN="Town of Fries":MAILTO:townoffries@friesva.com
END:VEVENT
BEGIN:VEVENT
DTSTART;TZID=America/New_York:20230606T190000
DTEND;TZID=America/New_York:20230606T200000
DTSTAMP:20260423T223751
CREATED:20230126T224510Z
LAST-MODIFIED:20231011T141159Z
UID:10000112-1686078000-1686081600@friesva.com
SUMMARY:Town Council Monthly Meeting
DESCRIPTION:The Fries Town Council meets the first Tuesday of every month at 7 p.m. in the Fries Community Center dining room. The meeting is open to the public. Obsolete 1.
URL:https://friesva.com/event/town-council-monthly-meeting/2023-06-06/
LOCATION:Fries Community Center\, 316 W. Main Street\, Fries\, Virginia\, 24330
ORGANIZER;CN="Town of Fries":MAILTO:townoffries@friesva.com
END:VEVENT
BEGIN:VEVENT
DTSTART;TZID=America/New_York:20230502T190000
DTEND;TZID=America/New_York:20230502T200000
DTSTAMP:20260423T223751
CREATED:20230126T224510Z
LAST-MODIFIED:20231011T141159Z
UID:10000111-1683054000-1683057600@friesva.com
SUMMARY:Town Council Monthly Meeting
DESCRIPTION:The Fries Town Council meets the first Tuesday of every month at 7 p.m. in the Fries Community Center dining room. The meeting is open to the public. Obsolete 1.
URL:https://friesva.com/event/town-council-monthly-meeting/2023-05-02/
LOCATION:Fries Community Center\, 316 W. Main Street\, Fries\, Virginia\, 24330
ORGANIZER;CN="Town of Fries":MAILTO:townoffries@friesva.com
END:VEVENT
BEGIN:VEVENT
DTSTART;TZID=America/New_York:20230404T190000
DTEND;TZID=America/New_York:20230404T200000
DTSTAMP:20260423T223751
CREATED:20230126T224510Z
LAST-MODIFIED:20231011T141159Z
UID:10000110-1680634800-1680638400@friesva.com
SUMMARY:Town Council Monthly Meeting
DESCRIPTION:The Fries Town Council meets the first Tuesday of every month at 7 p.m. in the Fries Community Center dining room. The meeting is open to the public. Obsolete 1.
URL:https://friesva.com/event/town-council-monthly-meeting/2023-04-04/
LOCATION:Fries Community Center\, 316 W. Main Street\, Fries\, Virginia\, 24330
ORGANIZER;CN="Town of Fries":MAILTO:townoffries@friesva.com
END:VEVENT
BEGIN:VEVENT
DTSTART;TZID=America/New_York:20230307T190000
DTEND;TZID=America/New_York:20230307T200000
DTSTAMP:20260423T223751
CREATED:20230126T224510Z
LAST-MODIFIED:20231011T141159Z
UID:10000109-1678215600-1678219200@friesva.com
SUMMARY:Town Council Monthly Meeting
DESCRIPTION:The Fries Town Council meets the first Tuesday of every month at 7 p.m. in the Fries Community Center dining room. The meeting is open to the public. Obsolete 1.
URL:https://friesva.com/event/town-council-monthly-meeting/2023-03-07/
LOCATION:Fries Community Center\, 316 W. Main Street\, Fries\, Virginia\, 24330
ORGANIZER;CN="Town of Fries":MAILTO:townoffries@friesva.com
END:VEVENT
BEGIN:VEVENT
DTSTART;TZID=America/New_York:20230207T190000
DTEND;TZID=America/New_York:20230207T200000
DTSTAMP:20260423T223751
CREATED:20230126T224510Z
LAST-MODIFIED:20231011T141159Z
UID:10000108-1675796400-1675800000@friesva.com
SUMMARY:Town Council Monthly Meeting
DESCRIPTION:The Fries Town Council meets the first Tuesday of every month at 7 p.m. in the Fries Community Center dining room. The meeting is open to the public. Obsolete 1.
URL:https://friesva.com/event/town-council-monthly-meeting/2023-02-07/
LOCATION:Fries Community Center\, 316 W. Main Street\, Fries\, Virginia\, 24330
ORGANIZER;CN="Town of Fries":MAILTO:townoffries@friesva.com
END:VEVENT
BEGIN:VEVENT
DTSTART;TZID=America/New_York:20230207T183000
DTEND;TZID=America/New_York:20230207T190000
DTSTAMP:20260423T223751
CREATED:20230126T225517Z
LAST-MODIFIED:20230126T225517Z
UID:10000168-1675794600-1675796400@friesva.com
SUMMARY:Joint Public Hearing - Town Council and Planning Committee
DESCRIPTION:Joint public hearing between Town Council and Planning Committee will be held Tuesday Feb 7th at 6:30 p.m.
URL:https://friesva.com/event/joint-public-hearing-town-council-and-planning-committee/
LOCATION:Fries Community Center\, 316 W. Main Street\, Fries\, Virginia\, 24330
ORGANIZER;CN="Town of Fries":MAILTO:townoffries@friesva.com
END:VEVENT
END:VCALENDAR