BEGIN:VCALENDAR
VERSION:2.0
PRODID:-// - ECPv6.15.20//NONSGML v1.0//EN
CALSCALE:GREGORIAN
METHOD:PUBLISH
X-ORIGINAL-URL:https://friesva.com
X-WR-CALDESC:Events for 
REFRESH-INTERVAL;VALUE=DURATION:PT1H
X-Robots-Tag:noindex
X-PUBLISHED-TTL:PT1H
BEGIN:VTIMEZONE
TZID:America/New_York
BEGIN:DAYLIGHT
TZOFFSETFROM:-0500
TZOFFSETTO:-0400
TZNAME:EDT
DTSTART:20210314T070000
END:DAYLIGHT
BEGIN:STANDARD
TZOFFSETFROM:-0400
TZOFFSETTO:-0500
TZNAME:EST
DTSTART:20211107T060000
END:STANDARD
BEGIN:DAYLIGHT
TZOFFSETFROM:-0500
TZOFFSETTO:-0400
TZNAME:EDT
DTSTART:20220313T070000
END:DAYLIGHT
BEGIN:STANDARD
TZOFFSETFROM:-0400
TZOFFSETTO:-0500
TZNAME:EST
DTSTART:20221106T060000
END:STANDARD
BEGIN:DAYLIGHT
TZOFFSETFROM:-0500
TZOFFSETTO:-0400
TZNAME:EDT
DTSTART:20230312T070000
END:DAYLIGHT
BEGIN:STANDARD
TZOFFSETFROM:-0400
TZOFFSETTO:-0500
TZNAME:EST
DTSTART:20231105T060000
END:STANDARD
BEGIN:DAYLIGHT
TZOFFSETFROM:-0500
TZOFFSETTO:-0400
TZNAME:EDT
DTSTART:20240310T070000
END:DAYLIGHT
BEGIN:STANDARD
TZOFFSETFROM:-0400
TZOFFSETTO:-0500
TZNAME:EST
DTSTART:20241103T060000
END:STANDARD
BEGIN:DAYLIGHT
TZOFFSETFROM:-0500
TZOFFSETTO:-0400
TZNAME:EDT
DTSTART:20250309T070000
END:DAYLIGHT
BEGIN:STANDARD
TZOFFSETFROM:-0400
TZOFFSETTO:-0500
TZNAME:EST
DTSTART:20251102T060000
END:STANDARD
BEGIN:DAYLIGHT
TZOFFSETFROM:-0500
TZOFFSETTO:-0400
TZNAME:EDT
DTSTART:20260308T070000
END:DAYLIGHT
BEGIN:STANDARD
TZOFFSETFROM:-0400
TZOFFSETTO:-0500
TZNAME:EST
DTSTART:20261101T060000
END:STANDARD
END:VTIMEZONE
BEGIN:VEVENT
DTSTART;TZID=America/New_York:20250705T170000
DTEND;TZID=America/New_York:20250705T213000
DTSTAMP:20260423T164805
CREATED:20250217T110933Z
LAST-MODIFIED:20250217T110933Z
UID:10000816-1751734800-1751751000@friesva.com
SUMMARY:Family and Friends by the River
DESCRIPTION:Family and Friends by the River\, 5pm until Fireworks \nFireworks at dark
URL:https://friesva.com/event/family-and-friends-by-the-river/
LOCATION:Big Bottom\, Fries\, 24330\, United States
END:VEVENT
BEGIN:VEVENT
DTSTART;TZID=America/New_York:20240421T140000
DTEND;TZID=America/New_York:20240421T190000
DTSTAMP:20260423T164805
CREATED:20240211T142257Z
LAST-MODIFIED:20240211T142257Z
UID:10000520-1713708000-1713726000@friesva.com
SUMMARY:Poker Ride
DESCRIPTION:Poker Ride sponsored by Fries Fire & Rescue \nMore info to come \n 
URL:https://friesva.com/event/poker-ride-2/
LOCATION:Big Bottom\, Fries\, 24330\, United States
END:VEVENT
BEGIN:VEVENT
DTSTART;TZID=America/New_York:20230827T140000
DTEND;TZID=America/New_York:20230827T190000
DTSTAMP:20260423T164805
CREATED:20230714T091353Z
LAST-MODIFIED:20230714T091353Z
UID:10000334-1693144800-1693162800@friesva.com
SUMMARY:Poker Ride
DESCRIPTION:Poker Ride sponsored by Fries Fire & Rescue \nRegistration at 2 p.m. \nRide starts at 3 p.m. \n$25 to participate. $5 for each additional passenger. \nAll types of bikes and cars welcome.
URL:https://friesva.com/event/poker-ride/
LOCATION:Big Bottom\, Fries\, 24330\, United States
END:VEVENT
BEGIN:VEVENT
DTSTART;TZID=America/New_York:20220723T080000
DTEND;TZID=America/New_York:20220723T170000
DTSTAMP:20260423T164805
CREATED:20220712T174959Z
LAST-MODIFIED:20220720T200139Z
UID:10000006-1658563200-1658595600@friesva.com
SUMMARY:Poker Float
DESCRIPTION:Poker Float will begin promptly at 12pm. First draw (2 cards) will take place at big bottom where float starts. Second draw (1 card) will take place at Low Water Bridge where float ends. Third draw (2 cards) will take place back at big bottom. Shuttle service will be available. $20.00 per hand\, extra hands $10.00 each. You do not have to float to play.
URL:https://friesva.com/event/poker-float/
LOCATION:Big Bottom\, Fries\, 24330\, United States
ATTACH;FMTTYPE=image/jpeg:https://friesva.com/wp-content/uploads/2022/07/2022-05-11-Fries_0202_3_4_5_6_Enhancer.jpg
END:VEVENT
END:VCALENDAR