BEGIN:VCALENDAR
VERSION:2.0
PRODID:-// - ECPv6.15.20//NONSGML v1.0//EN
CALSCALE:GREGORIAN
METHOD:PUBLISH
X-ORIGINAL-URL:https://friesva.com
X-WR-CALDESC:Events for 
REFRESH-INTERVAL;VALUE=DURATION:PT1H
X-Robots-Tag:noindex
X-PUBLISHED-TTL:PT1H
BEGIN:VTIMEZONE
TZID:America/New_York
BEGIN:DAYLIGHT
TZOFFSETFROM:-0500
TZOFFSETTO:-0400
TZNAME:EDT
DTSTART:20220313T070000
END:DAYLIGHT
BEGIN:STANDARD
TZOFFSETFROM:-0400
TZOFFSETTO:-0500
TZNAME:EST
DTSTART:20221106T060000
END:STANDARD
BEGIN:DAYLIGHT
TZOFFSETFROM:-0500
TZOFFSETTO:-0400
TZNAME:EDT
DTSTART:20230312T070000
END:DAYLIGHT
BEGIN:STANDARD
TZOFFSETFROM:-0400
TZOFFSETTO:-0500
TZNAME:EST
DTSTART:20231105T060000
END:STANDARD
BEGIN:DAYLIGHT
TZOFFSETFROM:-0500
TZOFFSETTO:-0400
TZNAME:EDT
DTSTART:20240310T070000
END:DAYLIGHT
BEGIN:STANDARD
TZOFFSETFROM:-0400
TZOFFSETTO:-0500
TZNAME:EST
DTSTART:20241103T060000
END:STANDARD
END:VTIMEZONE
BEGIN:VEVENT
DTSTART;TZID=America/New_York:20230502T190000
DTEND;TZID=America/New_York:20230502T200000
DTSTAMP:20260424T002115
CREATED:20230126T224510Z
LAST-MODIFIED:20231011T141159Z
UID:10000111-1683054000-1683057600@friesva.com
SUMMARY:Town Council Monthly Meeting
DESCRIPTION:The Fries Town Council meets the first Tuesday of every month at 7 p.m. in the Fries Community Center dining room. The meeting is open to the public. Obsolete 1.
URL:https://friesva.com/event/town-council-monthly-meeting/2023-05-02/
LOCATION:Fries Community Center\, 316 W. Main Street\, Fries\, Virginia\, 24330
ORGANIZER;CN="Town of Fries":MAILTO:townoffries@friesva.com
END:VEVENT
BEGIN:VEVENT
DTSTART;TZID=America/New_York:20230427T190000
DTEND;TZID=America/New_York:20230427T210000
DTSTAMP:20260424T002115
CREATED:20230221T030409Z
LAST-MODIFIED:20230221T030409Z
UID:10000183-1682622000-1682629200@friesva.com
SUMMARY:Thursday Night Jam Session
DESCRIPTION:Folks from all over the world find their way to the historic Fries Theatre for the weekly Thursday night jams. All visitors are welcome to mingle with the local residents who gather for a relaxing evening of old-time music and fellowship. The Fries jams are an affiliated venue on the famous Crooked Road – Virginia’s Heritage Music Trail. \n  \nBring a banjo\, dulcimer\, guitar\, fiddle\, or bass\, and join in the music circle. And there’s dancing all evening. If you don’t know the traditional two-step waltz\, just ask and someone will help. The jams are for all ages. \n  \nDoors open every Thursday at 6 p.m. and the music runs from 7 – 9 p.m. During a break\, around 8 p.m.\, there’s a real cake walk and the winner in this jolly tradition takes home a cake or other baked treat. \n  \nThe jams are free\, but donations are gratefully accepted. Refreshments are available. \n  \nDuring summer months there are occasional Friday night dances scheduled\, featuring the best local bands. 
URL:https://friesva.com/event/thursday-night-jam-session/2023-04-27/
LOCATION:Fries Community Center\, 316 W. Main Street\, Fries\, Virginia\, 24330
ATTACH;FMTTYPE=image/jpeg:https://friesva.com/wp-content/uploads/2022/07/2021-11-18-Fries-Jam_9809.jpg
END:VEVENT
BEGIN:VEVENT
DTSTART;TZID=America/New_York:20230420T190000
DTEND;TZID=America/New_York:20230420T210000
DTSTAMP:20260424T002115
CREATED:20230221T030409Z
LAST-MODIFIED:20230221T030409Z
UID:10000182-1682017200-1682024400@friesva.com
SUMMARY:Thursday Night Jam Session
DESCRIPTION:Folks from all over the world find their way to the historic Fries Theatre for the weekly Thursday night jams. All visitors are welcome to mingle with the local residents who gather for a relaxing evening of old-time music and fellowship. The Fries jams are an affiliated venue on the famous Crooked Road – Virginia’s Heritage Music Trail. \n  \nBring a banjo\, dulcimer\, guitar\, fiddle\, or bass\, and join in the music circle. And there’s dancing all evening. If you don’t know the traditional two-step waltz\, just ask and someone will help. The jams are for all ages. \n  \nDoors open every Thursday at 6 p.m. and the music runs from 7 – 9 p.m. During a break\, around 8 p.m.\, there’s a real cake walk and the winner in this jolly tradition takes home a cake or other baked treat. \n  \nThe jams are free\, but donations are gratefully accepted. Refreshments are available. \n  \nDuring summer months there are occasional Friday night dances scheduled\, featuring the best local bands. 
URL:https://friesva.com/event/thursday-night-jam-session/2023-04-20/
LOCATION:Fries Community Center\, 316 W. Main Street\, Fries\, Virginia\, 24330
ATTACH;FMTTYPE=image/jpeg:https://friesva.com/wp-content/uploads/2022/07/2021-11-18-Fries-Jam_9809.jpg
END:VEVENT
BEGIN:VEVENT
DTSTART;TZID=America/New_York:20230413T190000
DTEND;TZID=America/New_York:20230413T210000
DTSTAMP:20260424T002115
CREATED:20230221T030409Z
LAST-MODIFIED:20230221T030409Z
UID:10000181-1681412400-1681419600@friesva.com
SUMMARY:Thursday Night Jam Session
DESCRIPTION:Folks from all over the world find their way to the historic Fries Theatre for the weekly Thursday night jams. All visitors are welcome to mingle with the local residents who gather for a relaxing evening of old-time music and fellowship. The Fries jams are an affiliated venue on the famous Crooked Road – Virginia’s Heritage Music Trail. \n  \nBring a banjo\, dulcimer\, guitar\, fiddle\, or bass\, and join in the music circle. And there’s dancing all evening. If you don’t know the traditional two-step waltz\, just ask and someone will help. The jams are for all ages. \n  \nDoors open every Thursday at 6 p.m. and the music runs from 7 – 9 p.m. During a break\, around 8 p.m.\, there’s a real cake walk and the winner in this jolly tradition takes home a cake or other baked treat. \n  \nThe jams are free\, but donations are gratefully accepted. Refreshments are available. \n  \nDuring summer months there are occasional Friday night dances scheduled\, featuring the best local bands. 
URL:https://friesva.com/event/thursday-night-jam-session/2023-04-13/
LOCATION:Fries Community Center\, 316 W. Main Street\, Fries\, Virginia\, 24330
ATTACH;FMTTYPE=image/jpeg:https://friesva.com/wp-content/uploads/2022/07/2021-11-18-Fries-Jam_9809.jpg
END:VEVENT
BEGIN:VEVENT
DTSTART;TZID=America/New_York:20230406T190000
DTEND;TZID=America/New_York:20230406T210000
DTSTAMP:20260424T002115
CREATED:20230221T030409Z
LAST-MODIFIED:20230221T030409Z
UID:10000180-1680807600-1680814800@friesva.com
SUMMARY:Thursday Night Jam Session
DESCRIPTION:Folks from all over the world find their way to the historic Fries Theatre for the weekly Thursday night jams. All visitors are welcome to mingle with the local residents who gather for a relaxing evening of old-time music and fellowship. The Fries jams are an affiliated venue on the famous Crooked Road – Virginia’s Heritage Music Trail. \n  \nBring a banjo\, dulcimer\, guitar\, fiddle\, or bass\, and join in the music circle. And there’s dancing all evening. If you don’t know the traditional two-step waltz\, just ask and someone will help. The jams are for all ages. \n  \nDoors open every Thursday at 6 p.m. and the music runs from 7 – 9 p.m. During a break\, around 8 p.m.\, there’s a real cake walk and the winner in this jolly tradition takes home a cake or other baked treat. \n  \nThe jams are free\, but donations are gratefully accepted. Refreshments are available. \n  \nDuring summer months there are occasional Friday night dances scheduled\, featuring the best local bands. 
URL:https://friesva.com/event/thursday-night-jam-session/2023-04-06/
LOCATION:Fries Community Center\, 316 W. Main Street\, Fries\, Virginia\, 24330
ATTACH;FMTTYPE=image/jpeg:https://friesva.com/wp-content/uploads/2022/07/2021-11-18-Fries-Jam_9809.jpg
END:VEVENT
BEGIN:VEVENT
DTSTART;TZID=America/New_York:20230404T190000
DTEND;TZID=America/New_York:20230404T200000
DTSTAMP:20260424T002115
CREATED:20230126T224510Z
LAST-MODIFIED:20231011T141159Z
UID:10000110-1680634800-1680638400@friesva.com
SUMMARY:Town Council Monthly Meeting
DESCRIPTION:The Fries Town Council meets the first Tuesday of every month at 7 p.m. in the Fries Community Center dining room. The meeting is open to the public. Obsolete 1.
URL:https://friesva.com/event/town-council-monthly-meeting/2023-04-04/
LOCATION:Fries Community Center\, 316 W. Main Street\, Fries\, Virginia\, 24330
ORGANIZER;CN="Town of Fries":MAILTO:townoffries@friesva.com
END:VEVENT
BEGIN:VEVENT
DTSTART;TZID=America/New_York:20230330T190000
DTEND;TZID=America/New_York:20230330T210000
DTSTAMP:20260424T002115
CREATED:20230221T030409Z
LAST-MODIFIED:20230221T030409Z
UID:10000179-1680202800-1680210000@friesva.com
SUMMARY:Thursday Night Jam Session
DESCRIPTION:Folks from all over the world find their way to the historic Fries Theatre for the weekly Thursday night jams. All visitors are welcome to mingle with the local residents who gather for a relaxing evening of old-time music and fellowship. The Fries jams are an affiliated venue on the famous Crooked Road – Virginia’s Heritage Music Trail. \n  \nBring a banjo\, dulcimer\, guitar\, fiddle\, or bass\, and join in the music circle. And there’s dancing all evening. If you don’t know the traditional two-step waltz\, just ask and someone will help. The jams are for all ages. \n  \nDoors open every Thursday at 6 p.m. and the music runs from 7 – 9 p.m. During a break\, around 8 p.m.\, there’s a real cake walk and the winner in this jolly tradition takes home a cake or other baked treat. \n  \nThe jams are free\, but donations are gratefully accepted. Refreshments are available. \n  \nDuring summer months there are occasional Friday night dances scheduled\, featuring the best local bands. 
URL:https://friesva.com/event/thursday-night-jam-session/2023-03-30/
LOCATION:Fries Community Center\, 316 W. Main Street\, Fries\, Virginia\, 24330
ATTACH;FMTTYPE=image/jpeg:https://friesva.com/wp-content/uploads/2022/07/2021-11-18-Fries-Jam_9809.jpg
END:VEVENT
BEGIN:VEVENT
DTSTART;TZID=America/New_York:20230323T190000
DTEND;TZID=America/New_York:20230323T210000
DTSTAMP:20260424T002115
CREATED:20230221T030409Z
LAST-MODIFIED:20230221T030409Z
UID:10000178-1679598000-1679605200@friesva.com
SUMMARY:Thursday Night Jam Session
DESCRIPTION:Folks from all over the world find their way to the historic Fries Theatre for the weekly Thursday night jams. All visitors are welcome to mingle with the local residents who gather for a relaxing evening of old-time music and fellowship. The Fries jams are an affiliated venue on the famous Crooked Road – Virginia’s Heritage Music Trail. \n  \nBring a banjo\, dulcimer\, guitar\, fiddle\, or bass\, and join in the music circle. And there’s dancing all evening. If you don’t know the traditional two-step waltz\, just ask and someone will help. The jams are for all ages. \n  \nDoors open every Thursday at 6 p.m. and the music runs from 7 – 9 p.m. During a break\, around 8 p.m.\, there’s a real cake walk and the winner in this jolly tradition takes home a cake or other baked treat. \n  \nThe jams are free\, but donations are gratefully accepted. Refreshments are available. \n  \nDuring summer months there are occasional Friday night dances scheduled\, featuring the best local bands. 
URL:https://friesva.com/event/thursday-night-jam-session/2023-03-23/
LOCATION:Fries Community Center\, 316 W. Main Street\, Fries\, Virginia\, 24330
ATTACH;FMTTYPE=image/jpeg:https://friesva.com/wp-content/uploads/2022/07/2021-11-18-Fries-Jam_9809.jpg
END:VEVENT
BEGIN:VEVENT
DTSTART;TZID=America/New_York:20230316T190000
DTEND;TZID=America/New_York:20230316T210000
DTSTAMP:20260424T002115
CREATED:20230221T030409Z
LAST-MODIFIED:20230221T030409Z
UID:10000177-1678993200-1679000400@friesva.com
SUMMARY:Thursday Night Jam Session
DESCRIPTION:Folks from all over the world find their way to the historic Fries Theatre for the weekly Thursday night jams. All visitors are welcome to mingle with the local residents who gather for a relaxing evening of old-time music and fellowship. The Fries jams are an affiliated venue on the famous Crooked Road – Virginia’s Heritage Music Trail. \n  \nBring a banjo\, dulcimer\, guitar\, fiddle\, or bass\, and join in the music circle. And there’s dancing all evening. If you don’t know the traditional two-step waltz\, just ask and someone will help. The jams are for all ages. \n  \nDoors open every Thursday at 6 p.m. and the music runs from 7 – 9 p.m. During a break\, around 8 p.m.\, there’s a real cake walk and the winner in this jolly tradition takes home a cake or other baked treat. \n  \nThe jams are free\, but donations are gratefully accepted. Refreshments are available. \n  \nDuring summer months there are occasional Friday night dances scheduled\, featuring the best local bands. 
URL:https://friesva.com/event/thursday-night-jam-session/2023-03-16/
LOCATION:Fries Community Center\, 316 W. Main Street\, Fries\, Virginia\, 24330
ATTACH;FMTTYPE=image/jpeg:https://friesva.com/wp-content/uploads/2022/07/2021-11-18-Fries-Jam_9809.jpg
END:VEVENT
BEGIN:VEVENT
DTSTART;TZID=America/New_York:20230309T190000
DTEND;TZID=America/New_York:20230309T210000
DTSTAMP:20260424T002115
CREATED:20230221T030409Z
LAST-MODIFIED:20230221T030409Z
UID:10000176-1678388400-1678395600@friesva.com
SUMMARY:Thursday Night Jam Session
DESCRIPTION:Folks from all over the world find their way to the historic Fries Theatre for the weekly Thursday night jams. All visitors are welcome to mingle with the local residents who gather for a relaxing evening of old-time music and fellowship. The Fries jams are an affiliated venue on the famous Crooked Road – Virginia’s Heritage Music Trail. \n  \nBring a banjo\, dulcimer\, guitar\, fiddle\, or bass\, and join in the music circle. And there’s dancing all evening. If you don’t know the traditional two-step waltz\, just ask and someone will help. The jams are for all ages. \n  \nDoors open every Thursday at 6 p.m. and the music runs from 7 – 9 p.m. During a break\, around 8 p.m.\, there’s a real cake walk and the winner in this jolly tradition takes home a cake or other baked treat. \n  \nThe jams are free\, but donations are gratefully accepted. Refreshments are available. \n  \nDuring summer months there are occasional Friday night dances scheduled\, featuring the best local bands. 
URL:https://friesva.com/event/thursday-night-jam-session/2023-03-09/
LOCATION:Fries Community Center\, 316 W. Main Street\, Fries\, Virginia\, 24330
ATTACH;FMTTYPE=image/jpeg:https://friesva.com/wp-content/uploads/2022/07/2021-11-18-Fries-Jam_9809.jpg
END:VEVENT
BEGIN:VEVENT
DTSTART;TZID=America/New_York:20230307T190000
DTEND;TZID=America/New_York:20230307T200000
DTSTAMP:20260424T002115
CREATED:20230126T224510Z
LAST-MODIFIED:20231011T141159Z
UID:10000109-1678215600-1678219200@friesva.com
SUMMARY:Town Council Monthly Meeting
DESCRIPTION:The Fries Town Council meets the first Tuesday of every month at 7 p.m. in the Fries Community Center dining room. The meeting is open to the public. Obsolete 1.
URL:https://friesva.com/event/town-council-monthly-meeting/2023-03-07/
LOCATION:Fries Community Center\, 316 W. Main Street\, Fries\, Virginia\, 24330
ORGANIZER;CN="Town of Fries":MAILTO:townoffries@friesva.com
END:VEVENT
BEGIN:VEVENT
DTSTART;TZID=America/New_York:20230302T190000
DTEND;TZID=America/New_York:20230302T210000
DTSTAMP:20260424T002115
CREATED:20230221T030409Z
LAST-MODIFIED:20230221T030409Z
UID:10000175-1677783600-1677790800@friesva.com
SUMMARY:Thursday Night Jam Session
DESCRIPTION:Folks from all over the world find their way to the historic Fries Theatre for the weekly Thursday night jams. All visitors are welcome to mingle with the local residents who gather for a relaxing evening of old-time music and fellowship. The Fries jams are an affiliated venue on the famous Crooked Road – Virginia’s Heritage Music Trail. \n  \nBring a banjo\, dulcimer\, guitar\, fiddle\, or bass\, and join in the music circle. And there’s dancing all evening. If you don’t know the traditional two-step waltz\, just ask and someone will help. The jams are for all ages. \n  \nDoors open every Thursday at 6 p.m. and the music runs from 7 – 9 p.m. During a break\, around 8 p.m.\, there’s a real cake walk and the winner in this jolly tradition takes home a cake or other baked treat. \n  \nThe jams are free\, but donations are gratefully accepted. Refreshments are available. \n  \nDuring summer months there are occasional Friday night dances scheduled\, featuring the best local bands. 
URL:https://friesva.com/event/thursday-night-jam-session/2023-03-02/
LOCATION:Fries Community Center\, 316 W. Main Street\, Fries\, Virginia\, 24330
ATTACH;FMTTYPE=image/jpeg:https://friesva.com/wp-content/uploads/2022/07/2021-11-18-Fries-Jam_9809.jpg
END:VEVENT
BEGIN:VEVENT
DTSTART;TZID=America/New_York:20230207T190000
DTEND;TZID=America/New_York:20230207T200000
DTSTAMP:20260424T002115
CREATED:20230126T224510Z
LAST-MODIFIED:20231011T141159Z
UID:10000108-1675796400-1675800000@friesva.com
SUMMARY:Town Council Monthly Meeting
DESCRIPTION:The Fries Town Council meets the first Tuesday of every month at 7 p.m. in the Fries Community Center dining room. The meeting is open to the public. Obsolete 1.
URL:https://friesva.com/event/town-council-monthly-meeting/2023-02-07/
LOCATION:Fries Community Center\, 316 W. Main Street\, Fries\, Virginia\, 24330
ORGANIZER;CN="Town of Fries":MAILTO:townoffries@friesva.com
END:VEVENT
BEGIN:VEVENT
DTSTART;TZID=America/New_York:20230207T183000
DTEND;TZID=America/New_York:20230207T190000
DTSTAMP:20260424T002115
CREATED:20230126T225517Z
LAST-MODIFIED:20230126T225517Z
UID:10000168-1675794600-1675796400@friesva.com
SUMMARY:Joint Public Hearing - Town Council and Planning Committee
DESCRIPTION:Joint public hearing between Town Council and Planning Committee will be held Tuesday Feb 7th at 6:30 p.m.
URL:https://friesva.com/event/joint-public-hearing-town-council-and-planning-committee/
LOCATION:Fries Community Center\, 316 W. Main Street\, Fries\, Virginia\, 24330
ORGANIZER;CN="Town of Fries":MAILTO:townoffries@friesva.com
END:VEVENT
END:VCALENDAR