BEGIN:VCALENDAR
VERSION:2.0
PRODID:-// - ECPv6.15.20//NONSGML v1.0//EN
CALSCALE:GREGORIAN
METHOD:PUBLISH
X-ORIGINAL-URL:https://friesva.com
X-WR-CALDESC:Events for 
REFRESH-INTERVAL;VALUE=DURATION:PT1H
X-Robots-Tag:noindex
X-PUBLISHED-TTL:PT1H
BEGIN:VTIMEZONE
TZID:America/New_York
BEGIN:DAYLIGHT
TZOFFSETFROM:-0500
TZOFFSETTO:-0400
TZNAME:EDT
DTSTART:20220313T070000
END:DAYLIGHT
BEGIN:STANDARD
TZOFFSETFROM:-0400
TZOFFSETTO:-0500
TZNAME:EST
DTSTART:20221106T060000
END:STANDARD
BEGIN:DAYLIGHT
TZOFFSETFROM:-0500
TZOFFSETTO:-0400
TZNAME:EDT
DTSTART:20230312T070000
END:DAYLIGHT
BEGIN:STANDARD
TZOFFSETFROM:-0400
TZOFFSETTO:-0500
TZNAME:EST
DTSTART:20231105T060000
END:STANDARD
BEGIN:DAYLIGHT
TZOFFSETFROM:-0500
TZOFFSETTO:-0400
TZNAME:EDT
DTSTART:20240310T070000
END:DAYLIGHT
BEGIN:STANDARD
TZOFFSETFROM:-0400
TZOFFSETTO:-0500
TZNAME:EST
DTSTART:20241103T060000
END:STANDARD
END:VTIMEZONE
BEGIN:VEVENT
DTSTART;TZID=America/New_York:20230816T120000
DTEND;TZID=America/New_York:20230816T140000
DTSTAMP:20260423T192848
CREATED:20230808T010208Z
LAST-MODIFIED:20230808T010208Z
UID:10000343-1692187200-1692194400@friesva.com
SUMMARY:Fries Public Library - Wythe/Grayson Anniversary
DESCRIPTION:The 75th Anniversary of the Wythe-Grayson Regional Library will be celebrated with an open house at the Fries Public Library\, August 16\, 12-2 p.m. Looking Back\, Stepping Forward (Postcard) (Card) (Flyer (Portrait 8.5 × 11 in)) d
URL:https://friesva.com/event/fries-public-library-wythe-grayson-anniversary/
LOCATION:Fries Public Library\, 316 W. Main Street\, Fries\, VA\, 24330\, United States
ATTACH;FMTTYPE=image/jpeg:https://friesva.com/wp-content/uploads/2023/08/Wythe-library-logo.jpg
END:VEVENT
END:VCALENDAR