BEGIN:VCALENDAR
VERSION:2.0
PRODID:-// - ECPv6.15.20//NONSGML v1.0//EN
CALSCALE:GREGORIAN
METHOD:PUBLISH
X-ORIGINAL-URL:https://friesva.com
X-WR-CALDESC:Events for 
REFRESH-INTERVAL;VALUE=DURATION:PT1H
X-Robots-Tag:noindex
X-PUBLISHED-TTL:PT1H
BEGIN:VTIMEZONE
TZID:America/New_York
BEGIN:DAYLIGHT
TZOFFSETFROM:-0500
TZOFFSETTO:-0400
TZNAME:EDT
DTSTART:20220313T070000
END:DAYLIGHT
BEGIN:STANDARD
TZOFFSETFROM:-0400
TZOFFSETTO:-0500
TZNAME:EST
DTSTART:20221106T060000
END:STANDARD
BEGIN:DAYLIGHT
TZOFFSETFROM:-0500
TZOFFSETTO:-0400
TZNAME:EDT
DTSTART:20230312T070000
END:DAYLIGHT
BEGIN:STANDARD
TZOFFSETFROM:-0400
TZOFFSETTO:-0500
TZNAME:EST
DTSTART:20231105T060000
END:STANDARD
BEGIN:DAYLIGHT
TZOFFSETFROM:-0500
TZOFFSETTO:-0400
TZNAME:EDT
DTSTART:20240310T070000
END:DAYLIGHT
BEGIN:STANDARD
TZOFFSETFROM:-0400
TZOFFSETTO:-0500
TZNAME:EST
DTSTART:20241103T060000
END:STANDARD
BEGIN:DAYLIGHT
TZOFFSETFROM:-0500
TZOFFSETTO:-0400
TZNAME:EDT
DTSTART:20250309T070000
END:DAYLIGHT
BEGIN:STANDARD
TZOFFSETFROM:-0400
TZOFFSETTO:-0500
TZNAME:EST
DTSTART:20251102T060000
END:STANDARD
END:VTIMEZONE
BEGIN:VEVENT
DTSTART;TZID=America/New_York:20240720T140000
DTEND;TZID=America/New_York:20240720T210000
DTSTAMP:20260423T175540
CREATED:20240105T085740Z
LAST-MODIFIED:20240615T213943Z
UID:10000496-1721484000-1721509200@friesva.com
SUMMARY:Thunder by the River - Classic Car Cruise-in
DESCRIPTION:Thunder by the River Classic Car Cruise-in. 2 p.m. until 7 p.m. Free admission. Refreshments for sale. \n05/25/24 \n06/15/24 \n07/20/24 \n08/17/24 \n09/21/24
URL:https://friesva.com/event/thunder-by-the-river-classic-car-cruise-in-3/2024-07-20/
LOCATION:Fries Town Park\, Fries\, Virginia\, 24330
ATTACH;FMTTYPE=image/jpeg:https://friesva.com/wp-content/uploads/2023/01/2022-06-18-Cruise-In_2508.jpg
END:VEVENT
BEGIN:VEVENT
DTSTART;TZID=America/New_York:20240622T120000
DTEND;TZID=America/New_York:20240622T200000
DTSTAMP:20260423T175540
CREATED:20240220T194910Z
LAST-MODIFIED:20240220T194910Z
UID:10000524-1719057600-1719086400@friesva.com
SUMMARY:Go With the Flow Brewfest
DESCRIPTION:Go with the Flow Brewfest at Fries Town Park. Admission applies.
URL:https://friesva.com/event/go-with-the-flow-brewfest-2/
LOCATION:Fries Town Park\, Fries\, Virginia\, 24330
ATTACH;FMTTYPE=image/png:https://friesva.com/wp-content/uploads/2023/01/creek-bottom-brewing.png
END:VEVENT
BEGIN:VEVENT
DTSTART;TZID=America/New_York:20240615T140000
DTEND;TZID=America/New_York:20240615T190000
DTSTAMP:20260423T175540
CREATED:20240105T085740Z
LAST-MODIFIED:20240615T213943Z
UID:10000495-1718460000-1718478000@friesva.com
SUMMARY:Thunder by the River - Classic Car Cruise-in
DESCRIPTION:Thunder by the River Classic Car Cruise-in. 2 p.m. until 7 p.m. Free admission. Refreshments for sale. \n05/25/24 \n06/15/24 \n07/20/24 \n08/17/24 \n09/21/24
URL:https://friesva.com/event/thunder-by-the-river-classic-car-cruise-in-3/2024-06-15/
LOCATION:Fries Town Park\, Fries\, Virginia\, 24330
ATTACH;FMTTYPE=image/jpeg:https://friesva.com/wp-content/uploads/2023/01/2022-06-18-Cruise-In_2508.jpg
END:VEVENT
BEGIN:VEVENT
DTSTART;TZID=America/New_York:20240525T140000
DTEND;TZID=America/New_York:20240525T210000
DTSTAMP:20260423T175540
CREATED:20240105T085740Z
LAST-MODIFIED:20240615T213943Z
UID:10000494-1716645600-1716670800@friesva.com
SUMMARY:Thunder by the River - Classic Car Cruise-in
DESCRIPTION:Thunder by the River Classic Car Cruise-in. 2 p.m. until 7 p.m. Free admission. Refreshments for sale. \n05/25/24 \n06/15/24 \n07/20/24 \n08/17/24 \n09/21/24
URL:https://friesva.com/event/thunder-by-the-river-classic-car-cruise-in-3/2024-05-25/
LOCATION:Fries Town Park\, Fries\, Virginia\, 24330
ATTACH;FMTTYPE=image/jpeg:https://friesva.com/wp-content/uploads/2023/01/2022-06-18-Cruise-In_2508.jpg
END:VEVENT
BEGIN:VEVENT
DTSTART;TZID=America/New_York:20231014T130000
DTEND;TZID=America/New_York:20231014T210000
DTSTAMP:20260423T175540
CREATED:20230927T200620Z
LAST-MODIFIED:20230927T200620Z
UID:10000353-1697288400-1697317200@friesva.com
SUMMARY:Thunder by the River rescheduled
DESCRIPTION:The last cruise-in has been rescheduled to October 14th at 1 p.m.
URL:https://friesva.com/event/thunder-by-the-river-rescheduled/
LOCATION:Fries Town Park\, Fries\, Virginia\, 24330
ATTACH;FMTTYPE=image/jpeg:https://friesva.com/wp-content/uploads/2023/01/2022-05-28-Cruise-In_2527.jpg
END:VEVENT
BEGIN:VEVENT
DTSTART;TZID=America/New_York:20230930T110000
DTEND;TZID=America/New_York:20230930T210000
DTSTAMP:20260423T175540
CREATED:20230714T093415Z
LAST-MODIFIED:20230924T091441Z
UID:10000335-1696071600-1696107600@friesva.com
SUMMARY:Hippies Only Volkswagen Fest 2023
DESCRIPTION:Hippies Only Volkswagen Festival comes to Fries town park. Food\, music\, vendors\, laser light show. \nFree admission! \n  \n336 Firehouse Drive\, Fries\, VA \nhttps://www.facebook.com/groups/2041023109393598/ \n 
URL:https://friesva.com/event/hippies-only-volkswagen-festival/
LOCATION:Fries Town Park\, Fries\, Virginia\, 24330
ATTACH;FMTTYPE=image/jpeg:https://friesva.com/wp-content/uploads/2023/07/HIppies-only-graphic.jpg
END:VEVENT
BEGIN:VEVENT
DTSTART;TZID=America/New_York:20230923T140000
DTEND;TZID=America/New_York:20230923T200000
DTSTAMP:20260423T175540
CREATED:20230113T210259Z
LAST-MODIFIED:20230504T140603Z
UID:10000104-1695477600-1695499200@friesva.com
SUMMARY:Thunder by the River - Classic Car Cruise-in
DESCRIPTION:Thunder by the River Classic Car Cruise-in. 2 p.m. until dark. Free admission. Refreshments for sale. \n 
URL:https://friesva.com/event/thunder-by-the-river-classic-car-cruise-in/2023-09-23/
LOCATION:Fries Town Park\, Fries\, Virginia\, 24330
ATTACH;FMTTYPE=image/jpeg:https://friesva.com/wp-content/uploads/2023/01/2022-06-18-Cruise-In_2508.jpg
END:VEVENT
BEGIN:VEVENT
DTSTART;TZID=America/New_York:20230826T103000
DTEND;TZID=America/New_York:20230826T170000
DTSTAMP:20260423T175540
CREATED:20230815T135256Z
LAST-MODIFIED:20230815T135414Z
UID:10000345-1693045800-1693069200@friesva.com
SUMMARY:Kanawaga Fest
DESCRIPTION:Come join the New River Band of the Catawba Nation and its members as they clean tires and other debris from the New River. They will be cleaning from Fries Dam to the Fries low water bridge. \n 
URL:https://friesva.com/event/kanawaga-fest/
LOCATION:Fries Town Park\, Fries\, Virginia\, 24330
ATTACH;FMTTYPE=image/jpeg:https://friesva.com/wp-content/uploads/2023/08/Kanawagafest-logo.jpeg
END:VEVENT
BEGIN:VEVENT
DTSTART;TZID=America/New_York:20230715T140000
DTEND;TZID=America/New_York:20230715T210000
DTSTAMP:20260423T175540
CREATED:20230113T210259Z
LAST-MODIFIED:20230504T140603Z
UID:10000103-1689429600-1689454800@friesva.com
SUMMARY:Thunder by the River - Classic Car Cruise-in
DESCRIPTION:Thunder by the River Classic Car Cruise-in. 2 p.m. until dark. Free admission. Refreshments for sale. \n 
URL:https://friesva.com/event/thunder-by-the-river-classic-car-cruise-in/2023-07-15/
LOCATION:Fries Town Park\, Fries\, Virginia\, 24330
ATTACH;FMTTYPE=image/jpeg:https://friesva.com/wp-content/uploads/2023/01/2022-06-18-Cruise-In_2508.jpg
END:VEVENT
BEGIN:VEVENT
DTSTART;TZID=America/New_York:20230624T120000
DTEND;TZID=America/New_York:20230624T200000
DTSTAMP:20260423T175540
CREATED:20230114T035347Z
LAST-MODIFIED:20230114T035347Z
UID:10000105-1687608000-1687636800@friesva.com
SUMMARY:Go With the Flow Brewfest
DESCRIPTION:Go with the Flow Brewfest at Fries Town Park. Admission applies.
URL:https://friesva.com/event/go-with-the-flow-brewfest/
LOCATION:Fries Town Park\, Fries\, Virginia\, 24330
ATTACH;FMTTYPE=image/png:https://friesva.com/wp-content/uploads/2023/01/creek-bottom-brewing.png
END:VEVENT
BEGIN:VEVENT
DTSTART;TZID=America/New_York:20230617T140000
DTEND;TZID=America/New_York:20230617T210000
DTSTAMP:20260423T175540
CREATED:20230113T210259Z
LAST-MODIFIED:20230504T140603Z
UID:10000102-1687010400-1687035600@friesva.com
SUMMARY:Thunder by the River - Classic Car Cruise-in
DESCRIPTION:Thunder by the River Classic Car Cruise-in. 2 p.m. until dark. Free admission. Refreshments for sale. \n 
URL:https://friesva.com/event/thunder-by-the-river-classic-car-cruise-in/2023-06-17/
LOCATION:Fries Town Park\, Fries\, Virginia\, 24330
ATTACH;FMTTYPE=image/jpeg:https://friesva.com/wp-content/uploads/2023/01/2022-06-18-Cruise-In_2508.jpg
END:VEVENT
BEGIN:VEVENT
DTSTART;TZID=America/New_York:20230610T130000
DTEND;TZID=America/New_York:20230610T203000
DTSTAMP:20260423T175540
CREATED:20230606T233639Z
LAST-MODIFIED:20230606T233639Z
UID:10000280-1686402000-1686429000@friesva.com
SUMMARY:Fries Community CPR Day (Afternoon)
DESCRIPTION:CPR Flyer
URL:https://friesva.com/event/fries-community-cpr-day-afternoon/
LOCATION:Fries Town Park\, Fries\, Virginia\, 24330
ATTACH;FMTTYPE=image/jpeg:https://friesva.com/wp-content/uploads/2023/06/CPR-pic.jpg
END:VEVENT
BEGIN:VEVENT
DTSTART;TZID=America/New_York:20230527T120000
DTEND;TZID=America/New_York:20230527T203000
DTSTAMP:20260423T175540
CREATED:20230526T185720Z
LAST-MODIFIED:20230526T190121Z
UID:10000101-1685188800-1685219400@friesva.com
SUMMARY:Thunder by the River - Classic Car Cruise-in
DESCRIPTION:For the May event only – organizer has moved start time up to noon on Saturday due to the threat of rain. \nThunder by the River Classic Car Cruise-in. 2 p.m. until dark. Free admission. Refreshments for sale. \n 
URL:https://friesva.com/event/thunder-by-the-river-classic-car-cruise-in-2/
LOCATION:Fries Town Park\, Fries\, Virginia\, 24330
ATTACH;FMTTYPE=image/jpeg:https://friesva.com/wp-content/uploads/2023/01/2022-06-18-Cruise-In_2508.jpg
END:VEVENT
END:VCALENDAR