BEGIN:VCALENDAR
VERSION:2.0
PRODID:-// - ECPv6.15.20//NONSGML v1.0//EN
CALSCALE:GREGORIAN
METHOD:PUBLISH
X-ORIGINAL-URL:https://friesva.com
X-WR-CALDESC:Events for 
REFRESH-INTERVAL;VALUE=DURATION:PT1H
X-Robots-Tag:noindex
X-PUBLISHED-TTL:PT1H
BEGIN:VTIMEZONE
TZID:America/New_York
BEGIN:DAYLIGHT
TZOFFSETFROM:-0500
TZOFFSETTO:-0400
TZNAME:EDT
DTSTART:20220313T070000
END:DAYLIGHT
BEGIN:STANDARD
TZOFFSETFROM:-0400
TZOFFSETTO:-0500
TZNAME:EST
DTSTART:20221106T060000
END:STANDARD
BEGIN:DAYLIGHT
TZOFFSETFROM:-0500
TZOFFSETTO:-0400
TZNAME:EDT
DTSTART:20230312T070000
END:DAYLIGHT
BEGIN:STANDARD
TZOFFSETFROM:-0400
TZOFFSETTO:-0500
TZNAME:EST
DTSTART:20231105T060000
END:STANDARD
BEGIN:DAYLIGHT
TZOFFSETFROM:-0500
TZOFFSETTO:-0400
TZNAME:EDT
DTSTART:20240310T070000
END:DAYLIGHT
BEGIN:STANDARD
TZOFFSETFROM:-0400
TZOFFSETTO:-0500
TZNAME:EST
DTSTART:20241103T060000
END:STANDARD
BEGIN:DAYLIGHT
TZOFFSETFROM:-0500
TZOFFSETTO:-0400
TZNAME:EDT
DTSTART:20250309T070000
END:DAYLIGHT
BEGIN:STANDARD
TZOFFSETFROM:-0400
TZOFFSETTO:-0500
TZNAME:EST
DTSTART:20251102T060000
END:STANDARD
END:VTIMEZONE
BEGIN:VEVENT
DTSTART;TZID=America/New_York:20240912T170000
DTEND;TZID=America/New_York:20240912T180000
DTSTAMP:20260423T173249
CREATED:20240325T154818Z
LAST-MODIFIED:20240325T161002Z
UID:10000540-1726160400-1726164000@friesva.com
SUMMARY:Fries\, VA - History walking tour conducted by New Trail State Park
DESCRIPTION:History walking tour of Fries conducted by a New River Trail State Park Ranger. \nSee Virginia State Parks website for details. https://www.dcr.virginia.gov/state-parks/event?id=2024-02-16-19-15-02-380510-f3i \nWalk ends with jam session at The Historic Fries Theatre where you can enjoy local mountain music. \nThe history tour is free. There is a parking charge at the access point. \n 
URL:https://friesva.com/event/fries-va-history-walking-tour-conducted-by-new-trail-state-park/2024-09-12/
LOCATION:New River Trail Fries Access\, 323 Firehouse Drive\, Fries\, Virginia\, 24330
ATTACH;FMTTYPE=image/jpeg:https://friesva.com/wp-content/uploads/2023/04/2023-02-26-Foggy-morning_4549.jpg
END:VEVENT
BEGIN:VEVENT
DTSTART;TZID=America/New_York:20240815T170000
DTEND;TZID=America/New_York:20240815T180000
DTSTAMP:20260423T173249
CREATED:20240325T154818Z
LAST-MODIFIED:20240325T161002Z
UID:10000539-1723741200-1723744800@friesva.com
SUMMARY:Fries\, VA - History walking tour conducted by New Trail State Park
DESCRIPTION:History walking tour of Fries conducted by a New River Trail State Park Ranger. \nSee Virginia State Parks website for details. https://www.dcr.virginia.gov/state-parks/event?id=2024-02-16-19-15-02-380510-f3i \nWalk ends with jam session at The Historic Fries Theatre where you can enjoy local mountain music. \nThe history tour is free. There is a parking charge at the access point. \n 
URL:https://friesva.com/event/fries-va-history-walking-tour-conducted-by-new-trail-state-park/2024-08-15/
LOCATION:New River Trail Fries Access\, 323 Firehouse Drive\, Fries\, Virginia\, 24330
ATTACH;FMTTYPE=image/jpeg:https://friesva.com/wp-content/uploads/2023/04/2023-02-26-Foggy-morning_4549.jpg
END:VEVENT
BEGIN:VEVENT
DTSTART;TZID=America/New_York:20240815T150000
DTEND;TZID=America/New_York:20240815T163000
DTSTAMP:20260423T173249
CREATED:20240325T153340Z
LAST-MODIFIED:20240325T161053Z
UID:10000532-1723734000-1723739400@friesva.com
SUMMARY:Osprey Watch by New River Trail State Park
DESCRIPTION:Osprey watch program in Fries on several dates during the Spring – conducted by New River Trail State Park rangers. \nSee Virginia State Parks website for details. \nhttps://www.dcr.virginia.gov/state-parks/event?id=2024-03-05-16-32-16-545226-w9e \nApril 4\, April 6\, April 18\, May 2\, May 16\, June 6\, August 15\, 3:30 – 4:30 p.m. each day. \nThe osprey watch is free. There is a parking charge at the access point.
URL:https://friesva.com/event/osprey-watch-by-new-river-trail-state-park/2024-08-15/
LOCATION:New River Trail Fries Access\, 323 Firehouse Drive\, Fries\, Virginia\, 24330
ATTACH;FMTTYPE=image/jpeg:https://friesva.com/wp-content/uploads/2024/03/Osprey-pic-provided-by-NRTSP.jpg
END:VEVENT
BEGIN:VEVENT
DTSTART;TZID=America/New_York:20240606T170000
DTEND;TZID=America/New_York:20240606T180000
DTSTAMP:20260423T173249
CREATED:20240325T154818Z
LAST-MODIFIED:20240325T161002Z
UID:10000538-1717693200-1717696800@friesva.com
SUMMARY:Fries\, VA - History walking tour conducted by New Trail State Park
DESCRIPTION:History walking tour of Fries conducted by a New River Trail State Park Ranger. \nSee Virginia State Parks website for details. https://www.dcr.virginia.gov/state-parks/event?id=2024-02-16-19-15-02-380510-f3i \nWalk ends with jam session at The Historic Fries Theatre where you can enjoy local mountain music. \nThe history tour is free. There is a parking charge at the access point. \n 
URL:https://friesva.com/event/fries-va-history-walking-tour-conducted-by-new-trail-state-park/2024-06-06/
LOCATION:New River Trail Fries Access\, 323 Firehouse Drive\, Fries\, Virginia\, 24330
ATTACH;FMTTYPE=image/jpeg:https://friesva.com/wp-content/uploads/2023/04/2023-02-26-Foggy-morning_4549.jpg
END:VEVENT
BEGIN:VEVENT
DTSTART;TZID=America/New_York:20240606T153000
DTEND;TZID=America/New_York:20240606T163000
DTSTAMP:20260423T173249
CREATED:20240325T153340Z
LAST-MODIFIED:20240325T161053Z
UID:10000531-1717687800-1717691400@friesva.com
SUMMARY:Osprey Watch by New River Trail State Park
DESCRIPTION:Osprey watch program in Fries on several dates during the Spring – conducted by New River Trail State Park rangers. \nSee Virginia State Parks website for details. \nhttps://www.dcr.virginia.gov/state-parks/event?id=2024-03-05-16-32-16-545226-w9e \nApril 4\, April 6\, April 18\, May 2\, May 16\, June 6\, August 15\, 3:30 – 4:30 p.m. each day. \nThe osprey watch is free. There is a parking charge at the access point.
URL:https://friesva.com/event/osprey-watch-by-new-river-trail-state-park/2024-06-06/
LOCATION:New River Trail Fries Access\, 323 Firehouse Drive\, Fries\, Virginia\, 24330
ATTACH;FMTTYPE=image/jpeg:https://friesva.com/wp-content/uploads/2024/03/Osprey-pic-provided-by-NRTSP.jpg
END:VEVENT
BEGIN:VEVENT
DTSTART;TZID=America/New_York:20240516T170000
DTEND;TZID=America/New_York:20240516T180000
DTSTAMP:20260423T173249
CREATED:20240325T154818Z
LAST-MODIFIED:20240325T161002Z
UID:10000537-1715878800-1715882400@friesva.com
SUMMARY:Fries\, VA - History walking tour conducted by New Trail State Park
DESCRIPTION:History walking tour of Fries conducted by a New River Trail State Park Ranger. \nSee Virginia State Parks website for details. https://www.dcr.virginia.gov/state-parks/event?id=2024-02-16-19-15-02-380510-f3i \nWalk ends with jam session at The Historic Fries Theatre where you can enjoy local mountain music. \nThe history tour is free. There is a parking charge at the access point. \n 
URL:https://friesva.com/event/fries-va-history-walking-tour-conducted-by-new-trail-state-park/2024-05-16/
LOCATION:New River Trail Fries Access\, 323 Firehouse Drive\, Fries\, Virginia\, 24330
ATTACH;FMTTYPE=image/jpeg:https://friesva.com/wp-content/uploads/2023/04/2023-02-26-Foggy-morning_4549.jpg
END:VEVENT
BEGIN:VEVENT
DTSTART;TZID=America/New_York:20240516T153000
DTEND;TZID=America/New_York:20240516T163000
DTSTAMP:20260423T173249
CREATED:20240325T153340Z
LAST-MODIFIED:20240325T161053Z
UID:10000530-1715873400-1715877000@friesva.com
SUMMARY:Osprey Watch by New River Trail State Park
DESCRIPTION:Osprey watch program in Fries on several dates during the Spring – conducted by New River Trail State Park rangers. \nSee Virginia State Parks website for details. \nhttps://www.dcr.virginia.gov/state-parks/event?id=2024-03-05-16-32-16-545226-w9e \nApril 4\, April 6\, April 18\, May 2\, May 16\, June 6\, August 15\, 3:30 – 4:30 p.m. each day. \nThe osprey watch is free. There is a parking charge at the access point.
URL:https://friesva.com/event/osprey-watch-by-new-river-trail-state-park/2024-05-16/
LOCATION:New River Trail Fries Access\, 323 Firehouse Drive\, Fries\, Virginia\, 24330
ATTACH;FMTTYPE=image/jpeg:https://friesva.com/wp-content/uploads/2024/03/Osprey-pic-provided-by-NRTSP.jpg
END:VEVENT
BEGIN:VEVENT
DTSTART;TZID=America/New_York:20240502T170000
DTEND;TZID=America/New_York:20240502T180000
DTSTAMP:20260423T173249
CREATED:20240325T154818Z
LAST-MODIFIED:20240325T161002Z
UID:10000536-1714669200-1714672800@friesva.com
SUMMARY:Fries\, VA - History walking tour conducted by New Trail State Park
DESCRIPTION:History walking tour of Fries conducted by a New River Trail State Park Ranger. \nSee Virginia State Parks website for details. https://www.dcr.virginia.gov/state-parks/event?id=2024-02-16-19-15-02-380510-f3i \nWalk ends with jam session at The Historic Fries Theatre where you can enjoy local mountain music. \nThe history tour is free. There is a parking charge at the access point. \n 
URL:https://friesva.com/event/fries-va-history-walking-tour-conducted-by-new-trail-state-park/2024-05-02/
LOCATION:New River Trail Fries Access\, 323 Firehouse Drive\, Fries\, Virginia\, 24330
ATTACH;FMTTYPE=image/jpeg:https://friesva.com/wp-content/uploads/2023/04/2023-02-26-Foggy-morning_4549.jpg
END:VEVENT
BEGIN:VEVENT
DTSTART;TZID=America/New_York:20240502T153000
DTEND;TZID=America/New_York:20240502T163000
DTSTAMP:20260423T173249
CREATED:20240325T153340Z
LAST-MODIFIED:20240325T161053Z
UID:10000529-1714663800-1714667400@friesva.com
SUMMARY:Osprey Watch by New River Trail State Park
DESCRIPTION:Osprey watch program in Fries on several dates during the Spring – conducted by New River Trail State Park rangers. \nSee Virginia State Parks website for details. \nhttps://www.dcr.virginia.gov/state-parks/event?id=2024-03-05-16-32-16-545226-w9e \nApril 4\, April 6\, April 18\, May 2\, May 16\, June 6\, August 15\, 3:30 – 4:30 p.m. each day. \nThe osprey watch is free. There is a parking charge at the access point.
URL:https://friesva.com/event/osprey-watch-by-new-river-trail-state-park/2024-05-02/
LOCATION:New River Trail Fries Access\, 323 Firehouse Drive\, Fries\, Virginia\, 24330
ATTACH;FMTTYPE=image/jpeg:https://friesva.com/wp-content/uploads/2024/03/Osprey-pic-provided-by-NRTSP.jpg
END:VEVENT
BEGIN:VEVENT
DTSTART;TZID=America/New_York:20240418T173000
DTEND;TZID=America/New_York:20240418T193000
DTSTAMP:20260423T173249
CREATED:20240325T160911Z
LAST-MODIFIED:20240325T160911Z
UID:10000541-1713461400-1713468600@friesva.com
SUMMARY:Bike meet-up "Ride-the-rails: Fries to Gambetta Tunnel"
DESCRIPTION:New River Trail State Park rangers will conduct a group ride from the Fries access to Gambetta Tunnel. \nSee state park website for details: https://www.dcr.virginia.gov/state-parks/event?id=2024-02-01-11-06-57-976595-32b \nThe group ride is free. There is a parking charge at the access point.
URL:https://friesva.com/event/bike-meet-up-ride-the-rails-fries-to-gambetta-tunnel/
LOCATION:New River Trail Fries Access\, 323 Firehouse Drive\, Fries\, Virginia\, 24330
ATTACH;FMTTYPE=image/jpeg:https://friesva.com/wp-content/uploads/2024/03/2016-09-17-Fries_1195.jpg
END:VEVENT
BEGIN:VEVENT
DTSTART;TZID=America/New_York:20240418T170000
DTEND;TZID=America/New_York:20240418T180000
DTSTAMP:20260423T173249
CREATED:20240325T154818Z
LAST-MODIFIED:20240325T161002Z
UID:10000535-1713459600-1713463200@friesva.com
SUMMARY:Fries\, VA - History walking tour conducted by New Trail State Park
DESCRIPTION:History walking tour of Fries conducted by a New River Trail State Park Ranger. \nSee Virginia State Parks website for details. https://www.dcr.virginia.gov/state-parks/event?id=2024-02-16-19-15-02-380510-f3i \nWalk ends with jam session at The Historic Fries Theatre where you can enjoy local mountain music. \nThe history tour is free. There is a parking charge at the access point. \n 
URL:https://friesva.com/event/fries-va-history-walking-tour-conducted-by-new-trail-state-park/2024-04-18/
LOCATION:New River Trail Fries Access\, 323 Firehouse Drive\, Fries\, Virginia\, 24330
ATTACH;FMTTYPE=image/jpeg:https://friesva.com/wp-content/uploads/2023/04/2023-02-26-Foggy-morning_4549.jpg
END:VEVENT
BEGIN:VEVENT
DTSTART;TZID=America/New_York:20240418T150000
DTEND;TZID=America/New_York:20240418T163000
DTSTAMP:20260423T173249
CREATED:20240325T153340Z
LAST-MODIFIED:20240325T161053Z
UID:10000533-1713452400-1713457800@friesva.com
SUMMARY:Osprey Watch by New River Trail State Park
DESCRIPTION:Osprey watch program in Fries on several dates during the Spring – conducted by New River Trail State Park rangers. \nSee Virginia State Parks website for details. \nhttps://www.dcr.virginia.gov/state-parks/event?id=2024-03-05-16-32-16-545226-w9e \nApril 4\, April 6\, April 18\, May 2\, May 16\, June 6\, August 15\, 3:30 – 4:30 p.m. each day. \nThe osprey watch is free. There is a parking charge at the access point.
URL:https://friesva.com/event/osprey-watch-by-new-river-trail-state-park/2024-04-18/
LOCATION:New River Trail Fries Access\, 323 Firehouse Drive\, Fries\, Virginia\, 24330
ATTACH;FMTTYPE=image/jpeg:https://friesva.com/wp-content/uploads/2024/03/Osprey-pic-provided-by-NRTSP.jpg
END:VEVENT
BEGIN:VEVENT
DTSTART;TZID=America/New_York:20240413T080000
DTEND;TZID=America/New_York:20240413T150000
DTSTAMP:20260423T173249
CREATED:20240105T095050Z
LAST-MODIFIED:20240105T095050Z
UID:10000499-1712995200-1713020400@friesva.com
SUMMARY:New River Trail 50k and 25k
DESCRIPTION:The New River Trail 50k and 25k will start from the Fries access to the New River Trail. Visit website for more information and to register. See website for registration fee.
URL:https://friesva.com/event/new-river-trail-50k-and-25k-2/
LOCATION:New River Trail Fries Access\, 323 Firehouse Drive\, Fries\, Virginia\, 24330
ATTACH;FMTTYPE=image/png:https://friesva.com/wp-content/uploads/2023/01/image.png
END:VEVENT
BEGIN:VEVENT
DTSTART;TZID=America/New_York:20240406T153000
DTEND;TZID=America/New_York:20240406T163000
DTSTAMP:20260423T173249
CREATED:20240325T153340Z
LAST-MODIFIED:20240325T161053Z
UID:10000528-1712417400-1712421000@friesva.com
SUMMARY:Osprey Watch by New River Trail State Park
DESCRIPTION:Osprey watch program in Fries on several dates during the Spring – conducted by New River Trail State Park rangers. \nSee Virginia State Parks website for details. \nhttps://www.dcr.virginia.gov/state-parks/event?id=2024-03-05-16-32-16-545226-w9e \nApril 4\, April 6\, April 18\, May 2\, May 16\, June 6\, August 15\, 3:30 – 4:30 p.m. each day. \nThe osprey watch is free. There is a parking charge at the access point.
URL:https://friesva.com/event/osprey-watch-by-new-river-trail-state-park/2024-04-06/
LOCATION:New River Trail Fries Access\, 323 Firehouse Drive\, Fries\, Virginia\, 24330
ATTACH;FMTTYPE=image/jpeg:https://friesva.com/wp-content/uploads/2024/03/Osprey-pic-provided-by-NRTSP.jpg
END:VEVENT
BEGIN:VEVENT
DTSTART;TZID=America/New_York:20240404T170000
DTEND;TZID=America/New_York:20240404T180000
DTSTAMP:20260423T173249
CREATED:20240325T154818Z
LAST-MODIFIED:20240325T161002Z
UID:10000534-1712250000-1712253600@friesva.com
SUMMARY:Fries\, VA - History walking tour conducted by New Trail State Park
DESCRIPTION:History walking tour of Fries conducted by a New River Trail State Park Ranger. \nSee Virginia State Parks website for details. https://www.dcr.virginia.gov/state-parks/event?id=2024-02-16-19-15-02-380510-f3i \nWalk ends with jam session at The Historic Fries Theatre where you can enjoy local mountain music. \nThe history tour is free. There is a parking charge at the access point. \n 
URL:https://friesva.com/event/fries-va-history-walking-tour-conducted-by-new-trail-state-park/2024-04-04/
LOCATION:New River Trail Fries Access\, 323 Firehouse Drive\, Fries\, Virginia\, 24330
ATTACH;FMTTYPE=image/jpeg:https://friesva.com/wp-content/uploads/2023/04/2023-02-26-Foggy-morning_4549.jpg
END:VEVENT
BEGIN:VEVENT
DTSTART;TZID=America/New_York:20240404T153000
DTEND;TZID=America/New_York:20240404T163000
DTSTAMP:20260423T173249
CREATED:20240404T155325Z
LAST-MODIFIED:20240404T155326Z
UID:10000527-1712244600-1712248200@friesva.com
SUMMARY:Osprey Watch by New River Trail State Park
DESCRIPTION:April 4 Osprey watch cancelled due to weather. \n  \n  \nOsprey watch program in Fries on several dates during the Spring – conducted by New River Trail State Park rangers. \nSee Virginia State Parks website for details. \nhttps://www.dcr.virginia.gov/state-parks/event?id=2024-03-05-16-32-16-545226-w9e \nApril 4\, April 6\, April 18\, May 2\, May 16\, June 6\, August 15\, 3:30 – 4:30 p.m. each day. \nThe osprey watch is free. There is a parking charge at the access point.
URL:https://friesva.com/event/osprey-watch-by-new-river-trail-state-park-2/
LOCATION:New River Trail Fries Access\, 323 Firehouse Drive\, Fries\, Virginia\, 24330
ATTACH;FMTTYPE=image/jpeg:https://friesva.com/wp-content/uploads/2024/03/Osprey-pic-provided-by-NRTSP.jpg
END:VEVENT
BEGIN:VEVENT
DTSTART;TZID=America/New_York:20230415T080000
DTEND;TZID=America/New_York:20230415T150000
DTSTAMP:20260423T173249
CREATED:20230119T205727Z
LAST-MODIFIED:20230119T205727Z
UID:10000107-1681545600-1681570800@friesva.com
SUMMARY:New River Trail 50k and 25k
DESCRIPTION:The New River Trail 50k and 25k will start from the Fries access to the New River Trail. Visit website for more information and to register. See website for registration fee.
URL:https://friesva.com/event/new-river-trail-50k-and-25k/
LOCATION:New River Trail Fries Access\, 323 Firehouse Drive\, Fries\, Virginia\, 24330
ATTACH;FMTTYPE=image/png:https://friesva.com/wp-content/uploads/2023/01/image.png
END:VEVENT
END:VCALENDAR