BEGIN:VCALENDAR
VERSION:2.0
PRODID:-// - ECPv6.15.20//NONSGML v1.0//EN
CALSCALE:GREGORIAN
METHOD:PUBLISH
X-ORIGINAL-URL:https://friesva.com
X-WR-CALDESC:Events for 
REFRESH-INTERVAL;VALUE=DURATION:PT1H
X-Robots-Tag:noindex
X-PUBLISHED-TTL:PT1H
BEGIN:VTIMEZONE
TZID:America/New_York
BEGIN:DAYLIGHT
TZOFFSETFROM:-0500
TZOFFSETTO:-0400
TZNAME:EDT
DTSTART:20240310T070000
END:DAYLIGHT
BEGIN:STANDARD
TZOFFSETFROM:-0400
TZOFFSETTO:-0500
TZNAME:EST
DTSTART:20241103T060000
END:STANDARD
BEGIN:DAYLIGHT
TZOFFSETFROM:-0500
TZOFFSETTO:-0400
TZNAME:EDT
DTSTART:20250309T070000
END:DAYLIGHT
BEGIN:STANDARD
TZOFFSETFROM:-0400
TZOFFSETTO:-0500
TZNAME:EST
DTSTART:20251102T060000
END:STANDARD
BEGIN:DAYLIGHT
TZOFFSETFROM:-0500
TZOFFSETTO:-0400
TZNAME:EDT
DTSTART:20260308T070000
END:DAYLIGHT
BEGIN:STANDARD
TZOFFSETFROM:-0400
TZOFFSETTO:-0500
TZNAME:EST
DTSTART:20261101T060000
END:STANDARD
END:VTIMEZONE
BEGIN:VEVENT
DTSTART;TZID=America/New_York:20251018T100000
DTEND;TZID=America/New_York:20251018T120000
DTSTAMP:20260423T183007
CREATED:20251008T110652Z
LAST-MODIFIED:20251008T110830Z
UID:10001186-1760781600-1760788800@friesva.com
SUMMARY:Nature Walk and Photo Clinic
DESCRIPTION:Fries Tourism is partnering with the New River Wildlife and Conservation Club to bring you the Fall Nature Walk and Photo Clinic. Join Virginia Master Naturalist Ashely DeCarme and local photographer and videographer Kevin Combs as we explore the diverse grounds of the New River Wildlife and Conservation Club. Event is free. Bring your smartphone or your camera. All skill levels are welcomed. \n  \n 
URL:https://friesva.com/event/nature-walk-and-photo-clinic-2/
LOCATION:New River Wildlife and Conservation Club\, 7107 Riverside Drive\, Fries\, VA\, 24330\, United States
CATEGORIES:Clinic,Nature walk,workshop
ATTACH;FMTTYPE=image/jpeg:https://friesva.com/wp-content/uploads/2025/10/FALL-2025-nature-walk-1.jpg
END:VEVENT
BEGIN:VEVENT
DTSTART;TZID=America/New_York:20250426T100000
DTEND;TZID=America/New_York:20250426T120000
DTSTAMP:20260423T183007
CREATED:20250410T091639Z
LAST-MODIFIED:20250410T091639Z
UID:10000854-1745661600-1745668800@friesva.com
SUMMARY:Nature Walk and Photo Clinic
DESCRIPTION:Just outside of town\, The New River Wildlife and Conservation Club will host this Spring’s wildflower and nature walk and photo clinic. \nLed by Master Naturalist Ashley DeCarme\, the walk will meander along the river bottom and hillside adjacent to the club’s property. Local photographer Kevin Combs will share ten easy ways to improve not just nature photography\, but your photos in general. \nThis event is free and open to everyone.
URL:https://friesva.com/event/nature-walk-and-photo-clinic/
LOCATION:New River Wildlife and Conservation Club\, 7107 Riverside Drive\, Fries\, VA\, 24330\, United States
ATTACH;FMTTYPE=image/jpeg:https://friesva.com/wp-content/uploads/2025/04/2022-05-15-Wythe_0437-Edit-copy-scaled.jpg
END:VEVENT
BEGIN:VEVENT
DTSTART;TZID=America/New_York:20250403T080000
DTEND;TZID=America/New_York:20250403T170000
DTSTAMP:20260423T183007
CREATED:20250403T193420Z
LAST-MODIFIED:20250403T193420Z
UID:10000853-1743667200-1743699600@friesva.com
SUMMARY:Spring Nature Walk
DESCRIPTION:  \n  \nSpring Nature Walk and Photo Session at The New River Wildlife and Conservation Club \nAshley DeCarme a Virginia Master Naturalist will lead the walk identifying plants\, flowers\, and animals. \nKevin Combs\, local photographer\, will give easy tips on improving your photography. Bring your camera or a camera-equipped phone. \nFree and Open to the Public \nSpring 2025 nature walk \nLet us know you’re interested call 276-237-2654 or email NRWCC24330@gmail.cocm
URL:https://friesva.com/event/spring-nature-walk/
LOCATION:New River Wildlife and Conservation Club\, 7107 Riverside Drive\, Fries\, VA\, 24330\, United States
ATTACH;FMTTYPE=image/jpeg:https://friesva.com/wp-content/uploads/2025/04/2022-05-15-Wythe_0437-Edit-copy-scaled.jpg
END:VEVENT
END:VCALENDAR