BEGIN:VCALENDAR
VERSION:2.0
PRODID:-// - ECPv6.15.20//NONSGML v1.0//EN
CALSCALE:GREGORIAN
METHOD:PUBLISH
X-ORIGINAL-URL:https://friesva.com
X-WR-CALDESC:Events for 
REFRESH-INTERVAL;VALUE=DURATION:PT1H
X-Robots-Tag:noindex
X-PUBLISHED-TTL:PT1H
BEGIN:VTIMEZONE
TZID:America/New_York
BEGIN:DAYLIGHT
TZOFFSETFROM:-0500
TZOFFSETTO:-0400
TZNAME:EDT
DTSTART:20230312T070000
END:DAYLIGHT
BEGIN:STANDARD
TZOFFSETFROM:-0400
TZOFFSETTO:-0500
TZNAME:EST
DTSTART:20231105T060000
END:STANDARD
BEGIN:DAYLIGHT
TZOFFSETFROM:-0500
TZOFFSETTO:-0400
TZNAME:EDT
DTSTART:20240310T070000
END:DAYLIGHT
BEGIN:STANDARD
TZOFFSETFROM:-0400
TZOFFSETTO:-0500
TZNAME:EST
DTSTART:20241103T060000
END:STANDARD
BEGIN:DAYLIGHT
TZOFFSETFROM:-0500
TZOFFSETTO:-0400
TZNAME:EDT
DTSTART:20250309T070000
END:DAYLIGHT
BEGIN:STANDARD
TZOFFSETFROM:-0400
TZOFFSETTO:-0500
TZNAME:EST
DTSTART:20251102T060000
END:STANDARD
BEGIN:DAYLIGHT
TZOFFSETFROM:-0500
TZOFFSETTO:-0400
TZNAME:EDT
DTSTART:20260308T070000
END:DAYLIGHT
BEGIN:STANDARD
TZOFFSETFROM:-0400
TZOFFSETTO:-0500
TZNAME:EST
DTSTART:20261101T060000
END:STANDARD
END:VTIMEZONE
BEGIN:VEVENT
DTSTART;TZID=America/New_York:20251025T090000
DTEND;TZID=America/New_York:20251025T130000
DTSTAMP:20260423T174706
CREATED:20250619T094147Z
LAST-MODIFIED:20250619T094405Z
UID:10001124-1761382800-1761397200@friesva.com
SUMMARY:Fries Town Market
DESCRIPTION:Market opens every Saturday – food\, art\, crafts and more! \nFree coffee provided by the Town of Fries. \n  \n 
URL:https://friesva.com/event/fries-town-market/2025-10-25/
LOCATION:The Depot\, 510 Riverview Avenue\, Fries\, Virginia\, 24330
ATTACH;FMTTYPE=image/jpeg:https://friesva.com/wp-content/uploads/2025/06/Depot.00_03_25_19.Still002-scaled.jpg
ORGANIZER;CN="Town of Fries":MAILTO:townoffries@friesva.com
END:VEVENT
BEGIN:VEVENT
DTSTART;TZID=America/New_York:20251018T090000
DTEND;TZID=America/New_York:20251018T130000
DTSTAMP:20260423T174706
CREATED:20250619T094147Z
LAST-MODIFIED:20250619T094405Z
UID:10001123-1760778000-1760792400@friesva.com
SUMMARY:Fries Town Market
DESCRIPTION:Market opens every Saturday – food\, art\, crafts and more! \nFree coffee provided by the Town of Fries. \n  \n 
URL:https://friesva.com/event/fries-town-market/2025-10-18/
LOCATION:The Depot\, 510 Riverview Avenue\, Fries\, Virginia\, 24330
ATTACH;FMTTYPE=image/jpeg:https://friesva.com/wp-content/uploads/2025/06/Depot.00_03_25_19.Still002-scaled.jpg
ORGANIZER;CN="Town of Fries":MAILTO:townoffries@friesva.com
END:VEVENT
BEGIN:VEVENT
DTSTART;TZID=America/New_York:20251011T090000
DTEND;TZID=America/New_York:20251011T130000
DTSTAMP:20260423T174706
CREATED:20250619T094147Z
LAST-MODIFIED:20250619T094405Z
UID:10001122-1760173200-1760187600@friesva.com
SUMMARY:Fries Town Market
DESCRIPTION:Market opens every Saturday – food\, art\, crafts and more! \nFree coffee provided by the Town of Fries. \n  \n 
URL:https://friesva.com/event/fries-town-market/2025-10-11/
LOCATION:The Depot\, 510 Riverview Avenue\, Fries\, Virginia\, 24330
ATTACH;FMTTYPE=image/jpeg:https://friesva.com/wp-content/uploads/2025/06/Depot.00_03_25_19.Still002-scaled.jpg
ORGANIZER;CN="Town of Fries":MAILTO:townoffries@friesva.com
END:VEVENT
BEGIN:VEVENT
DTSTART;TZID=America/New_York:20251004T090000
DTEND;TZID=America/New_York:20251004T130000
DTSTAMP:20260423T174707
CREATED:20250619T094147Z
LAST-MODIFIED:20250619T094405Z
UID:10001121-1759568400-1759582800@friesva.com
SUMMARY:Fries Town Market
DESCRIPTION:Market opens every Saturday – food\, art\, crafts and more! \nFree coffee provided by the Town of Fries. \n  \n 
URL:https://friesva.com/event/fries-town-market/2025-10-04/
LOCATION:The Depot\, 510 Riverview Avenue\, Fries\, Virginia\, 24330
ATTACH;FMTTYPE=image/jpeg:https://friesva.com/wp-content/uploads/2025/06/Depot.00_03_25_19.Still002-scaled.jpg
ORGANIZER;CN="Town of Fries":MAILTO:townoffries@friesva.com
END:VEVENT
BEGIN:VEVENT
DTSTART;TZID=America/New_York:20250927T090000
DTEND;TZID=America/New_York:20250927T130000
DTSTAMP:20260423T174707
CREATED:20250619T094147Z
LAST-MODIFIED:20250619T094405Z
UID:10001120-1758963600-1758978000@friesva.com
SUMMARY:Fries Town Market
DESCRIPTION:Market opens every Saturday – food\, art\, crafts and more! \nFree coffee provided by the Town of Fries. \n  \n 
URL:https://friesva.com/event/fries-town-market/2025-09-27/
LOCATION:The Depot\, 510 Riverview Avenue\, Fries\, Virginia\, 24330
ATTACH;FMTTYPE=image/jpeg:https://friesva.com/wp-content/uploads/2025/06/Depot.00_03_25_19.Still002-scaled.jpg
ORGANIZER;CN="Town of Fries":MAILTO:townoffries@friesva.com
END:VEVENT
BEGIN:VEVENT
DTSTART;TZID=America/New_York:20250920T090000
DTEND;TZID=America/New_York:20250920T130000
DTSTAMP:20260423T174707
CREATED:20250619T094147Z
LAST-MODIFIED:20250619T094405Z
UID:10001119-1758358800-1758373200@friesva.com
SUMMARY:Fries Town Market
DESCRIPTION:Market opens every Saturday – food\, art\, crafts and more! \nFree coffee provided by the Town of Fries. \n  \n 
URL:https://friesva.com/event/fries-town-market/2025-09-20/
LOCATION:The Depot\, 510 Riverview Avenue\, Fries\, Virginia\, 24330
ATTACH;FMTTYPE=image/jpeg:https://friesva.com/wp-content/uploads/2025/06/Depot.00_03_25_19.Still002-scaled.jpg
ORGANIZER;CN="Town of Fries":MAILTO:townoffries@friesva.com
END:VEVENT
BEGIN:VEVENT
DTSTART;TZID=America/New_York:20250919T190000
DTEND;TZID=America/New_York:20250919T210000
DTSTAMP:20260423T174707
CREATED:20250303T114419Z
LAST-MODIFIED:20250305T105840Z
UID:10000849-1758308400-1758315600@friesva.com
SUMMARY:Summer Concert Series at The Depot
DESCRIPTION:Welcome to the third year of the Summer Concert Series! All concerts start at 7 p.m. \nMay 23\, 2025 – Whitetop Mountain Band \nJune 20\, 2025 – Leftover Biscuits \nJuly 11\, 2025 – The New Ballards Branch Bogtrotters \nSeptember 19\, 2025 – Twin Creek String Band \nEnjoy live music in the open air Depot in downtown Fries\, VA. Admission is only $5. \n 
URL:https://friesva.com/event/summer-concert-series-at-the-depot/2025-09-19/
LOCATION:The Depot\, 510 Riverview Avenue\, Fries\, Virginia\, 24330
ATTACH;FMTTYPE=image/jpeg:https://friesva.com/wp-content/uploads/2022/07/2022-06-23-Fries-Depot_2726.jpg
END:VEVENT
BEGIN:VEVENT
DTSTART;TZID=America/New_York:20250913T090000
DTEND;TZID=America/New_York:20250913T130000
DTSTAMP:20260423T174707
CREATED:20250619T094147Z
LAST-MODIFIED:20250619T094405Z
UID:10001118-1757754000-1757768400@friesva.com
SUMMARY:Fries Town Market
DESCRIPTION:Market opens every Saturday – food\, art\, crafts and more! \nFree coffee provided by the Town of Fries. \n  \n 
URL:https://friesva.com/event/fries-town-market/2025-09-13/
LOCATION:The Depot\, 510 Riverview Avenue\, Fries\, Virginia\, 24330
ATTACH;FMTTYPE=image/jpeg:https://friesva.com/wp-content/uploads/2025/06/Depot.00_03_25_19.Still002-scaled.jpg
ORGANIZER;CN="Town of Fries":MAILTO:townoffries@friesva.com
END:VEVENT
BEGIN:VEVENT
DTSTART;TZID=America/New_York:20250906T090000
DTEND;TZID=America/New_York:20250906T130000
DTSTAMP:20260423T174707
CREATED:20250619T094147Z
LAST-MODIFIED:20250619T094405Z
UID:10001117-1757149200-1757163600@friesva.com
SUMMARY:Fries Town Market
DESCRIPTION:Market opens every Saturday – food\, art\, crafts and more! \nFree coffee provided by the Town of Fries. \n  \n 
URL:https://friesva.com/event/fries-town-market/2025-09-06/
LOCATION:The Depot\, 510 Riverview Avenue\, Fries\, Virginia\, 24330
ATTACH;FMTTYPE=image/jpeg:https://friesva.com/wp-content/uploads/2025/06/Depot.00_03_25_19.Still002-scaled.jpg
ORGANIZER;CN="Town of Fries":MAILTO:townoffries@friesva.com
END:VEVENT
BEGIN:VEVENT
DTSTART;TZID=America/New_York:20250830T090000
DTEND;TZID=America/New_York:20250830T130000
DTSTAMP:20260423T174707
CREATED:20250619T094147Z
LAST-MODIFIED:20250619T094405Z
UID:10001116-1756544400-1756558800@friesva.com
SUMMARY:Fries Town Market
DESCRIPTION:Market opens every Saturday – food\, art\, crafts and more! \nFree coffee provided by the Town of Fries. \n  \n 
URL:https://friesva.com/event/fries-town-market/2025-08-30/
LOCATION:The Depot\, 510 Riverview Avenue\, Fries\, Virginia\, 24330
ATTACH;FMTTYPE=image/jpeg:https://friesva.com/wp-content/uploads/2025/06/Depot.00_03_25_19.Still002-scaled.jpg
ORGANIZER;CN="Town of Fries":MAILTO:townoffries@friesva.com
END:VEVENT
BEGIN:VEVENT
DTSTART;TZID=America/New_York:20250823T090000
DTEND;TZID=America/New_York:20250823T130000
DTSTAMP:20260423T174707
CREATED:20250619T094147Z
LAST-MODIFIED:20250619T094405Z
UID:10001115-1755939600-1755954000@friesva.com
SUMMARY:Fries Town Market
DESCRIPTION:Market opens every Saturday – food\, art\, crafts and more! \nFree coffee provided by the Town of Fries. \n  \n 
URL:https://friesva.com/event/fries-town-market/2025-08-23/
LOCATION:The Depot\, 510 Riverview Avenue\, Fries\, Virginia\, 24330
ATTACH;FMTTYPE=image/jpeg:https://friesva.com/wp-content/uploads/2025/06/Depot.00_03_25_19.Still002-scaled.jpg
ORGANIZER;CN="Town of Fries":MAILTO:townoffries@friesva.com
END:VEVENT
BEGIN:VEVENT
DTSTART;TZID=America/New_York:20250816T090000
DTEND;TZID=America/New_York:20250816T130000
DTSTAMP:20260423T174707
CREATED:20250619T094147Z
LAST-MODIFIED:20250619T094405Z
UID:10001114-1755334800-1755349200@friesva.com
SUMMARY:Fries Town Market
DESCRIPTION:Market opens every Saturday – food\, art\, crafts and more! \nFree coffee provided by the Town of Fries. \n  \n 
URL:https://friesva.com/event/fries-town-market/2025-08-16/
LOCATION:The Depot\, 510 Riverview Avenue\, Fries\, Virginia\, 24330
ATTACH;FMTTYPE=image/jpeg:https://friesva.com/wp-content/uploads/2025/06/Depot.00_03_25_19.Still002-scaled.jpg
ORGANIZER;CN="Town of Fries":MAILTO:townoffries@friesva.com
END:VEVENT
BEGIN:VEVENT
DTSTART;TZID=America/New_York:20250809T090000
DTEND;TZID=America/New_York:20250809T130000
DTSTAMP:20260423T174707
CREATED:20250619T094147Z
LAST-MODIFIED:20250619T094405Z
UID:10001113-1754730000-1754744400@friesva.com
SUMMARY:Fries Town Market
DESCRIPTION:Market opens every Saturday – food\, art\, crafts and more! \nFree coffee provided by the Town of Fries. \n  \n 
URL:https://friesva.com/event/fries-town-market/2025-08-09/
LOCATION:The Depot\, 510 Riverview Avenue\, Fries\, Virginia\, 24330
ATTACH;FMTTYPE=image/jpeg:https://friesva.com/wp-content/uploads/2025/06/Depot.00_03_25_19.Still002-scaled.jpg
ORGANIZER;CN="Town of Fries":MAILTO:townoffries@friesva.com
END:VEVENT
BEGIN:VEVENT
DTSTART;TZID=America/New_York:20250802T090000
DTEND;TZID=America/New_York:20250802T130000
DTSTAMP:20260423T174707
CREATED:20250619T094147Z
LAST-MODIFIED:20250619T094405Z
UID:10001112-1754125200-1754139600@friesva.com
SUMMARY:Fries Town Market
DESCRIPTION:Market opens every Saturday – food\, art\, crafts and more! \nFree coffee provided by the Town of Fries. \n  \n 
URL:https://friesva.com/event/fries-town-market/2025-08-02/
LOCATION:The Depot\, 510 Riverview Avenue\, Fries\, Virginia\, 24330
ATTACH;FMTTYPE=image/jpeg:https://friesva.com/wp-content/uploads/2025/06/Depot.00_03_25_19.Still002-scaled.jpg
ORGANIZER;CN="Town of Fries":MAILTO:townoffries@friesva.com
END:VEVENT
BEGIN:VEVENT
DTSTART;TZID=America/New_York:20250726T090000
DTEND;TZID=America/New_York:20250726T130000
DTSTAMP:20260423T174707
CREATED:20250619T094147Z
LAST-MODIFIED:20250619T094405Z
UID:10001111-1753520400-1753534800@friesva.com
SUMMARY:Fries Town Market
DESCRIPTION:Market opens every Saturday – food\, art\, crafts and more! \nFree coffee provided by the Town of Fries. \n  \n 
URL:https://friesva.com/event/fries-town-market/2025-07-26/
LOCATION:The Depot\, 510 Riverview Avenue\, Fries\, Virginia\, 24330
ATTACH;FMTTYPE=image/jpeg:https://friesva.com/wp-content/uploads/2025/06/Depot.00_03_25_19.Still002-scaled.jpg
ORGANIZER;CN="Town of Fries":MAILTO:townoffries@friesva.com
END:VEVENT
BEGIN:VEVENT
DTSTART;TZID=America/New_York:20250719T090000
DTEND;TZID=America/New_York:20250719T130000
DTSTAMP:20260423T174707
CREATED:20250619T094147Z
LAST-MODIFIED:20250619T094405Z
UID:10001110-1752915600-1752930000@friesva.com
SUMMARY:Fries Town Market
DESCRIPTION:Market opens every Saturday – food\, art\, crafts and more! \nFree coffee provided by the Town of Fries. \n  \n 
URL:https://friesva.com/event/fries-town-market/2025-07-19/
LOCATION:The Depot\, 510 Riverview Avenue\, Fries\, Virginia\, 24330
ATTACH;FMTTYPE=image/jpeg:https://friesva.com/wp-content/uploads/2025/06/Depot.00_03_25_19.Still002-scaled.jpg
ORGANIZER;CN="Town of Fries":MAILTO:townoffries@friesva.com
END:VEVENT
BEGIN:VEVENT
DTSTART;TZID=America/New_York:20250712T090000
DTEND;TZID=America/New_York:20250712T130000
DTSTAMP:20260423T174707
CREATED:20250619T094147Z
LAST-MODIFIED:20250619T094405Z
UID:10001109-1752310800-1752325200@friesva.com
SUMMARY:Fries Town Market
DESCRIPTION:Market opens every Saturday – food\, art\, crafts and more! \nFree coffee provided by the Town of Fries. \n  \n 
URL:https://friesva.com/event/fries-town-market/2025-07-12/
LOCATION:The Depot\, 510 Riverview Avenue\, Fries\, Virginia\, 24330
ATTACH;FMTTYPE=image/jpeg:https://friesva.com/wp-content/uploads/2025/06/Depot.00_03_25_19.Still002-scaled.jpg
ORGANIZER;CN="Town of Fries":MAILTO:townoffries@friesva.com
END:VEVENT
BEGIN:VEVENT
DTSTART;TZID=America/New_York:20250711T190000
DTEND;TZID=America/New_York:20250711T210000
DTSTAMP:20260423T174707
CREATED:20250303T114419Z
LAST-MODIFIED:20250305T105840Z
UID:10000848-1752260400-1752267600@friesva.com
SUMMARY:Summer Concert Series at The Depot
DESCRIPTION:Welcome to the third year of the Summer Concert Series! All concerts start at 7 p.m. \nMay 23\, 2025 – Whitetop Mountain Band \nJune 20\, 2025 – Leftover Biscuits \nJuly 11\, 2025 – The New Ballards Branch Bogtrotters \nSeptember 19\, 2025 – Twin Creek String Band \nEnjoy live music in the open air Depot in downtown Fries\, VA. Admission is only $5. \n 
URL:https://friesva.com/event/summer-concert-series-at-the-depot/2025-07-11/
LOCATION:The Depot\, 510 Riverview Avenue\, Fries\, Virginia\, 24330
ATTACH;FMTTYPE=image/jpeg:https://friesva.com/wp-content/uploads/2022/07/2022-06-23-Fries-Depot_2726.jpg
END:VEVENT
BEGIN:VEVENT
DTSTART;TZID=America/New_York:20250705T090000
DTEND;TZID=America/New_York:20250705T130000
DTSTAMP:20260423T174707
CREATED:20250619T094147Z
LAST-MODIFIED:20250619T094405Z
UID:10001108-1751706000-1751720400@friesva.com
SUMMARY:Fries Town Market
DESCRIPTION:Market opens every Saturday – food\, art\, crafts and more! \nFree coffee provided by the Town of Fries. \n  \n 
URL:https://friesva.com/event/fries-town-market/2025-07-05/
LOCATION:The Depot\, 510 Riverview Avenue\, Fries\, Virginia\, 24330
ATTACH;FMTTYPE=image/jpeg:https://friesva.com/wp-content/uploads/2025/06/Depot.00_03_25_19.Still002-scaled.jpg
ORGANIZER;CN="Town of Fries":MAILTO:townoffries@friesva.com
END:VEVENT
BEGIN:VEVENT
DTSTART;TZID=America/New_York:20250628T090000
DTEND;TZID=America/New_York:20250628T130000
DTSTAMP:20260423T174707
CREATED:20250619T094147Z
LAST-MODIFIED:20250619T094405Z
UID:10001107-1751101200-1751115600@friesva.com
SUMMARY:Fries Town Market
DESCRIPTION:Market opens every Saturday – food\, art\, crafts and more! \nFree coffee provided by the Town of Fries. \n  \n 
URL:https://friesva.com/event/fries-town-market/2025-06-28/
LOCATION:The Depot\, 510 Riverview Avenue\, Fries\, Virginia\, 24330
ATTACH;FMTTYPE=image/jpeg:https://friesva.com/wp-content/uploads/2025/06/Depot.00_03_25_19.Still002-scaled.jpg
ORGANIZER;CN="Town of Fries":MAILTO:townoffries@friesva.com
END:VEVENT
BEGIN:VEVENT
DTSTART;TZID=America/New_York:20250621T090000
DTEND;TZID=America/New_York:20250621T130000
DTSTAMP:20260423T174707
CREATED:20250619T094147Z
LAST-MODIFIED:20250619T094405Z
UID:10001106-1750496400-1750510800@friesva.com
SUMMARY:Fries Town Market
DESCRIPTION:Market opens every Saturday – food\, art\, crafts and more! \nFree coffee provided by the Town of Fries. \n  \n 
URL:https://friesva.com/event/fries-town-market/2025-06-21/
LOCATION:The Depot\, 510 Riverview Avenue\, Fries\, Virginia\, 24330
ATTACH;FMTTYPE=image/jpeg:https://friesva.com/wp-content/uploads/2025/06/Depot.00_03_25_19.Still002-scaled.jpg
ORGANIZER;CN="Town of Fries":MAILTO:townoffries@friesva.com
END:VEVENT
BEGIN:VEVENT
DTSTART;TZID=America/New_York:20250620T190000
DTEND;TZID=America/New_York:20250620T210000
DTSTAMP:20260423T174707
CREATED:20250303T114419Z
LAST-MODIFIED:20250305T105840Z
UID:10000847-1750446000-1750453200@friesva.com
SUMMARY:Summer Concert Series at The Depot
DESCRIPTION:Welcome to the third year of the Summer Concert Series! All concerts start at 7 p.m. \nMay 23\, 2025 – Whitetop Mountain Band \nJune 20\, 2025 – Leftover Biscuits \nJuly 11\, 2025 – The New Ballards Branch Bogtrotters \nSeptember 19\, 2025 – Twin Creek String Band \nEnjoy live music in the open air Depot in downtown Fries\, VA. Admission is only $5. \n 
URL:https://friesva.com/event/summer-concert-series-at-the-depot/2025-06-20/
LOCATION:The Depot\, 510 Riverview Avenue\, Fries\, Virginia\, 24330
ATTACH;FMTTYPE=image/jpeg:https://friesva.com/wp-content/uploads/2022/07/2022-06-23-Fries-Depot_2726.jpg
END:VEVENT
BEGIN:VEVENT
DTSTART;TZID=America/New_York:20250523T190000
DTEND;TZID=America/New_York:20250523T210000
DTSTAMP:20260423T174707
CREATED:20250522T093326Z
LAST-MODIFIED:20250707T192021Z
UID:10001105-1748026800-1748034000@friesva.com
SUMMARY:Summer Concert Series at The Depot
DESCRIPTION:Rain or shine (These concerts held regardless of the weather. In case of bad weather\, will be moved to The Historic  Fries Theater at 316 W. Main St.). Follow our Facebook page for announcements or call 276-235-9286). \nWelcome to the third year of the Summer Concert Series! All concerts start at 7 p.m. \nMay 23\, 2025 – Whitetop Mountain Band \nJune 20\, 2025 – Leftover Biscuits \nJuly 11\, 2025 – The New Ballards Branch Bogtrotters \nSeptember 19\, 2025 – Twin Creek String Band \nEnjoy live music in the open air Depot in downtown Fries\, VA. Admission is only $5. \n 
URL:https://friesva.com/event/summer-concert-series-at-the-depot-2/
LOCATION:The Depot\, 510 Riverview Avenue\, Fries\, Virginia\, 24330
ATTACH;FMTTYPE=image/jpeg:https://friesva.com/wp-content/uploads/2022/07/2022-06-23-Fries-Depot_2726.jpg
END:VEVENT
BEGIN:VEVENT
DTSTART;TZID=America/New_York:20250523T190000
DTEND;TZID=America/New_York:20250523T210000
DTSTAMP:20260423T174707
CREATED:20250303T114419Z
LAST-MODIFIED:20250305T105840Z
UID:10000846-1748026800-1748034000@friesva.com
SUMMARY:Summer Concert Series at The Depot
DESCRIPTION:Welcome to the third year of the Summer Concert Series! All concerts start at 7 p.m. \nMay 23\, 2025 – Whitetop Mountain Band \nJune 20\, 2025 – Leftover Biscuits \nJuly 11\, 2025 – The New Ballards Branch Bogtrotters \nSeptember 19\, 2025 – Twin Creek String Band \nEnjoy live music in the open air Depot in downtown Fries\, VA. Admission is only $5. \n 
URL:https://friesva.com/event/summer-concert-series-at-the-depot/2025-05-23/
LOCATION:The Depot\, 510 Riverview Avenue\, Fries\, Virginia\, 24330
ATTACH;FMTTYPE=image/jpeg:https://friesva.com/wp-content/uploads/2022/07/2022-06-23-Fries-Depot_2726.jpg
END:VEVENT
BEGIN:VEVENT
DTSTART;TZID=America/New_York:20241012T090000
DTEND;TZID=America/New_York:20241012T150000
DTSTAMP:20260423T174707
CREATED:20241010T165826Z
LAST-MODIFIED:20241010T165826Z
UID:10000747-1728723600-1728745200@friesva.com
SUMMARY:Lions Club yard sale
DESCRIPTION:Fries Lions Club will have a yard sale at The Depot and will sell brooms as well \n9 a.m. – 3p.m. \n 
URL:https://friesva.com/event/lions-club-yard-sale/
LOCATION:The Depot\, 510 Riverview Avenue\, Fries\, Virginia\, 24330
ATTACH;FMTTYPE=image/png:https://friesva.com/wp-content/uploads/2024/10/Lions_Clubs_International_logo.svg_.png
END:VEVENT
BEGIN:VEVENT
DTSTART;TZID=America/New_York:20241004T190000
DTEND;TZID=America/New_York:20241004T210000
DTSTAMP:20260423T174707
CREATED:20240324T104325Z
LAST-MODIFIED:20241002T212859Z
UID:10000526-1728068400-1728075600@friesva.com
SUMMARY:Gap Civil at The Depot
DESCRIPTION:THIS EVENT IS POSTPONED AND WILL BE RESCHEDULED AT A FUTURE DATE. \n  \nGroup photo of members of Gap Civil old-time band\nThis concert sponsored by The Crooked Road: Virginia’s Musical Heritage Trail \n \n  \n \nGap Civil brings their old-time music to The Depot. Admission $5 per person. Bring your own lawn chair.
URL:https://friesva.com/event/gap-civil-at-the-depot/
LOCATION:The Depot\, 510 Riverview Avenue\, Fries\, Virginia\, 24330
ATTACH;FMTTYPE=image/jpeg:https://friesva.com/wp-content/uploads/2024/03/Gap-Civil-in-street.jpeg
ORGANIZER;CN="Town of Fries":MAILTO:townoffries@friesva.com
END:VEVENT
BEGIN:VEVENT
DTSTART;TZID=America/New_York:20240920T190000
DTEND;TZID=America/New_York:20240920T210000
DTSTAMP:20260423T174707
CREATED:20240203T143403Z
LAST-MODIFIED:20240519T102831Z
UID:10000517-1726858800-1726866000@friesva.com
SUMMARY:Old-time Music and Dance
DESCRIPTION:  \nOld-time Music and Dance at The Depot. Begins at 7 p.m. Admission is $5 per adult. Bring a lawn chair and your dancing shoes. \n 
URL:https://friesva.com/event/old-time-music-and-dance-8/
LOCATION:The Depot\, 510 Riverview Avenue\, Fries\, Virginia\, 24330
ATTACH;FMTTYPE=image/jpeg:https://friesva.com/wp-content/uploads/2024/02/CRR.jpg
END:VEVENT
BEGIN:VEVENT
DTSTART;TZID=America/New_York:20240831T093000
DTEND;TZID=America/New_York:20240831T110000
DTSTAMP:20260423T174707
CREATED:20240109T175109Z
LAST-MODIFIED:20240109T175109Z
UID:10000501-1725096600-1725102000@friesva.com
SUMMARY:Autumn Wildflower Walk
DESCRIPTION:Fries hosts fall wildflower walk\nSaturday\, August 31\, 2024 \nThe town of Fries will hold its second annual fall wildflower walk on Saturday\, August 31\, beginning at 9:30 a.m.\, to showcase more than two dozen spectacular flowering plant species.\nThere is no charge for admission and no registration required. Just show up. The tour begins on foot at the Fries Depot\, 510 Riverview Ave.\, Fries. That is the start of the New River Trail State Park\, where the tour takes place. \nThe wildflower walk will be led by local naturalist Ashley DeCarme\, who has worked for Virginia State Parks and Virginia’s Natural Heritage Program. She currently teaches science and technology at Grayson County High School\, and also leads the spring wildflower walks sponsored by the town of Fries. \nHer focus will be on plants that bloom in late summer and early fall\, and how each species is affected by both its physical environment and by other plants\, animals\, and human activities in the area. Featured plants will include evening primrose\, common sneezeweed\, frost aster and eastern prickly pear. \nThe pace will be leisurely\, with frequent stops. Organizers of the walk will supply a souvenir checklist for plant identification and reference.\nFor information contact Fries tourism at friesevents@gmail.com or 276-235-9294. For lodging options see www.friesva.com.
URL:https://friesva.com/event/autumn-wildflower-walk-2/
LOCATION:The Depot\, 510 Riverview Avenue\, Fries\, Virginia\, 24330
ATTACH;FMTTYPE=image/jpeg:https://friesva.com/wp-content/uploads/2023/01/fall-wildflower-bloom-2.jpg
END:VEVENT
BEGIN:VEVENT
DTSTART;TZID=America/New_York:20240712T190000
DTEND;TZID=America/New_York:20240712T210000
DTSTAMP:20260423T174707
CREATED:20240203T143221Z
LAST-MODIFIED:20240519T102613Z
UID:10000516-1720810800-1720818000@friesva.com
SUMMARY:Old-time Music and Dance
DESCRIPTION:Trish Fore and the Wildcats at The Depot. Begins at 7 p.m. Admission is $5 per adult. Bring a lawn chair and your dancing shoes. \n 
URL:https://friesva.com/event/old-time-music-and-dance-7/
LOCATION:The Depot\, 510 Riverview Avenue\, Fries\, Virginia\, 24330
ATTACH;FMTTYPE=image/jpeg:https://friesva.com/wp-content/uploads/2024/02/Trish-FOre.jpeg
END:VEVENT
BEGIN:VEVENT
DTSTART;TZID=America/New_York:20240614T190000
DTEND;TZID=America/New_York:20240614T210000
DTSTAMP:20260423T174707
CREATED:20240203T143104Z
LAST-MODIFIED:20240519T101831Z
UID:10000515-1718391600-1718398800@friesva.com
SUMMARY:Old-time Music and Dance
DESCRIPTION:New Ballards Branch Bogtrotters at The Depot. Begins at 7 p.m. Admission is $5 per adult. Bring a lawn chair and your dancing shoes. \n  \n \n  \n 
URL:https://friesva.com/event/old-time-music-and-dance-6/
LOCATION:The Depot\, 510 Riverview Avenue\, Fries\, Virginia\, 24330
ATTACH;FMTTYPE=image/jpeg:https://friesva.com/wp-content/uploads/2024/02/439282632_419781667424246_1770648922009847124_n.jpg
END:VEVENT
END:VCALENDAR