BEGIN:VCALENDAR
VERSION:2.0
PRODID:-// - ECPv6.15.20//NONSGML v1.0//EN
CALSCALE:GREGORIAN
METHOD:PUBLISH
X-ORIGINAL-URL:https://friesva.com
X-WR-CALDESC:Events for 
REFRESH-INTERVAL;VALUE=DURATION:PT1H
X-Robots-Tag:noindex
X-PUBLISHED-TTL:PT1H
BEGIN:VTIMEZONE
TZID:America/New_York
BEGIN:DAYLIGHT
TZOFFSETFROM:-0500
TZOFFSETTO:-0400
TZNAME:EDT
DTSTART:20220313T070000
END:DAYLIGHT
BEGIN:STANDARD
TZOFFSETFROM:-0400
TZOFFSETTO:-0500
TZNAME:EST
DTSTART:20221106T060000
END:STANDARD
BEGIN:DAYLIGHT
TZOFFSETFROM:-0500
TZOFFSETTO:-0400
TZNAME:EDT
DTSTART:20230312T070000
END:DAYLIGHT
BEGIN:STANDARD
TZOFFSETFROM:-0400
TZOFFSETTO:-0500
TZNAME:EST
DTSTART:20231105T060000
END:STANDARD
BEGIN:DAYLIGHT
TZOFFSETFROM:-0500
TZOFFSETTO:-0400
TZNAME:EDT
DTSTART:20240310T070000
END:DAYLIGHT
BEGIN:STANDARD
TZOFFSETFROM:-0400
TZOFFSETTO:-0500
TZNAME:EST
DTSTART:20241103T060000
END:STANDARD
END:VTIMEZONE
BEGIN:VEVENT
DTSTART;TZID=America/New_York:20230930T090000
DTEND;TZID=America/New_York:20230930T130000
DTSTAMP:20260423T233538
CREATED:20230113T193725Z
LAST-MODIFIED:20230626T222223Z
UID:10000036-1696064400-1696078800@friesva.com
SUMMARY:Fries Common Market
DESCRIPTION:Fries Common Market will open on May 6th and run through October. Hours are 9 a.m. – 1 p.m.
URL:https://friesva.com/event/fries-common-market/2023-09-30/
LOCATION:The Depot\, 510 Riverview Avenue\, Fries\, Virginia\, 24330
ATTACH;FMTTYPE=image/jpeg:https://friesva.com/wp-content/uploads/2022/07/2022-06-23-Fries-Depot_2726.jpg
END:VEVENT
BEGIN:VEVENT
DTSTART;TZID=America/New_York:20230923T090000
DTEND;TZID=America/New_York:20230923T130000
DTSTAMP:20260423T233538
CREATED:20230113T193725Z
LAST-MODIFIED:20230626T222223Z
UID:10000035-1695459600-1695474000@friesva.com
SUMMARY:Fries Common Market
DESCRIPTION:Fries Common Market will open on May 6th and run through October. Hours are 9 a.m. – 1 p.m.
URL:https://friesva.com/event/fries-common-market/2023-09-23/
LOCATION:The Depot\, 510 Riverview Avenue\, Fries\, Virginia\, 24330
ATTACH;FMTTYPE=image/jpeg:https://friesva.com/wp-content/uploads/2022/07/2022-06-23-Fries-Depot_2726.jpg
END:VEVENT
BEGIN:VEVENT
DTSTART;TZID=America/New_York:20230922T180000
DTEND;TZID=America/New_York:20230922T210000
DTSTAMP:20260423T233538
CREATED:20230603T160453Z
LAST-MODIFIED:20230717T022949Z
UID:10000283-1695405600-1695416400@friesva.com
SUMMARY:Pie Days at The Depot
DESCRIPTION:Music at The Depot \nMore info to come from the organizer. \n  \n.
URL:https://friesva.com/event/pie-days-at-the-depot/2023-09-22/
LOCATION:The Depot\, 510 Riverview Avenue\, Fries\, Virginia\, 24330
END:VEVENT
BEGIN:VEVENT
DTSTART;TZID=America/New_York:20230916T090000
DTEND;TZID=America/New_York:20230916T130000
DTSTAMP:20260423T233538
CREATED:20230113T193725Z
LAST-MODIFIED:20230626T222223Z
UID:10000034-1694854800-1694869200@friesva.com
SUMMARY:Fries Common Market
DESCRIPTION:Fries Common Market will open on May 6th and run through October. Hours are 9 a.m. – 1 p.m.
URL:https://friesva.com/event/fries-common-market/2023-09-16/
LOCATION:The Depot\, 510 Riverview Avenue\, Fries\, Virginia\, 24330
ATTACH;FMTTYPE=image/jpeg:https://friesva.com/wp-content/uploads/2022/07/2022-06-23-Fries-Depot_2726.jpg
END:VEVENT
BEGIN:VEVENT
DTSTART;TZID=America/New_York:20230909T090000
DTEND;TZID=America/New_York:20230909T130000
DTSTAMP:20260423T233538
CREATED:20230113T193725Z
LAST-MODIFIED:20230626T222223Z
UID:10000033-1694250000-1694264400@friesva.com
SUMMARY:Fries Common Market
DESCRIPTION:Fries Common Market will open on May 6th and run through October. Hours are 9 a.m. – 1 p.m.
URL:https://friesva.com/event/fries-common-market/2023-09-09/
LOCATION:The Depot\, 510 Riverview Avenue\, Fries\, Virginia\, 24330
ATTACH;FMTTYPE=image/jpeg:https://friesva.com/wp-content/uploads/2022/07/2022-06-23-Fries-Depot_2726.jpg
END:VEVENT
BEGIN:VEVENT
DTSTART;TZID=America/New_York:20230903T093000
DTEND;TZID=America/New_York:20230903T110000
DTSTAMP:20260423T233538
CREATED:20230114T040220Z
LAST-MODIFIED:20230821T203959Z
UID:10000106-1693733400-1693738800@friesva.com
SUMMARY:Autumn Wildflower Walk
DESCRIPTION:Fries hosts fall wildflower walk\nSunday\, Sept. 3 \nThe town of Fries will hold its first fall wildflower walk on Sunday\, Sept. 3\, beginning at 9:30 a.m.\, to showcase more than two dozen spectacular flowering plant species.\nThere is no charge for admission and no registration required. Just show up. The tour begins on foot at the Fries Depot\, 510 Riverview Ave.\, Fries. That is the start of the New River Trail State Park\, where the tour takes place. \n“Our spring ephemeral wildflowers are well known along the New River trail\,” said Fries Tourism Director Nan Chase. “They are like the tiny jewels of the forest. But the fall wildflowers are equally beautiful – and many of them huge – so we want to show them off too.” \nThe wildflower walk will be led by local naturalist Ashley DeCarme\, who has worked for Virginia State Parks and Virginia’s Natural Heritage Program. She currently teaches science and technology at Grayson County High School\, and also leads the spring wildflower walks sponsored by the town of Fries. \nHer focus will be on plants that bloom in late summer and early fall\, and how each species is affected by both its physical environment and by other plants\, animals\, and human activities in the area. Featured plants will include evening primrose\, common sneezeweed\, frost aster and eastern prickly pear. \nThe pace will be leisurely\, with frequent stops. Organizers of the walk will supply a souvenir checklist for plant identification and reference.\nFor information contact Fries tourism at friesevents@gmail.com or 276-235-9294. For lodging options see www.friesva.com.
URL:https://friesva.com/event/autumn-wildflower-walk/
LOCATION:The Depot\, 510 Riverview Avenue\, Fries\, Virginia\, 24330
ATTACH;FMTTYPE=image/jpeg:https://friesva.com/wp-content/uploads/2023/01/fall-wildflower-bloom-2.jpg
END:VEVENT
BEGIN:VEVENT
DTSTART;TZID=America/New_York:20230902T090000
DTEND;TZID=America/New_York:20230902T130000
DTSTAMP:20260423T233538
CREATED:20230113T193725Z
LAST-MODIFIED:20230626T222223Z
UID:10000032-1693645200-1693659600@friesva.com
SUMMARY:Fries Common Market
DESCRIPTION:Fries Common Market will open on May 6th and run through October. Hours are 9 a.m. – 1 p.m.
URL:https://friesva.com/event/fries-common-market/2023-09-02/
LOCATION:The Depot\, 510 Riverview Avenue\, Fries\, Virginia\, 24330
ATTACH;FMTTYPE=image/jpeg:https://friesva.com/wp-content/uploads/2022/07/2022-06-23-Fries-Depot_2726.jpg
END:VEVENT
BEGIN:VEVENT
DTSTART;TZID=America/New_York:20230901T190000
DTEND;TZID=America/New_York:20230901T210000
DTSTAMP:20260423T233538
CREATED:20230209T211934Z
LAST-MODIFIED:20230821T160321Z
UID:10000173-1693594800-1693602000@friesva.com
SUMMARY:Old-time Music and Dance
DESCRIPTION:Nobody’s Business band plays at The Depot on Friday\, September 1\, 2023 \nOld-time Music and Dance at The Depot. Begins at 7 p.m. Admission is $5 per adult. Bring a lawn chair and your dancing shoes. \n 
URL:https://friesva.com/event/old-time-music-and-dance-4/
LOCATION:The Depot\, 510 Riverview Avenue\, Fries\, Virginia\, 24330
ATTACH;FMTTYPE=image/jpeg:https://friesva.com/wp-content/uploads/2023/02/nobodysbusiness3-1-16-to-9.jpg
END:VEVENT
BEGIN:VEVENT
DTSTART;TZID=America/New_York:20230826T090000
DTEND;TZID=America/New_York:20230826T130000
DTSTAMP:20260423T233538
CREATED:20230113T193725Z
LAST-MODIFIED:20230626T222223Z
UID:10000031-1693040400-1693054800@friesva.com
SUMMARY:Fries Common Market
DESCRIPTION:Fries Common Market will open on May 6th and run through October. Hours are 9 a.m. – 1 p.m.
URL:https://friesva.com/event/fries-common-market/2023-08-26/
LOCATION:The Depot\, 510 Riverview Avenue\, Fries\, Virginia\, 24330
ATTACH;FMTTYPE=image/jpeg:https://friesva.com/wp-content/uploads/2022/07/2022-06-23-Fries-Depot_2726.jpg
END:VEVENT
BEGIN:VEVENT
DTSTART;TZID=America/New_York:20230825T190000
DTEND;TZID=America/New_York:20230825T210000
DTSTAMP:20260423T233538
CREATED:20230818T122648Z
LAST-MODIFIED:20230818T122649Z
UID:10000282-1692990000-1692997200@friesva.com
SUMMARY:Pie Days at The Depot
DESCRIPTION:Music at The Depot \n \n  \n.
URL:https://friesva.com/event/pie-days-at-the-depot-3/
LOCATION:The Depot\, 510 Riverview Avenue\, Fries\, Virginia\, 24330
ATTACH;FMTTYPE=image/jpeg:https://friesva.com/wp-content/uploads/2023/06/Pieday-August.jpeg
END:VEVENT
BEGIN:VEVENT
DTSTART;TZID=America/New_York:20230819T090000
DTEND;TZID=America/New_York:20230819T130000
DTSTAMP:20260423T233538
CREATED:20230113T193725Z
LAST-MODIFIED:20230626T222223Z
UID:10000030-1692435600-1692450000@friesva.com
SUMMARY:Fries Common Market
DESCRIPTION:Fries Common Market will open on May 6th and run through October. Hours are 9 a.m. – 1 p.m.
URL:https://friesva.com/event/fries-common-market/2023-08-19/
LOCATION:The Depot\, 510 Riverview Avenue\, Fries\, Virginia\, 24330
ATTACH;FMTTYPE=image/jpeg:https://friesva.com/wp-content/uploads/2022/07/2022-06-23-Fries-Depot_2726.jpg
END:VEVENT
BEGIN:VEVENT
DTSTART;TZID=America/New_York:20230812T090000
DTEND;TZID=America/New_York:20230812T130000
DTSTAMP:20260423T233538
CREATED:20230113T193725Z
LAST-MODIFIED:20230626T222223Z
UID:10000029-1691830800-1691845200@friesva.com
SUMMARY:Fries Common Market
DESCRIPTION:Fries Common Market will open on May 6th and run through October. Hours are 9 a.m. – 1 p.m.
URL:https://friesva.com/event/fries-common-market/2023-08-12/
LOCATION:The Depot\, 510 Riverview Avenue\, Fries\, Virginia\, 24330
ATTACH;FMTTYPE=image/jpeg:https://friesva.com/wp-content/uploads/2022/07/2022-06-23-Fries-Depot_2726.jpg
END:VEVENT
BEGIN:VEVENT
DTSTART;TZID=America/New_York:20230805T090000
DTEND;TZID=America/New_York:20230805T130000
DTSTAMP:20260423T233538
CREATED:20230113T193725Z
LAST-MODIFIED:20230626T222223Z
UID:10000028-1691226000-1691240400@friesva.com
SUMMARY:Fries Common Market
DESCRIPTION:Fries Common Market will open on May 6th and run through October. Hours are 9 a.m. – 1 p.m.
URL:https://friesva.com/event/fries-common-market/2023-08-05/
LOCATION:The Depot\, 510 Riverview Avenue\, Fries\, Virginia\, 24330
ATTACH;FMTTYPE=image/jpeg:https://friesva.com/wp-content/uploads/2022/07/2022-06-23-Fries-Depot_2726.jpg
END:VEVENT
BEGIN:VEVENT
DTSTART;TZID=America/New_York:20230729T090000
DTEND;TZID=America/New_York:20230729T130000
DTSTAMP:20260423T233538
CREATED:20230113T193725Z
LAST-MODIFIED:20230626T222223Z
UID:10000027-1690621200-1690635600@friesva.com
SUMMARY:Fries Common Market
DESCRIPTION:Fries Common Market will open on May 6th and run through October. Hours are 9 a.m. – 1 p.m.
URL:https://friesva.com/event/fries-common-market/2023-07-29/
LOCATION:The Depot\, 510 Riverview Avenue\, Fries\, Virginia\, 24330
ATTACH;FMTTYPE=image/jpeg:https://friesva.com/wp-content/uploads/2022/07/2022-06-23-Fries-Depot_2726.jpg
END:VEVENT
BEGIN:VEVENT
DTSTART;TZID=America/New_York:20230728T190000
DTEND;TZID=America/New_York:20230728T210000
DTSTAMP:20260423T233538
CREATED:20230717T021806Z
LAST-MODIFIED:20230717T021809Z
UID:10000281-1690570800-1690578000@friesva.com
SUMMARY:Pie Days at The Depot
DESCRIPTION:Music at The Depot \n  \n \n 
URL:https://friesva.com/event/pie-days-at-the-depot-2/
LOCATION:The Depot\, 510 Riverview Avenue\, Fries\, Virginia\, 24330
END:VEVENT
BEGIN:VEVENT
DTSTART;TZID=America/New_York:20230722T090000
DTEND;TZID=America/New_York:20230722T130000
DTSTAMP:20260423T233538
CREATED:20230113T193725Z
LAST-MODIFIED:20230626T222223Z
UID:10000026-1690016400-1690030800@friesva.com
SUMMARY:Fries Common Market
DESCRIPTION:Fries Common Market will open on May 6th and run through October. Hours are 9 a.m. – 1 p.m.
URL:https://friesva.com/event/fries-common-market/2023-07-22/
LOCATION:The Depot\, 510 Riverview Avenue\, Fries\, Virginia\, 24330
ATTACH;FMTTYPE=image/jpeg:https://friesva.com/wp-content/uploads/2022/07/2022-06-23-Fries-Depot_2726.jpg
END:VEVENT
BEGIN:VEVENT
DTSTART;TZID=America/New_York:20230715T090000
DTEND;TZID=America/New_York:20230715T130000
DTSTAMP:20260423T233538
CREATED:20230113T193725Z
LAST-MODIFIED:20230626T222223Z
UID:10000025-1689411600-1689426000@friesva.com
SUMMARY:Fries Common Market
DESCRIPTION:Fries Common Market will open on May 6th and run through October. Hours are 9 a.m. – 1 p.m.
URL:https://friesva.com/event/fries-common-market/2023-07-15/
LOCATION:The Depot\, 510 Riverview Avenue\, Fries\, Virginia\, 24330
ATTACH;FMTTYPE=image/jpeg:https://friesva.com/wp-content/uploads/2022/07/2022-06-23-Fries-Depot_2726.jpg
END:VEVENT
BEGIN:VEVENT
DTSTART;TZID=America/New_York:20230714T190000
DTEND;TZID=America/New_York:20230714T210000
DTSTAMP:20260423T233538
CREATED:20230209T185414Z
LAST-MODIFIED:20230714T094301Z
UID:10000170-1689361200-1689368400@friesva.com
SUMMARY:Old-time Music and Dance
DESCRIPTION:Gap Civil plays at The Depot on July 14\, 2023. \nOld-time Music and Dance at The Depot. Begins at 7 p.m. Admission is $5 per adult. Bring a lawn chair and your dancing shoes.
URL:https://friesva.com/event/old-time-music-and-dance-2/
LOCATION:The Depot\, 510 Riverview Avenue\, Fries\, Virginia\, 24330
ATTACH;FMTTYPE=image/jpeg:https://friesva.com/wp-content/uploads/2023/02/Gap-Civil.jpeg
END:VEVENT
BEGIN:VEVENT
DTSTART;TZID=America/New_York:20230708T090000
DTEND;TZID=America/New_York:20230708T130000
DTSTAMP:20260423T233538
CREATED:20230113T193725Z
LAST-MODIFIED:20230626T222223Z
UID:10000024-1688806800-1688821200@friesva.com
SUMMARY:Fries Common Market
DESCRIPTION:Fries Common Market will open on May 6th and run through October. Hours are 9 a.m. – 1 p.m.
URL:https://friesva.com/event/fries-common-market/2023-07-08/
LOCATION:The Depot\, 510 Riverview Avenue\, Fries\, Virginia\, 24330
ATTACH;FMTTYPE=image/jpeg:https://friesva.com/wp-content/uploads/2022/07/2022-06-23-Fries-Depot_2726.jpg
END:VEVENT
BEGIN:VEVENT
DTSTART;TZID=America/New_York:20230701T110000
DTEND;TZID=America/New_York:20230701T150000
DTSTAMP:20260423T233538
CREATED:20230626T222736Z
LAST-MODIFIED:20230626T222738Z
UID:10000316-1688209200-1688223600@friesva.com
SUMMARY:Fries Common Market
DESCRIPTION:Red\, White\, and BBQ! \nBBQ\, Kids’ Watermelon Eating Contest\, Music\, Vendors\, Games & More! \nOn Saturday\, July 4th only\, Market hours will be 11 a.m. – 3 p.m.
URL:https://friesva.com/event/fries-common-market-2-2/
LOCATION:The Depot\, 510 Riverview Avenue\, Fries\, Virginia\, 24330
ATTACH;FMTTYPE=image/jpeg:https://friesva.com/wp-content/uploads/2022/07/2022-06-23-Fries-Depot_2726.jpg
END:VEVENT
BEGIN:VEVENT
DTSTART;TZID=America/New_York:20230624T090000
DTEND;TZID=America/New_York:20230624T130000
DTSTAMP:20260423T233538
CREATED:20230113T193725Z
LAST-MODIFIED:20230626T222223Z
UID:10000022-1687597200-1687611600@friesva.com
SUMMARY:Fries Common Market
DESCRIPTION:Fries Common Market will open on May 6th and run through October. Hours are 9 a.m. – 1 p.m.
URL:https://friesva.com/event/fries-common-market/2023-06-24/
LOCATION:The Depot\, 510 Riverview Avenue\, Fries\, Virginia\, 24330
ATTACH;FMTTYPE=image/jpeg:https://friesva.com/wp-content/uploads/2022/07/2022-06-23-Fries-Depot_2726.jpg
END:VEVENT
BEGIN:VEVENT
DTSTART;TZID=America/New_York:20230617T090000
DTEND;TZID=America/New_York:20230617T130000
DTSTAMP:20260423T233538
CREATED:20230113T193725Z
LAST-MODIFIED:20230626T222223Z
UID:10000021-1686992400-1687006800@friesva.com
SUMMARY:Fries Common Market
DESCRIPTION:Fries Common Market will open on May 6th and run through October. Hours are 9 a.m. – 1 p.m.
URL:https://friesva.com/event/fries-common-market/2023-06-17/
LOCATION:The Depot\, 510 Riverview Avenue\, Fries\, Virginia\, 24330
ATTACH;FMTTYPE=image/jpeg:https://friesva.com/wp-content/uploads/2022/07/2022-06-23-Fries-Depot_2726.jpg
END:VEVENT
BEGIN:VEVENT
DTSTART;TZID=America/New_York:20230616T190000
DTEND;TZID=America/New_York:20230616T210000
DTSTAMP:20260423T233538
CREATED:20230209T192039Z
LAST-MODIFIED:20230327T120403Z
UID:10000172-1686942000-1686949200@friesva.com
SUMMARY:Old-time Music and Dance
DESCRIPTION:Trish Fore & The Wildcats play at The Depot on Friday\, June 16\, 2023. \nOld-time Music and Dance at The Depot. Begins at 7 p.m. Admission is $5 per adult. Bring a lawn chair and your dancing shoes.
URL:https://friesva.com/event/old-time-music-and-dance-3/
LOCATION:The Depot\, 510 Riverview Avenue\, Fries\, Virginia\, 24330
ATTACH;FMTTYPE=image/jpeg:https://friesva.com/wp-content/uploads/2023/02/191dff45-9dd0-47e4-963c-c2c8f833ed46.jpg
END:VEVENT
BEGIN:VEVENT
DTSTART;TZID=America/New_York:20230610T090000
DTEND;TZID=America/New_York:20230610T130000
DTSTAMP:20260423T233538
CREATED:20230113T193725Z
LAST-MODIFIED:20230626T222223Z
UID:10000020-1686387600-1686402000@friesva.com
SUMMARY:Fries Common Market
DESCRIPTION:Fries Common Market will open on May 6th and run through October. Hours are 9 a.m. – 1 p.m.
URL:https://friesva.com/event/fries-common-market/2023-06-10/
LOCATION:The Depot\, 510 Riverview Avenue\, Fries\, Virginia\, 24330
ATTACH;FMTTYPE=image/jpeg:https://friesva.com/wp-content/uploads/2022/07/2022-06-23-Fries-Depot_2726.jpg
END:VEVENT
BEGIN:VEVENT
DTSTART;TZID=America/New_York:20230609T180000
DTEND;TZID=America/New_York:20230609T210000
DTSTAMP:20260423T233538
CREATED:20230603T160453Z
LAST-MODIFIED:20230717T022949Z
UID:10000278-1686333600-1686344400@friesva.com
SUMMARY:Pie Days at The Depot
DESCRIPTION:Music at The Depot \nMore info to come from the organizer. \n  \n.
URL:https://friesva.com/event/pie-days-at-the-depot/2023-06-09/
LOCATION:The Depot\, 510 Riverview Avenue\, Fries\, Virginia\, 24330
END:VEVENT
BEGIN:VEVENT
DTSTART;TZID=America/New_York:20230603T090000
DTEND;TZID=America/New_York:20230603T130000
DTSTAMP:20260423T233538
CREATED:20230113T193725Z
LAST-MODIFIED:20230626T222223Z
UID:10000019-1685782800-1685797200@friesva.com
SUMMARY:Fries Common Market
DESCRIPTION:Fries Common Market will open on May 6th and run through October. Hours are 9 a.m. – 1 p.m.
URL:https://friesva.com/event/fries-common-market/2023-06-03/
LOCATION:The Depot\, 510 Riverview Avenue\, Fries\, Virginia\, 24330
ATTACH;FMTTYPE=image/jpeg:https://friesva.com/wp-content/uploads/2022/07/2022-06-23-Fries-Depot_2726.jpg
END:VEVENT
BEGIN:VEVENT
DTSTART;TZID=America/New_York:20230527T090000
DTEND;TZID=America/New_York:20230527T130000
DTSTAMP:20260423T233538
CREATED:20230113T193725Z
LAST-MODIFIED:20230626T222223Z
UID:10000018-1685178000-1685192400@friesva.com
SUMMARY:Fries Common Market
DESCRIPTION:Fries Common Market will open on May 6th and run through October. Hours are 9 a.m. – 1 p.m.
URL:https://friesva.com/event/fries-common-market/2023-05-27/
LOCATION:The Depot\, 510 Riverview Avenue\, Fries\, Virginia\, 24330
ATTACH;FMTTYPE=image/jpeg:https://friesva.com/wp-content/uploads/2022/07/2022-06-23-Fries-Depot_2726.jpg
END:VEVENT
BEGIN:VEVENT
DTSTART;TZID=America/New_York:20230526T190000
DTEND;TZID=America/New_York:20230526T210000
DTSTAMP:20260423T233538
CREATED:20230113T194551Z
LAST-MODIFIED:20230209T211223Z
UID:10000093-1685127600-1685134800@friesva.com
SUMMARY:Old-time Music and Dance
DESCRIPTION:The Whitetop Mountain Band plays at The Depot on May 26\, 2023. \nOld-time Music and Dance at The Depot. Begins at 7 p.m. Admission is $5 per adult. Bring a lawn chair and your dancing shoes.
URL:https://friesva.com/event/old-time-music-and-dance/
LOCATION:The Depot\, 510 Riverview Avenue\, Fries\, Virginia\, 24330
ATTACH;FMTTYPE=image/jpeg:https://friesva.com/wp-content/uploads/2023/01/Whitetop-Mountain-Band.jpeg
END:VEVENT
BEGIN:VEVENT
DTSTART;TZID=America/New_York:20230520T090000
DTEND;TZID=America/New_York:20230520T130000
DTSTAMP:20260423T233538
CREATED:20230113T193725Z
LAST-MODIFIED:20230626T222223Z
UID:10000017-1684573200-1684587600@friesva.com
SUMMARY:Fries Common Market
DESCRIPTION:Fries Common Market will open on May 6th and run through October. Hours are 9 a.m. – 1 p.m.
URL:https://friesva.com/event/fries-common-market/2023-05-20/
LOCATION:The Depot\, 510 Riverview Avenue\, Fries\, Virginia\, 24330
ATTACH;FMTTYPE=image/jpeg:https://friesva.com/wp-content/uploads/2022/07/2022-06-23-Fries-Depot_2726.jpg
END:VEVENT
BEGIN:VEVENT
DTSTART;TZID=America/New_York:20230513T090000
DTEND;TZID=America/New_York:20230513T130000
DTSTAMP:20260423T233538
CREATED:20230113T193725Z
LAST-MODIFIED:20230626T222223Z
UID:10000016-1683968400-1683982800@friesva.com
SUMMARY:Fries Common Market
DESCRIPTION:Fries Common Market will open on May 6th and run through October. Hours are 9 a.m. – 1 p.m.
URL:https://friesva.com/event/fries-common-market/2023-05-13/
LOCATION:The Depot\, 510 Riverview Avenue\, Fries\, Virginia\, 24330
ATTACH;FMTTYPE=image/jpeg:https://friesva.com/wp-content/uploads/2022/07/2022-06-23-Fries-Depot_2726.jpg
END:VEVENT
END:VCALENDAR