BEGIN:VCALENDAR
VERSION:2.0
PRODID:-// - ECPv6.15.20//NONSGML v1.0//EN
CALSCALE:GREGORIAN
METHOD:PUBLISH
X-ORIGINAL-URL:https://friesva.com
X-WR-CALDESC:Events for 
REFRESH-INTERVAL;VALUE=DURATION:PT1H
X-Robots-Tag:noindex
X-PUBLISHED-TTL:PT1H
BEGIN:VTIMEZONE
TZID:America/New_York
BEGIN:DAYLIGHT
TZOFFSETFROM:-0500
TZOFFSETTO:-0400
TZNAME:EDT
DTSTART:20220313T070000
END:DAYLIGHT
BEGIN:STANDARD
TZOFFSETFROM:-0400
TZOFFSETTO:-0500
TZNAME:EST
DTSTART:20221106T060000
END:STANDARD
BEGIN:DAYLIGHT
TZOFFSETFROM:-0500
TZOFFSETTO:-0400
TZNAME:EDT
DTSTART:20230312T070000
END:DAYLIGHT
BEGIN:STANDARD
TZOFFSETFROM:-0400
TZOFFSETTO:-0500
TZNAME:EST
DTSTART:20231105T060000
END:STANDARD
BEGIN:DAYLIGHT
TZOFFSETFROM:-0500
TZOFFSETTO:-0400
TZNAME:EDT
DTSTART:20240310T070000
END:DAYLIGHT
BEGIN:STANDARD
TZOFFSETFROM:-0400
TZOFFSETTO:-0500
TZNAME:EST
DTSTART:20241103T060000
END:STANDARD
END:VTIMEZONE
BEGIN:VEVENT
DTSTART;TZID=America/New_York:20230609T180000
DTEND;TZID=America/New_York:20230609T210000
DTSTAMP:20260424T030800
CREATED:20230603T160453Z
LAST-MODIFIED:20230717T022949Z
UID:10000278-1686333600-1686344400@friesva.com
SUMMARY:Pie Days at The Depot
DESCRIPTION:Music at The Depot \nMore info to come from the organizer. \n  \n.
URL:https://friesva.com/event/pie-days-at-the-depot/2023-06-09/
LOCATION:The Depot\, 510 Riverview Avenue\, Fries\, Virginia\, 24330
END:VEVENT
BEGIN:VEVENT
DTSTART;TZID=America/New_York:20230603T090000
DTEND;TZID=America/New_York:20230603T130000
DTSTAMP:20260424T030800
CREATED:20230113T193725Z
LAST-MODIFIED:20230626T222223Z
UID:10000019-1685782800-1685797200@friesva.com
SUMMARY:Fries Common Market
DESCRIPTION:Fries Common Market will open on May 6th and run through October. Hours are 9 a.m. – 1 p.m.
URL:https://friesva.com/event/fries-common-market/2023-06-03/
LOCATION:The Depot\, 510 Riverview Avenue\, Fries\, Virginia\, 24330
ATTACH;FMTTYPE=image/jpeg:https://friesva.com/wp-content/uploads/2022/07/2022-06-23-Fries-Depot_2726.jpg
END:VEVENT
BEGIN:VEVENT
DTSTART;TZID=America/New_York:20230527T090000
DTEND;TZID=America/New_York:20230527T130000
DTSTAMP:20260424T030800
CREATED:20230113T193725Z
LAST-MODIFIED:20230626T222223Z
UID:10000018-1685178000-1685192400@friesva.com
SUMMARY:Fries Common Market
DESCRIPTION:Fries Common Market will open on May 6th and run through October. Hours are 9 a.m. – 1 p.m.
URL:https://friesva.com/event/fries-common-market/2023-05-27/
LOCATION:The Depot\, 510 Riverview Avenue\, Fries\, Virginia\, 24330
ATTACH;FMTTYPE=image/jpeg:https://friesva.com/wp-content/uploads/2022/07/2022-06-23-Fries-Depot_2726.jpg
END:VEVENT
BEGIN:VEVENT
DTSTART;TZID=America/New_York:20230526T190000
DTEND;TZID=America/New_York:20230526T210000
DTSTAMP:20260424T030800
CREATED:20230113T194551Z
LAST-MODIFIED:20230209T211223Z
UID:10000093-1685127600-1685134800@friesva.com
SUMMARY:Old-time Music and Dance
DESCRIPTION:The Whitetop Mountain Band plays at The Depot on May 26\, 2023. \nOld-time Music and Dance at The Depot. Begins at 7 p.m. Admission is $5 per adult. Bring a lawn chair and your dancing shoes.
URL:https://friesva.com/event/old-time-music-and-dance/
LOCATION:The Depot\, 510 Riverview Avenue\, Fries\, Virginia\, 24330
ATTACH;FMTTYPE=image/jpeg:https://friesva.com/wp-content/uploads/2023/01/Whitetop-Mountain-Band.jpeg
END:VEVENT
BEGIN:VEVENT
DTSTART;TZID=America/New_York:20230520T090000
DTEND;TZID=America/New_York:20230520T130000
DTSTAMP:20260424T030800
CREATED:20230113T193725Z
LAST-MODIFIED:20230626T222223Z
UID:10000017-1684573200-1684587600@friesva.com
SUMMARY:Fries Common Market
DESCRIPTION:Fries Common Market will open on May 6th and run through October. Hours are 9 a.m. – 1 p.m.
URL:https://friesva.com/event/fries-common-market/2023-05-20/
LOCATION:The Depot\, 510 Riverview Avenue\, Fries\, Virginia\, 24330
ATTACH;FMTTYPE=image/jpeg:https://friesva.com/wp-content/uploads/2022/07/2022-06-23-Fries-Depot_2726.jpg
END:VEVENT
BEGIN:VEVENT
DTSTART;TZID=America/New_York:20230513T090000
DTEND;TZID=America/New_York:20230513T130000
DTSTAMP:20260424T030800
CREATED:20230113T193725Z
LAST-MODIFIED:20230626T222223Z
UID:10000016-1683968400-1683982800@friesva.com
SUMMARY:Fries Common Market
DESCRIPTION:Fries Common Market will open on May 6th and run through October. Hours are 9 a.m. – 1 p.m.
URL:https://friesva.com/event/fries-common-market/2023-05-13/
LOCATION:The Depot\, 510 Riverview Avenue\, Fries\, Virginia\, 24330
ATTACH;FMTTYPE=image/jpeg:https://friesva.com/wp-content/uploads/2022/07/2022-06-23-Fries-Depot_2726.jpg
END:VEVENT
BEGIN:VEVENT
DTSTART;TZID=America/New_York:20230506T090000
DTEND;TZID=America/New_York:20230506T130000
DTSTAMP:20260424T030800
CREATED:20230113T193725Z
LAST-MODIFIED:20230626T222223Z
UID:10000015-1683363600-1683378000@friesva.com
SUMMARY:Fries Common Market
DESCRIPTION:Fries Common Market will open on May 6th and run through October. Hours are 9 a.m. – 1 p.m.
URL:https://friesva.com/event/fries-common-market/2023-05-06/
LOCATION:The Depot\, 510 Riverview Avenue\, Fries\, Virginia\, 24330
ATTACH;FMTTYPE=image/jpeg:https://friesva.com/wp-content/uploads/2022/07/2022-06-23-Fries-Depot_2726.jpg
END:VEVENT
END:VCALENDAR