BEGIN:VCALENDAR
VERSION:2.0
PRODID:-// - ECPv6.15.20//NONSGML v1.0//EN
CALSCALE:GREGORIAN
METHOD:PUBLISH
X-ORIGINAL-URL:https://friesva.com
X-WR-CALDESC:Events for 
REFRESH-INTERVAL;VALUE=DURATION:PT1H
X-Robots-Tag:noindex
X-PUBLISHED-TTL:PT1H
BEGIN:VTIMEZONE
TZID:America/New_York
BEGIN:DAYLIGHT
TZOFFSETFROM:-0500
TZOFFSETTO:-0400
TZNAME:EDT
DTSTART:20210314T070000
END:DAYLIGHT
BEGIN:STANDARD
TZOFFSETFROM:-0400
TZOFFSETTO:-0500
TZNAME:EST
DTSTART:20211107T060000
END:STANDARD
BEGIN:DAYLIGHT
TZOFFSETFROM:-0500
TZOFFSETTO:-0400
TZNAME:EDT
DTSTART:20220313T070000
END:DAYLIGHT
BEGIN:STANDARD
TZOFFSETFROM:-0400
TZOFFSETTO:-0500
TZNAME:EST
DTSTART:20221106T060000
END:STANDARD
BEGIN:DAYLIGHT
TZOFFSETFROM:-0500
TZOFFSETTO:-0400
TZNAME:EDT
DTSTART:20230312T070000
END:DAYLIGHT
BEGIN:STANDARD
TZOFFSETFROM:-0400
TZOFFSETTO:-0500
TZNAME:EST
DTSTART:20231105T060000
END:STANDARD
BEGIN:DAYLIGHT
TZOFFSETFROM:-0500
TZOFFSETTO:-0400
TZNAME:EDT
DTSTART:20240310T070000
END:DAYLIGHT
BEGIN:STANDARD
TZOFFSETFROM:-0400
TZOFFSETTO:-0500
TZNAME:EST
DTSTART:20241103T060000
END:STANDARD
END:VTIMEZONE
BEGIN:VEVENT
DTSTART;TZID=America/New_York:20231026T190000
DTEND;TZID=America/New_York:20231026T210000
DTSTAMP:20260424T151751
CREATED:20230804T082855Z
LAST-MODIFIED:20230804T083651Z
UID:10000209-1698346800-1698354000@friesva.com
SUMMARY:Thursday Night Jam Session
DESCRIPTION:Folks from all over the world find their way to the historic Fries Theatre for the weekly Thursday night jams. All visitors are welcome to mingle with the local residents who gather for a relaxing evening of old-time music and fellowship. The Fries jams are an affiliated venue on the famous Crooked Road – Virginia’s Heritage Music Trail. \n  \nBring a banjo\, dulcimer\, guitar\, fiddle\, or bass\, and join in the music circle. And there’s dancing all evening. If you don’t know the traditional two-step waltz\, just ask and someone will help. The jams are for all ages. \n  \nDoors open every Thursday at 6 p.m. and the music runs from 7 – 9 p.m. During a break\, around 8 p.m.\, there’s a real cake walk and the winner in this jolly tradition takes home a cake or other baked treat. \n  \nThe jams are free\, but donations are gratefully accepted. Refreshments are available. \n  \nDuring summer months there are occasional Friday night dances scheduled\, featuring the best local bands. 
URL:https://friesva.com/event/thursday-night-jam-session-2-3/2023-10-26/
LOCATION:The Historic Fries Theatre\, 316 W. Main Street\, Fries\, Virginia\, 24330
ATTACH;FMTTYPE=image/jpeg:https://friesva.com/wp-content/uploads/2022/07/2021-11-18-Fries-Jam_9809.jpg
END:VEVENT
BEGIN:VEVENT
DTSTART;TZID=America/New_York:20231021T190000
DTEND;TZID=America/New_York:20231021T210000
DTSTAMP:20260424T151751
CREATED:20231016T102816Z
LAST-MODIFIED:20231016T102816Z
UID:10000480-1697914800-1697922000@friesva.com
SUMMARY:Movie Night
DESCRIPTION:
URL:https://friesva.com/event/movie-night/
LOCATION:The Historic Fries Theatre\, 316 W. Main Street\, Fries\, Virginia\, 24330
ATTACH;FMTTYPE=image/jpeg:https://friesva.com/wp-content/uploads/2023/10/Movie-night-poster.jpeg
END:VEVENT
BEGIN:VEVENT
DTSTART;TZID=America/New_York:20231019T190000
DTEND;TZID=America/New_York:20231019T210000
DTSTAMP:20260424T151751
CREATED:20230804T082855Z
LAST-MODIFIED:20230804T083651Z
UID:10000208-1697742000-1697749200@friesva.com
SUMMARY:Thursday Night Jam Session
DESCRIPTION:Folks from all over the world find their way to the historic Fries Theatre for the weekly Thursday night jams. All visitors are welcome to mingle with the local residents who gather for a relaxing evening of old-time music and fellowship. The Fries jams are an affiliated venue on the famous Crooked Road – Virginia’s Heritage Music Trail. \n  \nBring a banjo\, dulcimer\, guitar\, fiddle\, or bass\, and join in the music circle. And there’s dancing all evening. If you don’t know the traditional two-step waltz\, just ask and someone will help. The jams are for all ages. \n  \nDoors open every Thursday at 6 p.m. and the music runs from 7 – 9 p.m. During a break\, around 8 p.m.\, there’s a real cake walk and the winner in this jolly tradition takes home a cake or other baked treat. \n  \nThe jams are free\, but donations are gratefully accepted. Refreshments are available. \n  \nDuring summer months there are occasional Friday night dances scheduled\, featuring the best local bands. 
URL:https://friesva.com/event/thursday-night-jam-session-2-3/2023-10-19/
LOCATION:The Historic Fries Theatre\, 316 W. Main Street\, Fries\, Virginia\, 24330
ATTACH;FMTTYPE=image/jpeg:https://friesva.com/wp-content/uploads/2022/07/2021-11-18-Fries-Jam_9809.jpg
END:VEVENT
BEGIN:VEVENT
DTSTART;TZID=America/New_York:20231012T190000
DTEND;TZID=America/New_York:20231012T210000
DTSTAMP:20260424T151751
CREATED:20230804T082855Z
LAST-MODIFIED:20230804T083651Z
UID:10000207-1697137200-1697144400@friesva.com
SUMMARY:Thursday Night Jam Session
DESCRIPTION:Folks from all over the world find their way to the historic Fries Theatre for the weekly Thursday night jams. All visitors are welcome to mingle with the local residents who gather for a relaxing evening of old-time music and fellowship. The Fries jams are an affiliated venue on the famous Crooked Road – Virginia’s Heritage Music Trail. \n  \nBring a banjo\, dulcimer\, guitar\, fiddle\, or bass\, and join in the music circle. And there’s dancing all evening. If you don’t know the traditional two-step waltz\, just ask and someone will help. The jams are for all ages. \n  \nDoors open every Thursday at 6 p.m. and the music runs from 7 – 9 p.m. During a break\, around 8 p.m.\, there’s a real cake walk and the winner in this jolly tradition takes home a cake or other baked treat. \n  \nThe jams are free\, but donations are gratefully accepted. Refreshments are available. \n  \nDuring summer months there are occasional Friday night dances scheduled\, featuring the best local bands. 
URL:https://friesva.com/event/thursday-night-jam-session-2-3/2023-10-12/
LOCATION:The Historic Fries Theatre\, 316 W. Main Street\, Fries\, Virginia\, 24330
ATTACH;FMTTYPE=image/jpeg:https://friesva.com/wp-content/uploads/2022/07/2021-11-18-Fries-Jam_9809.jpg
END:VEVENT
BEGIN:VEVENT
DTSTART;TZID=America/New_York:20231007T120000
DTEND;TZID=America/New_York:20231007T190000
DTSTAMP:20260424T151751
CREATED:20230905T195335Z
LAST-MODIFIED:20231003T142110Z
UID:10000349-1696680000-1696705200@friesva.com
SUMMARY:Fries Fall Festival and Raffle
DESCRIPTION:Fries Fall Festival Schedule of Events
URL:https://friesva.com/event/fries-fall-festival-and-raffle-2/
LOCATION:The Historic Fries Theatre\, 316 W. Main Street\, Fries\, Virginia\, 24330
ATTACH;FMTTYPE=image/jpeg:https://friesva.com/wp-content/uploads/2023/09/Fries-Fall-Festival-Flyer-v6-16-9-scaled.jpg
END:VEVENT
BEGIN:VEVENT
DTSTART;TZID=America/New_York:20231005T190000
DTEND;TZID=America/New_York:20231005T210000
DTSTAMP:20260424T151751
CREATED:20230804T082855Z
LAST-MODIFIED:20230804T083651Z
UID:10000206-1696532400-1696539600@friesva.com
SUMMARY:Thursday Night Jam Session
DESCRIPTION:Folks from all over the world find their way to the historic Fries Theatre for the weekly Thursday night jams. All visitors are welcome to mingle with the local residents who gather for a relaxing evening of old-time music and fellowship. The Fries jams are an affiliated venue on the famous Crooked Road – Virginia’s Heritage Music Trail. \n  \nBring a banjo\, dulcimer\, guitar\, fiddle\, or bass\, and join in the music circle. And there’s dancing all evening. If you don’t know the traditional two-step waltz\, just ask and someone will help. The jams are for all ages. \n  \nDoors open every Thursday at 6 p.m. and the music runs from 7 – 9 p.m. During a break\, around 8 p.m.\, there’s a real cake walk and the winner in this jolly tradition takes home a cake or other baked treat. \n  \nThe jams are free\, but donations are gratefully accepted. Refreshments are available. \n  \nDuring summer months there are occasional Friday night dances scheduled\, featuring the best local bands. 
URL:https://friesva.com/event/thursday-night-jam-session-2-3/2023-10-05/
LOCATION:The Historic Fries Theatre\, 316 W. Main Street\, Fries\, Virginia\, 24330
ATTACH;FMTTYPE=image/jpeg:https://friesva.com/wp-content/uploads/2022/07/2021-11-18-Fries-Jam_9809.jpg
END:VEVENT
BEGIN:VEVENT
DTSTART;TZID=America/New_York:20230928T190000
DTEND;TZID=America/New_York:20230928T210000
DTSTAMP:20260424T151751
CREATED:20230804T082855Z
LAST-MODIFIED:20230804T083651Z
UID:10000205-1695927600-1695934800@friesva.com
SUMMARY:Thursday Night Jam Session
DESCRIPTION:Folks from all over the world find their way to the historic Fries Theatre for the weekly Thursday night jams. All visitors are welcome to mingle with the local residents who gather for a relaxing evening of old-time music and fellowship. The Fries jams are an affiliated venue on the famous Crooked Road – Virginia’s Heritage Music Trail. \n  \nBring a banjo\, dulcimer\, guitar\, fiddle\, or bass\, and join in the music circle. And there’s dancing all evening. If you don’t know the traditional two-step waltz\, just ask and someone will help. The jams are for all ages. \n  \nDoors open every Thursday at 6 p.m. and the music runs from 7 – 9 p.m. During a break\, around 8 p.m.\, there’s a real cake walk and the winner in this jolly tradition takes home a cake or other baked treat. \n  \nThe jams are free\, but donations are gratefully accepted. Refreshments are available. \n  \nDuring summer months there are occasional Friday night dances scheduled\, featuring the best local bands. 
URL:https://friesva.com/event/thursday-night-jam-session-2-3/2023-09-28/
LOCATION:The Historic Fries Theatre\, 316 W. Main Street\, Fries\, Virginia\, 24330
ATTACH;FMTTYPE=image/jpeg:https://friesva.com/wp-content/uploads/2022/07/2021-11-18-Fries-Jam_9809.jpg
END:VEVENT
BEGIN:VEVENT
DTSTART;TZID=America/New_York:20230921T190000
DTEND;TZID=America/New_York:20230921T210000
DTSTAMP:20260424T151751
CREATED:20230804T082855Z
LAST-MODIFIED:20230804T083651Z
UID:10000204-1695322800-1695330000@friesva.com
SUMMARY:Thursday Night Jam Session
DESCRIPTION:Folks from all over the world find their way to the historic Fries Theatre for the weekly Thursday night jams. All visitors are welcome to mingle with the local residents who gather for a relaxing evening of old-time music and fellowship. The Fries jams are an affiliated venue on the famous Crooked Road – Virginia’s Heritage Music Trail. \n  \nBring a banjo\, dulcimer\, guitar\, fiddle\, or bass\, and join in the music circle. And there’s dancing all evening. If you don’t know the traditional two-step waltz\, just ask and someone will help. The jams are for all ages. \n  \nDoors open every Thursday at 6 p.m. and the music runs from 7 – 9 p.m. During a break\, around 8 p.m.\, there’s a real cake walk and the winner in this jolly tradition takes home a cake or other baked treat. \n  \nThe jams are free\, but donations are gratefully accepted. Refreshments are available. \n  \nDuring summer months there are occasional Friday night dances scheduled\, featuring the best local bands. 
URL:https://friesva.com/event/thursday-night-jam-session-2-3/2023-09-21/
LOCATION:The Historic Fries Theatre\, 316 W. Main Street\, Fries\, Virginia\, 24330
ATTACH;FMTTYPE=image/jpeg:https://friesva.com/wp-content/uploads/2022/07/2021-11-18-Fries-Jam_9809.jpg
END:VEVENT
BEGIN:VEVENT
DTSTART;TZID=America/New_York:20230914T190000
DTEND;TZID=America/New_York:20230914T210000
DTSTAMP:20260424T151751
CREATED:20230804T082855Z
LAST-MODIFIED:20230804T083651Z
UID:10000203-1694718000-1694725200@friesva.com
SUMMARY:Thursday Night Jam Session
DESCRIPTION:Folks from all over the world find their way to the historic Fries Theatre for the weekly Thursday night jams. All visitors are welcome to mingle with the local residents who gather for a relaxing evening of old-time music and fellowship. The Fries jams are an affiliated venue on the famous Crooked Road – Virginia’s Heritage Music Trail. \n  \nBring a banjo\, dulcimer\, guitar\, fiddle\, or bass\, and join in the music circle. And there’s dancing all evening. If you don’t know the traditional two-step waltz\, just ask and someone will help. The jams are for all ages. \n  \nDoors open every Thursday at 6 p.m. and the music runs from 7 – 9 p.m. During a break\, around 8 p.m.\, there’s a real cake walk and the winner in this jolly tradition takes home a cake or other baked treat. \n  \nThe jams are free\, but donations are gratefully accepted. Refreshments are available. \n  \nDuring summer months there are occasional Friday night dances scheduled\, featuring the best local bands. 
URL:https://friesva.com/event/thursday-night-jam-session-2-3/2023-09-14/
LOCATION:The Historic Fries Theatre\, 316 W. Main Street\, Fries\, Virginia\, 24330
ATTACH;FMTTYPE=image/jpeg:https://friesva.com/wp-content/uploads/2022/07/2021-11-18-Fries-Jam_9809.jpg
END:VEVENT
BEGIN:VEVENT
DTSTART;TZID=America/New_York:20230907T190000
DTEND;TZID=America/New_York:20230907T210000
DTSTAMP:20260424T151751
CREATED:20230804T082855Z
LAST-MODIFIED:20230804T083651Z
UID:10000202-1694113200-1694120400@friesva.com
SUMMARY:Thursday Night Jam Session
DESCRIPTION:Folks from all over the world find their way to the historic Fries Theatre for the weekly Thursday night jams. All visitors are welcome to mingle with the local residents who gather for a relaxing evening of old-time music and fellowship. The Fries jams are an affiliated venue on the famous Crooked Road – Virginia’s Heritage Music Trail. \n  \nBring a banjo\, dulcimer\, guitar\, fiddle\, or bass\, and join in the music circle. And there’s dancing all evening. If you don’t know the traditional two-step waltz\, just ask and someone will help. The jams are for all ages. \n  \nDoors open every Thursday at 6 p.m. and the music runs from 7 – 9 p.m. During a break\, around 8 p.m.\, there’s a real cake walk and the winner in this jolly tradition takes home a cake or other baked treat. \n  \nThe jams are free\, but donations are gratefully accepted. Refreshments are available. \n  \nDuring summer months there are occasional Friday night dances scheduled\, featuring the best local bands. 
URL:https://friesva.com/event/thursday-night-jam-session-2-3/2023-09-07/
LOCATION:The Historic Fries Theatre\, 316 W. Main Street\, Fries\, Virginia\, 24330
ATTACH;FMTTYPE=image/jpeg:https://friesva.com/wp-content/uploads/2022/07/2021-11-18-Fries-Jam_9809.jpg
END:VEVENT
BEGIN:VEVENT
DTSTART;TZID=America/New_York:20230831T190000
DTEND;TZID=America/New_York:20230831T210000
DTSTAMP:20260424T151751
CREATED:20230804T082855Z
LAST-MODIFIED:20230804T083651Z
UID:10000201-1693508400-1693515600@friesva.com
SUMMARY:Thursday Night Jam Session
DESCRIPTION:Folks from all over the world find their way to the historic Fries Theatre for the weekly Thursday night jams. All visitors are welcome to mingle with the local residents who gather for a relaxing evening of old-time music and fellowship. The Fries jams are an affiliated venue on the famous Crooked Road – Virginia’s Heritage Music Trail. \n  \nBring a banjo\, dulcimer\, guitar\, fiddle\, or bass\, and join in the music circle. And there’s dancing all evening. If you don’t know the traditional two-step waltz\, just ask and someone will help. The jams are for all ages. \n  \nDoors open every Thursday at 6 p.m. and the music runs from 7 – 9 p.m. During a break\, around 8 p.m.\, there’s a real cake walk and the winner in this jolly tradition takes home a cake or other baked treat. \n  \nThe jams are free\, but donations are gratefully accepted. Refreshments are available. \n  \nDuring summer months there are occasional Friday night dances scheduled\, featuring the best local bands. 
URL:https://friesva.com/event/thursday-night-jam-session-2-3/2023-08-31/
LOCATION:The Historic Fries Theatre\, 316 W. Main Street\, Fries\, Virginia\, 24330
ATTACH;FMTTYPE=image/jpeg:https://friesva.com/wp-content/uploads/2022/07/2021-11-18-Fries-Jam_9809.jpg
END:VEVENT
BEGIN:VEVENT
DTSTART;TZID=America/New_York:20230824T190000
DTEND;TZID=America/New_York:20230824T210000
DTSTAMP:20260424T151751
CREATED:20230804T082855Z
LAST-MODIFIED:20230804T083651Z
UID:10000200-1692903600-1692910800@friesva.com
SUMMARY:Thursday Night Jam Session
DESCRIPTION:Folks from all over the world find their way to the historic Fries Theatre for the weekly Thursday night jams. All visitors are welcome to mingle with the local residents who gather for a relaxing evening of old-time music and fellowship. The Fries jams are an affiliated venue on the famous Crooked Road – Virginia’s Heritage Music Trail. \n  \nBring a banjo\, dulcimer\, guitar\, fiddle\, or bass\, and join in the music circle. And there’s dancing all evening. If you don’t know the traditional two-step waltz\, just ask and someone will help. The jams are for all ages. \n  \nDoors open every Thursday at 6 p.m. and the music runs from 7 – 9 p.m. During a break\, around 8 p.m.\, there’s a real cake walk and the winner in this jolly tradition takes home a cake or other baked treat. \n  \nThe jams are free\, but donations are gratefully accepted. Refreshments are available. \n  \nDuring summer months there are occasional Friday night dances scheduled\, featuring the best local bands. 
URL:https://friesva.com/event/thursday-night-jam-session-2-3/2023-08-24/
LOCATION:The Historic Fries Theatre\, 316 W. Main Street\, Fries\, Virginia\, 24330
ATTACH;FMTTYPE=image/jpeg:https://friesva.com/wp-content/uploads/2022/07/2021-11-18-Fries-Jam_9809.jpg
END:VEVENT
BEGIN:VEVENT
DTSTART;TZID=America/New_York:20230817T190000
DTEND;TZID=America/New_York:20230817T210000
DTSTAMP:20260424T151751
CREATED:20230804T082855Z
LAST-MODIFIED:20230804T083651Z
UID:10000199-1692298800-1692306000@friesva.com
SUMMARY:Thursday Night Jam Session
DESCRIPTION:Folks from all over the world find their way to the historic Fries Theatre for the weekly Thursday night jams. All visitors are welcome to mingle with the local residents who gather for a relaxing evening of old-time music and fellowship. The Fries jams are an affiliated venue on the famous Crooked Road – Virginia’s Heritage Music Trail. \n  \nBring a banjo\, dulcimer\, guitar\, fiddle\, or bass\, and join in the music circle. And there’s dancing all evening. If you don’t know the traditional two-step waltz\, just ask and someone will help. The jams are for all ages. \n  \nDoors open every Thursday at 6 p.m. and the music runs from 7 – 9 p.m. During a break\, around 8 p.m.\, there’s a real cake walk and the winner in this jolly tradition takes home a cake or other baked treat. \n  \nThe jams are free\, but donations are gratefully accepted. Refreshments are available. \n  \nDuring summer months there are occasional Friday night dances scheduled\, featuring the best local bands. 
URL:https://friesva.com/event/thursday-night-jam-session-2-3/2023-08-17/
LOCATION:The Historic Fries Theatre\, 316 W. Main Street\, Fries\, Virginia\, 24330
ATTACH;FMTTYPE=image/jpeg:https://friesva.com/wp-content/uploads/2022/07/2021-11-18-Fries-Jam_9809.jpg
END:VEVENT
BEGIN:VEVENT
DTSTART;TZID=America/New_York:20230803T190000
DTEND;TZID=America/New_York:20230803T210000
DTSTAMP:20260424T151751
CREATED:20230630T152058Z
LAST-MODIFIED:20230630T152120Z
UID:10000197-1691089200-1691096400@friesva.com
SUMMARY:Thursday Night Jam Session
DESCRIPTION:Folks from all over the world find their way to the historic Fries Theatre for the weekly Thursday night jams. All visitors are welcome to mingle with the local residents who gather for a relaxing evening of old-time music and fellowship. The Fries jams are an affiliated venue on the famous Crooked Road – Virginia’s Heritage Music Trail. \n  \nBring a banjo\, dulcimer\, guitar\, fiddle\, or bass\, and join in the music circle. And there’s dancing all evening. If you don’t know the traditional two-step waltz\, just ask and someone will help. The jams are for all ages. \n  \nDoors open every Thursday at 6 p.m. and the music runs from 7 – 9 p.m. During a break\, around 8 p.m.\, there’s a real cake walk and the winner in this jolly tradition takes home a cake or other baked treat. \n  \nThe jams are free\, but donations are gratefully accepted. Refreshments are available. \n  \nDuring summer months there are occasional Friday night dances scheduled\, featuring the best local bands. 
URL:https://friesva.com/event/thursday-night-jam-session-2/2023-08-03/
LOCATION:The Historic Fries Theatre\, 316 W. Main Street\, Fries\, Virginia\, 24330
ATTACH;FMTTYPE=image/jpeg:https://friesva.com/wp-content/uploads/2022/07/2021-11-18-Fries-Jam_9809.jpg
END:VEVENT
BEGIN:VEVENT
DTSTART;TZID=America/New_York:20230727T190000
DTEND;TZID=America/New_York:20230727T210000
DTSTAMP:20260424T151751
CREATED:20230723T135939Z
LAST-MODIFIED:20230723T135942Z
UID:10000196-1690484400-1690491600@friesva.com
SUMMARY:Thursday Night Jam Session
DESCRIPTION:  \nThe theatre floor had to be replaced due to water damage. The jam is now back in the theatre and is having its grand re-opening Thursday\, July 27. We’re celebrating with a covered dish supper (bring your favorite dish). Doors open at 5:30 p.m. Covered dish supper is at 6. The jam starts at 7. The traditional cakewalk is at 8 – as it is every week. \n  \nCome join the fun – whether you play an instrument\, dance\, or just want to enjoy the show and meet new friends. The jam is open to everyone. Free admission. \n  \nFolks from all over the world find their way to the historic Fries Theatre for the weekly Thursday night jams. All visitors are welcome to mingle with the local residents who gather for a relaxing evening of old-time music and fellowship. The Fries jams are an affiliated venue on the famous Crooked Road – Virginia’s Heritage Music Trail. \n  \nBring a banjo\, dulcimer\, guitar\, fiddle\, or bass\, and join in the music circle. And there’s dancing all evening. If you don’t know the traditional two-step waltz\, just ask and someone will help. The jams are for all ages. \n  \nDoors open every Thursday at 6 p.m. and the music runs from 7 – 9 p.m. During a break\, around 8 p.m.\, there’s a real cake walk and the winner in this jolly tradition takes home a cake or other baked treat. \n  \nThe jams are free\, but donations are gratefully accepted. Refreshments are available. \n  \nDuring summer months there are occasional Friday night dances scheduled\, featuring the best local bands. 
URL:https://friesva.com/event/thursday-night-jam-session-2-2/
LOCATION:The Historic Fries Theatre\, 316 W. Main Street\, Fries\, Virginia\, 24330
ATTACH;FMTTYPE=image/jpeg:https://friesva.com/wp-content/uploads/2022/07/2021-11-18-Fries-Jam_9809.jpg
END:VEVENT
BEGIN:VEVENT
DTSTART;TZID=America/New_York:20230720T190000
DTEND;TZID=America/New_York:20230720T210000
DTSTAMP:20260424T151751
CREATED:20230630T152058Z
LAST-MODIFIED:20230630T152120Z
UID:10000195-1689879600-1689886800@friesva.com
SUMMARY:Thursday Night Jam Session
DESCRIPTION:Folks from all over the world find their way to the historic Fries Theatre for the weekly Thursday night jams. All visitors are welcome to mingle with the local residents who gather for a relaxing evening of old-time music and fellowship. The Fries jams are an affiliated venue on the famous Crooked Road – Virginia’s Heritage Music Trail. \n  \nBring a banjo\, dulcimer\, guitar\, fiddle\, or bass\, and join in the music circle. And there’s dancing all evening. If you don’t know the traditional two-step waltz\, just ask and someone will help. The jams are for all ages. \n  \nDoors open every Thursday at 6 p.m. and the music runs from 7 – 9 p.m. During a break\, around 8 p.m.\, there’s a real cake walk and the winner in this jolly tradition takes home a cake or other baked treat. \n  \nThe jams are free\, but donations are gratefully accepted. Refreshments are available. \n  \nDuring summer months there are occasional Friday night dances scheduled\, featuring the best local bands. 
URL:https://friesva.com/event/thursday-night-jam-session-2/2023-07-20/
LOCATION:The Historic Fries Theatre\, 316 W. Main Street\, Fries\, Virginia\, 24330
ATTACH;FMTTYPE=image/jpeg:https://friesva.com/wp-content/uploads/2022/07/2021-11-18-Fries-Jam_9809.jpg
END:VEVENT
BEGIN:VEVENT
DTSTART;TZID=America/New_York:20230713T190000
DTEND;TZID=America/New_York:20230713T210000
DTSTAMP:20260424T151751
CREATED:20230630T152058Z
LAST-MODIFIED:20230630T152120Z
UID:10000194-1689274800-1689282000@friesva.com
SUMMARY:Thursday Night Jam Session
DESCRIPTION:Folks from all over the world find their way to the historic Fries Theatre for the weekly Thursday night jams. All visitors are welcome to mingle with the local residents who gather for a relaxing evening of old-time music and fellowship. The Fries jams are an affiliated venue on the famous Crooked Road – Virginia’s Heritage Music Trail. \n  \nBring a banjo\, dulcimer\, guitar\, fiddle\, or bass\, and join in the music circle. And there’s dancing all evening. If you don’t know the traditional two-step waltz\, just ask and someone will help. The jams are for all ages. \n  \nDoors open every Thursday at 6 p.m. and the music runs from 7 – 9 p.m. During a break\, around 8 p.m.\, there’s a real cake walk and the winner in this jolly tradition takes home a cake or other baked treat. \n  \nThe jams are free\, but donations are gratefully accepted. Refreshments are available. \n  \nDuring summer months there are occasional Friday night dances scheduled\, featuring the best local bands. 
URL:https://friesva.com/event/thursday-night-jam-session-2/2023-07-13/
LOCATION:The Historic Fries Theatre\, 316 W. Main Street\, Fries\, Virginia\, 24330
ATTACH;FMTTYPE=image/jpeg:https://friesva.com/wp-content/uploads/2022/07/2021-11-18-Fries-Jam_9809.jpg
END:VEVENT
BEGIN:VEVENT
DTSTART;TZID=America/New_York:20230706T190000
DTEND;TZID=America/New_York:20230706T210000
DTSTAMP:20260424T151751
CREATED:20230630T152058Z
LAST-MODIFIED:20230630T152120Z
UID:10000193-1688670000-1688677200@friesva.com
SUMMARY:Thursday Night Jam Session
DESCRIPTION:Folks from all over the world find their way to the historic Fries Theatre for the weekly Thursday night jams. All visitors are welcome to mingle with the local residents who gather for a relaxing evening of old-time music and fellowship. The Fries jams are an affiliated venue on the famous Crooked Road – Virginia’s Heritage Music Trail. \n  \nBring a banjo\, dulcimer\, guitar\, fiddle\, or bass\, and join in the music circle. And there’s dancing all evening. If you don’t know the traditional two-step waltz\, just ask and someone will help. The jams are for all ages. \n  \nDoors open every Thursday at 6 p.m. and the music runs from 7 – 9 p.m. During a break\, around 8 p.m.\, there’s a real cake walk and the winner in this jolly tradition takes home a cake or other baked treat. \n  \nThe jams are free\, but donations are gratefully accepted. Refreshments are available. \n  \nDuring summer months there are occasional Friday night dances scheduled\, featuring the best local bands. 
URL:https://friesva.com/event/thursday-night-jam-session-2/2023-07-06/
LOCATION:The Historic Fries Theatre\, 316 W. Main Street\, Fries\, Virginia\, 24330
ATTACH;FMTTYPE=image/jpeg:https://friesva.com/wp-content/uploads/2022/07/2021-11-18-Fries-Jam_9809.jpg
END:VEVENT
BEGIN:VEVENT
DTSTART;TZID=America/New_York:20230520T110000
DTEND;TZID=America/New_York:20230520T160000
DTSTAMP:20260424T151751
CREATED:20230221T031157Z
LAST-MODIFIED:20230502T025610Z
UID:10000269-1684580400-1684598400@friesva.com
SUMMARY:Fries Musical Heritage Festival
DESCRIPTION:The 2023 event has been cancelled. The Fries Musical Heritage Festival celebrates noteworthy musicians from the Fries area such as Henry Whitter\, Glen Neaves\, Jessie Lovell and many others. Music starts at 11 a.m. and goes until 4 p.m.
URL:https://friesva.com/event/fries-musical-heritage-festival/
LOCATION:The Historic Fries Theatre\, 316 W. Main Street\, Fries\, Virginia\, 24330
ATTACH;FMTTYPE=image/jpeg:https://friesva.com/wp-content/uploads/2023/01/2022-08-06-Fries-Fiddlers_5630-a-studio-scaled.jpg
END:VEVENT
BEGIN:VEVENT
DTSTART;TZID=America/New_York:20220722T190000
DTEND;TZID=America/New_York:20220722T210000
DTSTAMP:20260424T151751
CREATED:20220718T210112Z
LAST-MODIFIED:20220718T210112Z
UID:10000008-1658516400-1658523600@friesva.com
SUMMARY:Cabin Creek Boys at the Historic Fries Theatre
DESCRIPTION:The Cabin Creek Boys bring the heat to the Historic Fries Theatre with their brand of old-time music on this special July evening. \nFriday\, July 22\, 2022\n7:00 pm\nAdmission $8.00 per person\nRefreshments available\nFor more information call Gene Adkins (276) 340 3448
URL:https://friesva.com/event/cabin-creek-boys-at-the-historic-fries-theatre/
LOCATION:The Historic Fries Theatre\, 316 W. Main Street\, Fries\, Virginia\, 24330
ATTACH;FMTTYPE=image/jpeg:https://friesva.com/wp-content/uploads/2022/07/Cabin-Creek-Boys.jpg
END:VEVENT
END:VCALENDAR